BEGIN:VCALENDAR
VERSION:2.0
PRODID:-//Richmond First United Methodist Church - ECPv6.15.13.1//NONSGML v1.0//EN
CALSCALE:GREGORIAN
METHOD:PUBLISH
X-WR-CALNAME:Richmond First United Methodist Church
X-ORIGINAL-URL:https://www.pointrichmondmethodist.org
X-WR-CALDESC:Events for Richmond First United Methodist Church
REFRESH-INTERVAL;VALUE=DURATION:PT1H
X-Robots-Tag:noindex
X-PUBLISHED-TTL:PT1H
BEGIN:VTIMEZONE
TZID:America/Los_Angeles
BEGIN:DAYLIGHT
TZOFFSETFROM:-0800
TZOFFSETTO:-0700
TZNAME:PDT
DTSTART:20250309T100000
END:DAYLIGHT
BEGIN:STANDARD
TZOFFSETFROM:-0700
TZOFFSETTO:-0800
TZNAME:PST
DTSTART:20251102T090000
END:STANDARD
BEGIN:DAYLIGHT
TZOFFSETFROM:-0800
TZOFFSETTO:-0700
TZNAME:PDT
DTSTART:20260308T100000
END:DAYLIGHT
BEGIN:STANDARD
TZOFFSETFROM:-0700
TZOFFSETTO:-0800
TZNAME:PST
DTSTART:20261101T090000
END:STANDARD
BEGIN:DAYLIGHT
TZOFFSETFROM:-0800
TZOFFSETTO:-0700
TZNAME:PDT
DTSTART:20270314T100000
END:DAYLIGHT
BEGIN:STANDARD
TZOFFSETFROM:-0700
TZOFFSETTO:-0800
TZNAME:PST
DTSTART:20271107T090000
END:STANDARD
END:VTIMEZONE
BEGIN:VEVENT
DTSTART;TZID=America/Los_Angeles:20260416T170000
DTEND;TZID=America/Los_Angeles:20260416T180000
DTSTAMP:20260423T164239
CREATED:20260224T211716Z
LAST-MODIFIED:20260224T211716Z
UID:10000186-1776358800-1776362400@www.pointrichmondmethodist.org
SUMMARY:Greater Richmond Interfaith Program (GRIP) Dinner 
DESCRIPTION:Thurs. April 16\, 5pm – Greater Richmond Interfaith Program (GRIP) Dinner for residents at the GRIP Family Shelter\, 165-22nd St.\, Richmond. We provide the food & the GRIP kitchen prepares & serves it. If you would like to donate\, please note “GRIP Dinner” on the memo line of your check. For more info\, contact Linda at lindaam@gmail.com.
URL:https://www.pointrichmondmethodist.org/event/greater-richmond-interfaith-program-grip-dinner-3/
LOCATION:The Souper Center\, 165 S 22nd Street\, Richmond\, CA\, 94804\, United States
END:VEVENT
BEGIN:VEVENT
DTSTART;TZID=America/Los_Angeles:20260319T170000
DTEND;TZID=America/Los_Angeles:20260319T180000
DTSTAMP:20260423T164239
CREATED:20260224T210005Z
LAST-MODIFIED:20260224T210005Z
UID:10000126-1773939600-1773943200@www.pointrichmondmethodist.org
SUMMARY:Greater Richmond Interfaith Program (GRIP) Dinner
DESCRIPTION:Thurs. Mar. 19\, 5pm – Greater Richmond Interfaith Program (GRIP) Dinner for residents at the GRIP Family Shelter\, 165-22nd St.\, Richmond. We provide the food & the GRIP kitchen prepares & serves it. If you would like to donate\, please note “GRIP Dinner” on the memo line of your check. For more info\, contact Linda at lindaam@gmail.com.
URL:https://www.pointrichmondmethodist.org/event/greater-richmond-interfaith-program-grip-dinner-2/
LOCATION:The Souper Center\, 165 S 22nd Street\, Richmond\, CA\, 94804\, United States
END:VEVENT
BEGIN:VEVENT
DTSTART;TZID=America/Los_Angeles:20260219T170000
DTEND;TZID=America/Los_Angeles:20260219T180000
DTSTAMP:20260423T164239
CREATED:20260217T205509Z
LAST-MODIFIED:20260217T205509Z
UID:10000121-1771520400-1771524000@www.pointrichmondmethodist.org
SUMMARY:Greater Richmond Interfaith Program (GRIP) Dinner
DESCRIPTION:Thurs. Feb. 19\, 5pm – Greater Richmond Interfaith Program (GRIP) Dinner for residents at the GRIP Family Shelter\, 165-22nd St.\, Richmond. We provide the food & the GRIP kitchen prepares & serves it. If you would like to donate\, please note “GRIP Dinner” on the memo line of your check. For more info\, contact Linda at lindaam@gmail.com.
URL:https://www.pointrichmondmethodist.org/event/greater-richmond-interfaith-program-grip-dinner/
LOCATION:The Souper Center\, 165 S 22nd Street\, Richmond\, CA\, 94804\, United States
END:VEVENT
END:VCALENDAR