BEGIN:VCALENDAR
VERSION:2.0
PRODID:-//Richmond First United Methodist Church - ECPv6.15.13.1//NONSGML v1.0//EN
CALSCALE:GREGORIAN
METHOD:PUBLISH
X-WR-CALNAME:Richmond First United Methodist Church
X-ORIGINAL-URL:https://www.pointrichmondmethodist.org
X-WR-CALDESC:Events for Richmond First United Methodist Church
REFRESH-INTERVAL;VALUE=DURATION:PT1H
X-Robots-Tag:noindex
X-PUBLISHED-TTL:PT1H
BEGIN:VTIMEZONE
TZID:America/Los_Angeles
BEGIN:DAYLIGHT
TZOFFSETFROM:-0800
TZOFFSETTO:-0700
TZNAME:PDT
DTSTART:20250309T100000
END:DAYLIGHT
BEGIN:STANDARD
TZOFFSETFROM:-0700
TZOFFSETTO:-0800
TZNAME:PST
DTSTART:20251102T090000
END:STANDARD
BEGIN:DAYLIGHT
TZOFFSETFROM:-0800
TZOFFSETTO:-0700
TZNAME:PDT
DTSTART:20260308T100000
END:DAYLIGHT
BEGIN:STANDARD
TZOFFSETFROM:-0700
TZOFFSETTO:-0800
TZNAME:PST
DTSTART:20261101T090000
END:STANDARD
BEGIN:DAYLIGHT
TZOFFSETFROM:-0800
TZOFFSETTO:-0700
TZNAME:PDT
DTSTART:20270314T100000
END:DAYLIGHT
BEGIN:STANDARD
TZOFFSETFROM:-0700
TZOFFSETTO:-0800
TZNAME:PST
DTSTART:20271107T090000
END:STANDARD
END:VTIMEZONE
BEGIN:VEVENT
DTSTART;TZID=America/Los_Angeles:20260426T110000
DTEND;TZID=America/Los_Angeles:20260426T120000
DTSTAMP:20260423T100941
CREATED:20260102T212816Z
LAST-MODIFIED:20260102T212816Z
UID:10000083-1777201200-1777204800@www.pointrichmondmethodist.org
SUMMARY:Sunday Worship Service
DESCRIPTION:11am Register in Advance for the Link to Zoom the Sunday Worship Service – Register here:\nhttps://us02web.zoom.us/meeting/register/WKD7wPnPSNm6q5wVxFTawQ \nYou will be asked for your name and email address. After registering\, you will receive a confirmation email with the link to join the meeting.
URL:https://www.pointrichmondmethodist.org/event/sunday-worship-service/2026-04-26/
LOCATION:Richmond First United Methodist Church\, 201 Martina Street\, Richmond\, California\, 94801
END:VEVENT
BEGIN:VEVENT
DTSTART;TZID=America/Los_Angeles:20260503T110000
DTEND;TZID=America/Los_Angeles:20260503T120000
DTSTAMP:20260423T100941
CREATED:20260102T212816Z
LAST-MODIFIED:20260102T212816Z
UID:10000084-1777806000-1777809600@www.pointrichmondmethodist.org
SUMMARY:Sunday Worship Service
DESCRIPTION:11am Register in Advance for the Link to Zoom the Sunday Worship Service – Register here:\nhttps://us02web.zoom.us/meeting/register/WKD7wPnPSNm6q5wVxFTawQ \nYou will be asked for your name and email address. After registering\, you will receive a confirmation email with the link to join the meeting.
URL:https://www.pointrichmondmethodist.org/event/sunday-worship-service/2026-05-03/
LOCATION:Richmond First United Methodist Church\, 201 Martina Street\, Richmond\, California\, 94801
END:VEVENT
BEGIN:VEVENT
DTSTART;TZID=America/Los_Angeles:20260510T110000
DTEND;TZID=America/Los_Angeles:20260510T120000
DTSTAMP:20260423T100941
CREATED:20260102T212816Z
LAST-MODIFIED:20260102T212816Z
UID:10000085-1778410800-1778414400@www.pointrichmondmethodist.org
SUMMARY:Sunday Worship Service
DESCRIPTION:11am Register in Advance for the Link to Zoom the Sunday Worship Service – Register here:\nhttps://us02web.zoom.us/meeting/register/WKD7wPnPSNm6q5wVxFTawQ \nYou will be asked for your name and email address. After registering\, you will receive a confirmation email with the link to join the meeting.
URL:https://www.pointrichmondmethodist.org/event/sunday-worship-service/2026-05-10/
LOCATION:Richmond First United Methodist Church\, 201 Martina Street\, Richmond\, California\, 94801
END:VEVENT
BEGIN:VEVENT
DTSTART;TZID=America/Los_Angeles:20260517T110000
DTEND;TZID=America/Los_Angeles:20260517T120000
DTSTAMP:20260423T100941
CREATED:20260102T212816Z
LAST-MODIFIED:20260102T212816Z
UID:10000086-1779015600-1779019200@www.pointrichmondmethodist.org
SUMMARY:Sunday Worship Service
DESCRIPTION:11am Register in Advance for the Link to Zoom the Sunday Worship Service – Register here:\nhttps://us02web.zoom.us/meeting/register/WKD7wPnPSNm6q5wVxFTawQ \nYou will be asked for your name and email address. After registering\, you will receive a confirmation email with the link to join the meeting.
URL:https://www.pointrichmondmethodist.org/event/sunday-worship-service/2026-05-17/
LOCATION:Richmond First United Methodist Church\, 201 Martina Street\, Richmond\, California\, 94801
END:VEVENT
BEGIN:VEVENT
DTSTART;TZID=America/Los_Angeles:20260524T110000
DTEND;TZID=America/Los_Angeles:20260524T120000
DTSTAMP:20260423T100941
CREATED:20260102T212816Z
LAST-MODIFIED:20260102T212816Z
UID:10000087-1779620400-1779624000@www.pointrichmondmethodist.org
SUMMARY:Sunday Worship Service
DESCRIPTION:11am Register in Advance for the Link to Zoom the Sunday Worship Service – Register here:\nhttps://us02web.zoom.us/meeting/register/WKD7wPnPSNm6q5wVxFTawQ \nYou will be asked for your name and email address. After registering\, you will receive a confirmation email with the link to join the meeting.
URL:https://www.pointrichmondmethodist.org/event/sunday-worship-service/2026-05-24/
LOCATION:Richmond First United Methodist Church\, 201 Martina Street\, Richmond\, California\, 94801
END:VEVENT
BEGIN:VEVENT
DTSTART;TZID=America/Los_Angeles:20260531T110000
DTEND;TZID=America/Los_Angeles:20260531T120000
DTSTAMP:20260423T100941
CREATED:20260102T212816Z
LAST-MODIFIED:20260102T212816Z
UID:10000088-1780225200-1780228800@www.pointrichmondmethodist.org
SUMMARY:Sunday Worship Service
DESCRIPTION:11am Register in Advance for the Link to Zoom the Sunday Worship Service – Register here:\nhttps://us02web.zoom.us/meeting/register/WKD7wPnPSNm6q5wVxFTawQ \nYou will be asked for your name and email address. After registering\, you will receive a confirmation email with the link to join the meeting.
URL:https://www.pointrichmondmethodist.org/event/sunday-worship-service/2026-05-31/
LOCATION:Richmond First United Methodist Church\, 201 Martina Street\, Richmond\, California\, 94801
END:VEVENT
BEGIN:VEVENT
DTSTART;TZID=America/Los_Angeles:20260607T110000
DTEND;TZID=America/Los_Angeles:20260607T120000
DTSTAMP:20260423T100941
CREATED:20260102T212816Z
LAST-MODIFIED:20260102T212816Z
UID:10000089-1780830000-1780833600@www.pointrichmondmethodist.org
SUMMARY:Sunday Worship Service
DESCRIPTION:11am Register in Advance for the Link to Zoom the Sunday Worship Service – Register here:\nhttps://us02web.zoom.us/meeting/register/WKD7wPnPSNm6q5wVxFTawQ \nYou will be asked for your name and email address. After registering\, you will receive a confirmation email with the link to join the meeting.
URL:https://www.pointrichmondmethodist.org/event/sunday-worship-service/2026-06-07/
LOCATION:Richmond First United Methodist Church\, 201 Martina Street\, Richmond\, California\, 94801
END:VEVENT
BEGIN:VEVENT
DTSTART;TZID=America/Los_Angeles:20260614T110000
DTEND;TZID=America/Los_Angeles:20260614T120000
DTSTAMP:20260423T100941
CREATED:20260102T212816Z
LAST-MODIFIED:20260102T212816Z
UID:10000090-1781434800-1781438400@www.pointrichmondmethodist.org
SUMMARY:Sunday Worship Service
DESCRIPTION:11am Register in Advance for the Link to Zoom the Sunday Worship Service – Register here:\nhttps://us02web.zoom.us/meeting/register/WKD7wPnPSNm6q5wVxFTawQ \nYou will be asked for your name and email address. After registering\, you will receive a confirmation email with the link to join the meeting.
URL:https://www.pointrichmondmethodist.org/event/sunday-worship-service/2026-06-14/
LOCATION:Richmond First United Methodist Church\, 201 Martina Street\, Richmond\, California\, 94801
END:VEVENT
BEGIN:VEVENT
DTSTART;TZID=America/Los_Angeles:20260621T110000
DTEND;TZID=America/Los_Angeles:20260621T120000
DTSTAMP:20260423T100941
CREATED:20260102T212816Z
LAST-MODIFIED:20260102T212816Z
UID:10000091-1782039600-1782043200@www.pointrichmondmethodist.org
SUMMARY:Sunday Worship Service
DESCRIPTION:11am Register in Advance for the Link to Zoom the Sunday Worship Service – Register here:\nhttps://us02web.zoom.us/meeting/register/WKD7wPnPSNm6q5wVxFTawQ \nYou will be asked for your name and email address. After registering\, you will receive a confirmation email with the link to join the meeting.
URL:https://www.pointrichmondmethodist.org/event/sunday-worship-service/2026-06-21/
LOCATION:Richmond First United Methodist Church\, 201 Martina Street\, Richmond\, California\, 94801
END:VEVENT
BEGIN:VEVENT
DTSTART;TZID=America/Los_Angeles:20260628T110000
DTEND;TZID=America/Los_Angeles:20260628T120000
DTSTAMP:20260423T100941
CREATED:20260102T212816Z
LAST-MODIFIED:20260102T212816Z
UID:10000092-1782644400-1782648000@www.pointrichmondmethodist.org
SUMMARY:Sunday Worship Service
DESCRIPTION:11am Register in Advance for the Link to Zoom the Sunday Worship Service – Register here:\nhttps://us02web.zoom.us/meeting/register/WKD7wPnPSNm6q5wVxFTawQ \nYou will be asked for your name and email address. After registering\, you will receive a confirmation email with the link to join the meeting.
URL:https://www.pointrichmondmethodist.org/event/sunday-worship-service/2026-06-28/
LOCATION:Richmond First United Methodist Church\, 201 Martina Street\, Richmond\, California\, 94801
END:VEVENT
BEGIN:VEVENT
DTSTART;TZID=America/Los_Angeles:20260705T110000
DTEND;TZID=America/Los_Angeles:20260705T120000
DTSTAMP:20260423T100941
CREATED:20260102T212816Z
LAST-MODIFIED:20260102T212816Z
UID:10000093-1783249200-1783252800@www.pointrichmondmethodist.org
SUMMARY:Sunday Worship Service
DESCRIPTION:11am Register in Advance for the Link to Zoom the Sunday Worship Service – Register here:\nhttps://us02web.zoom.us/meeting/register/WKD7wPnPSNm6q5wVxFTawQ \nYou will be asked for your name and email address. After registering\, you will receive a confirmation email with the link to join the meeting.
URL:https://www.pointrichmondmethodist.org/event/sunday-worship-service/2026-07-05/
LOCATION:Richmond First United Methodist Church\, 201 Martina Street\, Richmond\, California\, 94801
END:VEVENT
BEGIN:VEVENT
DTSTART;TZID=America/Los_Angeles:20260712T110000
DTEND;TZID=America/Los_Angeles:20260712T120000
DTSTAMP:20260423T100941
CREATED:20260102T212816Z
LAST-MODIFIED:20260102T212816Z
UID:10000094-1783854000-1783857600@www.pointrichmondmethodist.org
SUMMARY:Sunday Worship Service
DESCRIPTION:11am Register in Advance for the Link to Zoom the Sunday Worship Service – Register here:\nhttps://us02web.zoom.us/meeting/register/WKD7wPnPSNm6q5wVxFTawQ \nYou will be asked for your name and email address. After registering\, you will receive a confirmation email with the link to join the meeting.
URL:https://www.pointrichmondmethodist.org/event/sunday-worship-service/2026-07-12/
LOCATION:Richmond First United Methodist Church\, 201 Martina Street\, Richmond\, California\, 94801
END:VEVENT
BEGIN:VEVENT
DTSTART;TZID=America/Los_Angeles:20260719T110000
DTEND;TZID=America/Los_Angeles:20260719T120000
DTSTAMP:20260423T100941
CREATED:20260102T212816Z
LAST-MODIFIED:20260102T212816Z
UID:10000095-1784458800-1784462400@www.pointrichmondmethodist.org
SUMMARY:Sunday Worship Service
DESCRIPTION:11am Register in Advance for the Link to Zoom the Sunday Worship Service – Register here:\nhttps://us02web.zoom.us/meeting/register/WKD7wPnPSNm6q5wVxFTawQ \nYou will be asked for your name and email address. After registering\, you will receive a confirmation email with the link to join the meeting.
URL:https://www.pointrichmondmethodist.org/event/sunday-worship-service/2026-07-19/
LOCATION:Richmond First United Methodist Church\, 201 Martina Street\, Richmond\, California\, 94801
END:VEVENT
BEGIN:VEVENT
DTSTART;TZID=America/Los_Angeles:20260726T110000
DTEND;TZID=America/Los_Angeles:20260726T120000
DTSTAMP:20260423T100941
CREATED:20260102T212816Z
LAST-MODIFIED:20260102T212816Z
UID:10000096-1785063600-1785067200@www.pointrichmondmethodist.org
SUMMARY:Sunday Worship Service
DESCRIPTION:11am Register in Advance for the Link to Zoom the Sunday Worship Service – Register here:\nhttps://us02web.zoom.us/meeting/register/WKD7wPnPSNm6q5wVxFTawQ \nYou will be asked for your name and email address. After registering\, you will receive a confirmation email with the link to join the meeting.
URL:https://www.pointrichmondmethodist.org/event/sunday-worship-service/2026-07-26/
LOCATION:Richmond First United Methodist Church\, 201 Martina Street\, Richmond\, California\, 94801
END:VEVENT
BEGIN:VEVENT
DTSTART;TZID=America/Los_Angeles:20260802T110000
DTEND;TZID=America/Los_Angeles:20260802T120000
DTSTAMP:20260423T100941
CREATED:20260102T212816Z
LAST-MODIFIED:20260102T212816Z
UID:10000097-1785668400-1785672000@www.pointrichmondmethodist.org
SUMMARY:Sunday Worship Service
DESCRIPTION:11am Register in Advance for the Link to Zoom the Sunday Worship Service – Register here:\nhttps://us02web.zoom.us/meeting/register/WKD7wPnPSNm6q5wVxFTawQ \nYou will be asked for your name and email address. After registering\, you will receive a confirmation email with the link to join the meeting.
URL:https://www.pointrichmondmethodist.org/event/sunday-worship-service/2026-08-02/
LOCATION:Richmond First United Methodist Church\, 201 Martina Street\, Richmond\, California\, 94801
END:VEVENT
BEGIN:VEVENT
DTSTART;TZID=America/Los_Angeles:20260809T110000
DTEND;TZID=America/Los_Angeles:20260809T120000
DTSTAMP:20260423T100941
CREATED:20260102T212816Z
LAST-MODIFIED:20260102T212816Z
UID:10000098-1786273200-1786276800@www.pointrichmondmethodist.org
SUMMARY:Sunday Worship Service
DESCRIPTION:11am Register in Advance for the Link to Zoom the Sunday Worship Service – Register here:\nhttps://us02web.zoom.us/meeting/register/WKD7wPnPSNm6q5wVxFTawQ \nYou will be asked for your name and email address. After registering\, you will receive a confirmation email with the link to join the meeting.
URL:https://www.pointrichmondmethodist.org/event/sunday-worship-service/2026-08-09/
LOCATION:Richmond First United Methodist Church\, 201 Martina Street\, Richmond\, California\, 94801
END:VEVENT
BEGIN:VEVENT
DTSTART;TZID=America/Los_Angeles:20260816T110000
DTEND;TZID=America/Los_Angeles:20260816T120000
DTSTAMP:20260423T100941
CREATED:20260102T212816Z
LAST-MODIFIED:20260102T212816Z
UID:10000099-1786878000-1786881600@www.pointrichmondmethodist.org
SUMMARY:Sunday Worship Service
DESCRIPTION:11am Register in Advance for the Link to Zoom the Sunday Worship Service – Register here:\nhttps://us02web.zoom.us/meeting/register/WKD7wPnPSNm6q5wVxFTawQ \nYou will be asked for your name and email address. After registering\, you will receive a confirmation email with the link to join the meeting.
URL:https://www.pointrichmondmethodist.org/event/sunday-worship-service/2026-08-16/
LOCATION:Richmond First United Methodist Church\, 201 Martina Street\, Richmond\, California\, 94801
END:VEVENT
BEGIN:VEVENT
DTSTART;TZID=America/Los_Angeles:20260823T110000
DTEND;TZID=America/Los_Angeles:20260823T120000
DTSTAMP:20260423T100941
CREATED:20260102T212816Z
LAST-MODIFIED:20260102T212816Z
UID:10000100-1787482800-1787486400@www.pointrichmondmethodist.org
SUMMARY:Sunday Worship Service
DESCRIPTION:11am Register in Advance for the Link to Zoom the Sunday Worship Service – Register here:\nhttps://us02web.zoom.us/meeting/register/WKD7wPnPSNm6q5wVxFTawQ \nYou will be asked for your name and email address. After registering\, you will receive a confirmation email with the link to join the meeting.
URL:https://www.pointrichmondmethodist.org/event/sunday-worship-service/2026-08-23/
LOCATION:Richmond First United Methodist Church\, 201 Martina Street\, Richmond\, California\, 94801
END:VEVENT
BEGIN:VEVENT
DTSTART;TZID=America/Los_Angeles:20260830T110000
DTEND;TZID=America/Los_Angeles:20260830T120000
DTSTAMP:20260423T100941
CREATED:20260102T212816Z
LAST-MODIFIED:20260102T212816Z
UID:10000101-1788087600-1788091200@www.pointrichmondmethodist.org
SUMMARY:Sunday Worship Service
DESCRIPTION:11am Register in Advance for the Link to Zoom the Sunday Worship Service – Register here:\nhttps://us02web.zoom.us/meeting/register/WKD7wPnPSNm6q5wVxFTawQ \nYou will be asked for your name and email address. After registering\, you will receive a confirmation email with the link to join the meeting.
URL:https://www.pointrichmondmethodist.org/event/sunday-worship-service/2026-08-30/
LOCATION:Richmond First United Methodist Church\, 201 Martina Street\, Richmond\, California\, 94801
END:VEVENT
BEGIN:VEVENT
DTSTART;TZID=America/Los_Angeles:20260906T110000
DTEND;TZID=America/Los_Angeles:20260906T120000
DTSTAMP:20260423T100941
CREATED:20260102T212816Z
LAST-MODIFIED:20260102T212816Z
UID:10000102-1788692400-1788696000@www.pointrichmondmethodist.org
SUMMARY:Sunday Worship Service
DESCRIPTION:11am Register in Advance for the Link to Zoom the Sunday Worship Service – Register here:\nhttps://us02web.zoom.us/meeting/register/WKD7wPnPSNm6q5wVxFTawQ \nYou will be asked for your name and email address. After registering\, you will receive a confirmation email with the link to join the meeting.
URL:https://www.pointrichmondmethodist.org/event/sunday-worship-service/2026-09-06/
LOCATION:Richmond First United Methodist Church\, 201 Martina Street\, Richmond\, California\, 94801
END:VEVENT
BEGIN:VEVENT
DTSTART;TZID=America/Los_Angeles:20260913T110000
DTEND;TZID=America/Los_Angeles:20260913T120000
DTSTAMP:20260423T100941
CREATED:20260102T212816Z
LAST-MODIFIED:20260102T212816Z
UID:10000103-1789297200-1789300800@www.pointrichmondmethodist.org
SUMMARY:Sunday Worship Service
DESCRIPTION:11am Register in Advance for the Link to Zoom the Sunday Worship Service – Register here:\nhttps://us02web.zoom.us/meeting/register/WKD7wPnPSNm6q5wVxFTawQ \nYou will be asked for your name and email address. After registering\, you will receive a confirmation email with the link to join the meeting.
URL:https://www.pointrichmondmethodist.org/event/sunday-worship-service/2026-09-13/
LOCATION:Richmond First United Methodist Church\, 201 Martina Street\, Richmond\, California\, 94801
END:VEVENT
BEGIN:VEVENT
DTSTART;TZID=America/Los_Angeles:20260920T110000
DTEND;TZID=America/Los_Angeles:20260920T120000
DTSTAMP:20260423T100941
CREATED:20260102T212816Z
LAST-MODIFIED:20260102T212816Z
UID:10000104-1789902000-1789905600@www.pointrichmondmethodist.org
SUMMARY:Sunday Worship Service
DESCRIPTION:11am Register in Advance for the Link to Zoom the Sunday Worship Service – Register here:\nhttps://us02web.zoom.us/meeting/register/WKD7wPnPSNm6q5wVxFTawQ \nYou will be asked for your name and email address. After registering\, you will receive a confirmation email with the link to join the meeting.
URL:https://www.pointrichmondmethodist.org/event/sunday-worship-service/2026-09-20/
LOCATION:Richmond First United Methodist Church\, 201 Martina Street\, Richmond\, California\, 94801
END:VEVENT
BEGIN:VEVENT
DTSTART;TZID=America/Los_Angeles:20260927T110000
DTEND;TZID=America/Los_Angeles:20260927T120000
DTSTAMP:20260423T100941
CREATED:20260102T212816Z
LAST-MODIFIED:20260102T212816Z
UID:10000105-1790506800-1790510400@www.pointrichmondmethodist.org
SUMMARY:Sunday Worship Service
DESCRIPTION:11am Register in Advance for the Link to Zoom the Sunday Worship Service – Register here:\nhttps://us02web.zoom.us/meeting/register/WKD7wPnPSNm6q5wVxFTawQ \nYou will be asked for your name and email address. After registering\, you will receive a confirmation email with the link to join the meeting.
URL:https://www.pointrichmondmethodist.org/event/sunday-worship-service/2026-09-27/
LOCATION:Richmond First United Methodist Church\, 201 Martina Street\, Richmond\, California\, 94801
END:VEVENT
BEGIN:VEVENT
DTSTART;TZID=America/Los_Angeles:20261004T110000
DTEND;TZID=America/Los_Angeles:20261004T120000
DTSTAMP:20260423T100941
CREATED:20260102T212816Z
LAST-MODIFIED:20260102T212816Z
UID:10000106-1791111600-1791115200@www.pointrichmondmethodist.org
SUMMARY:Sunday Worship Service
DESCRIPTION:11am Register in Advance for the Link to Zoom the Sunday Worship Service – Register here:\nhttps://us02web.zoom.us/meeting/register/WKD7wPnPSNm6q5wVxFTawQ \nYou will be asked for your name and email address. After registering\, you will receive a confirmation email with the link to join the meeting.
URL:https://www.pointrichmondmethodist.org/event/sunday-worship-service/2026-10-04/
LOCATION:Richmond First United Methodist Church\, 201 Martina Street\, Richmond\, California\, 94801
END:VEVENT
BEGIN:VEVENT
DTSTART;TZID=America/Los_Angeles:20261011T110000
DTEND;TZID=America/Los_Angeles:20261011T120000
DTSTAMP:20260423T100941
CREATED:20260102T212816Z
LAST-MODIFIED:20260102T212816Z
UID:10000107-1791716400-1791720000@www.pointrichmondmethodist.org
SUMMARY:Sunday Worship Service
DESCRIPTION:11am Register in Advance for the Link to Zoom the Sunday Worship Service – Register here:\nhttps://us02web.zoom.us/meeting/register/WKD7wPnPSNm6q5wVxFTawQ \nYou will be asked for your name and email address. After registering\, you will receive a confirmation email with the link to join the meeting.
URL:https://www.pointrichmondmethodist.org/event/sunday-worship-service/2026-10-11/
LOCATION:Richmond First United Methodist Church\, 201 Martina Street\, Richmond\, California\, 94801
END:VEVENT
BEGIN:VEVENT
DTSTART;TZID=America/Los_Angeles:20261018T110000
DTEND;TZID=America/Los_Angeles:20261018T120000
DTSTAMP:20260423T100941
CREATED:20260102T212816Z
LAST-MODIFIED:20260102T212816Z
UID:10000108-1792321200-1792324800@www.pointrichmondmethodist.org
SUMMARY:Sunday Worship Service
DESCRIPTION:11am Register in Advance for the Link to Zoom the Sunday Worship Service – Register here:\nhttps://us02web.zoom.us/meeting/register/WKD7wPnPSNm6q5wVxFTawQ \nYou will be asked for your name and email address. After registering\, you will receive a confirmation email with the link to join the meeting.
URL:https://www.pointrichmondmethodist.org/event/sunday-worship-service/2026-10-18/
LOCATION:Richmond First United Methodist Church\, 201 Martina Street\, Richmond\, California\, 94801
END:VEVENT
BEGIN:VEVENT
DTSTART;TZID=America/Los_Angeles:20261025T110000
DTEND;TZID=America/Los_Angeles:20261025T120000
DTSTAMP:20260423T100941
CREATED:20260102T212816Z
LAST-MODIFIED:20260102T212816Z
UID:10000109-1792926000-1792929600@www.pointrichmondmethodist.org
SUMMARY:Sunday Worship Service
DESCRIPTION:11am Register in Advance for the Link to Zoom the Sunday Worship Service – Register here:\nhttps://us02web.zoom.us/meeting/register/WKD7wPnPSNm6q5wVxFTawQ \nYou will be asked for your name and email address. After registering\, you will receive a confirmation email with the link to join the meeting.
URL:https://www.pointrichmondmethodist.org/event/sunday-worship-service/2026-10-25/
LOCATION:Richmond First United Methodist Church\, 201 Martina Street\, Richmond\, California\, 94801
END:VEVENT
BEGIN:VEVENT
DTSTART;TZID=America/Los_Angeles:20261101T110000
DTEND;TZID=America/Los_Angeles:20261101T120000
DTSTAMP:20260423T100941
CREATED:20260102T212816Z
LAST-MODIFIED:20260102T212816Z
UID:10000110-1793530800-1793534400@www.pointrichmondmethodist.org
SUMMARY:Sunday Worship Service
DESCRIPTION:11am Register in Advance for the Link to Zoom the Sunday Worship Service – Register here:\nhttps://us02web.zoom.us/meeting/register/WKD7wPnPSNm6q5wVxFTawQ \nYou will be asked for your name and email address. After registering\, you will receive a confirmation email with the link to join the meeting.
URL:https://www.pointrichmondmethodist.org/event/sunday-worship-service/2026-11-01/
LOCATION:Richmond First United Methodist Church\, 201 Martina Street\, Richmond\, California\, 94801
END:VEVENT
BEGIN:VEVENT
DTSTART;TZID=America/Los_Angeles:20261108T110000
DTEND;TZID=America/Los_Angeles:20261108T120000
DTSTAMP:20260423T100941
CREATED:20260102T212816Z
LAST-MODIFIED:20260102T212816Z
UID:10000111-1794135600-1794139200@www.pointrichmondmethodist.org
SUMMARY:Sunday Worship Service
DESCRIPTION:11am Register in Advance for the Link to Zoom the Sunday Worship Service – Register here:\nhttps://us02web.zoom.us/meeting/register/WKD7wPnPSNm6q5wVxFTawQ \nYou will be asked for your name and email address. After registering\, you will receive a confirmation email with the link to join the meeting.
URL:https://www.pointrichmondmethodist.org/event/sunday-worship-service/2026-11-08/
LOCATION:Richmond First United Methodist Church\, 201 Martina Street\, Richmond\, California\, 94801
END:VEVENT
BEGIN:VEVENT
DTSTART;TZID=America/Los_Angeles:20261115T110000
DTEND;TZID=America/Los_Angeles:20261115T120000
DTSTAMP:20260423T100941
CREATED:20260102T212816Z
LAST-MODIFIED:20260102T212816Z
UID:10000112-1794740400-1794744000@www.pointrichmondmethodist.org
SUMMARY:Sunday Worship Service
DESCRIPTION:11am Register in Advance for the Link to Zoom the Sunday Worship Service – Register here:\nhttps://us02web.zoom.us/meeting/register/WKD7wPnPSNm6q5wVxFTawQ \nYou will be asked for your name and email address. After registering\, you will receive a confirmation email with the link to join the meeting.
URL:https://www.pointrichmondmethodist.org/event/sunday-worship-service/2026-11-15/
LOCATION:Richmond First United Methodist Church\, 201 Martina Street\, Richmond\, California\, 94801
END:VEVENT
END:VCALENDAR