BEGIN:VCALENDAR
VERSION:2.0
PRODID:-//Richmond First United Methodist Church - ECPv6.15.13.1//NONSGML v1.0//EN
CALSCALE:GREGORIAN
METHOD:PUBLISH
X-WR-CALNAME:Richmond First United Methodist Church
X-ORIGINAL-URL:https://www.pointrichmondmethodist.org
X-WR-CALDESC:Events for Richmond First United Methodist Church
REFRESH-INTERVAL;VALUE=DURATION:PT1H
X-Robots-Tag:noindex
X-PUBLISHED-TTL:PT1H
BEGIN:VTIMEZONE
TZID:America/Los_Angeles
BEGIN:DAYLIGHT
TZOFFSETFROM:-0800
TZOFFSETTO:-0700
TZNAME:PDT
DTSTART:20250309T100000
END:DAYLIGHT
BEGIN:STANDARD
TZOFFSETFROM:-0700
TZOFFSETTO:-0800
TZNAME:PST
DTSTART:20251102T090000
END:STANDARD
BEGIN:DAYLIGHT
TZOFFSETFROM:-0800
TZOFFSETTO:-0700
TZNAME:PDT
DTSTART:20260308T100000
END:DAYLIGHT
BEGIN:STANDARD
TZOFFSETFROM:-0700
TZOFFSETTO:-0800
TZNAME:PST
DTSTART:20261101T090000
END:STANDARD
BEGIN:DAYLIGHT
TZOFFSETFROM:-0800
TZOFFSETTO:-0700
TZNAME:PDT
DTSTART:20270314T100000
END:DAYLIGHT
BEGIN:STANDARD
TZOFFSETFROM:-0700
TZOFFSETTO:-0800
TZNAME:PST
DTSTART:20271107T090000
END:STANDARD
END:VTIMEZONE
BEGIN:VEVENT
DTSTART;TZID=America/Los_Angeles:20260307T100000
DTEND;TZID=America/Los_Angeles:20260307T130000
DTSTAMP:20260423T180623
CREATED:20260224T205717Z
LAST-MODIFIED:20260224T205717Z
UID:10000124-1772877600-1772888400@www.pointrichmondmethodist.org
SUMMARY:Free Mental Health Workshop on "Fear: Our Friend and Fuel" 
DESCRIPTION:Sat. March 7\, 10AM-1PM – Free Mental Health Workshop on “Fear: Our Friend and Fuel” at the West Side Branch Library in Point Richmond.  Dr. Hanna Song\, Psy.D.\, M.A.\, Clinical Psychology\, will guide our discussion.  Register now by clicking the QR code on the attached flyer\, or call or text Jean Reynolds at (510) 734-3942\, to guarantee a space and to help us plan for lunch and materials. The program will be two hours followed by an hour for lunch. We can accommodate some of your dietary needs.  If you are concerned\, bring a bag lunch.
URL:https://www.pointrichmondmethodist.org/event/free-mental-health-workshop-on-fear-our-friend-and-fuel/
LOCATION:Point Richmond Community Center\, 139 Washington Ave\, Richmond\, 94801\, United States
ATTACH;FMTTYPE=application/pdf:https://www.pointrichmondmethodist.org/wp-content/uploads/Mental-Health-Workshop-flyer-3.7.26-.pdf
END:VEVENT
END:VCALENDAR