BEGIN:VCALENDAR
VERSION:2.0
PRODID:-//Richmond First United Methodist Church - ECPv6.15.13.1//NONSGML v1.0//EN
CALSCALE:GREGORIAN
METHOD:PUBLISH
X-WR-CALNAME:Richmond First United Methodist Church
X-ORIGINAL-URL:https://www.pointrichmondmethodist.org
X-WR-CALDESC:Events for Richmond First United Methodist Church
REFRESH-INTERVAL;VALUE=DURATION:PT1H
X-Robots-Tag:noindex
X-PUBLISHED-TTL:PT1H
BEGIN:VTIMEZONE
TZID:America/Los_Angeles
BEGIN:DAYLIGHT
TZOFFSETFROM:-0800
TZOFFSETTO:-0700
TZNAME:PDT
DTSTART:20260308T100000
END:DAYLIGHT
BEGIN:STANDARD
TZOFFSETFROM:-0700
TZOFFSETTO:-0800
TZNAME:PST
DTSTART:20261101T090000
END:STANDARD
BEGIN:DAYLIGHT
TZOFFSETFROM:-0800
TZOFFSETTO:-0700
TZNAME:PDT
DTSTART:20270314T100000
END:DAYLIGHT
BEGIN:STANDARD
TZOFFSETFROM:-0700
TZOFFSETTO:-0800
TZNAME:PST
DTSTART:20271107T090000
END:STANDARD
BEGIN:DAYLIGHT
TZOFFSETFROM:-0800
TZOFFSETTO:-0700
TZNAME:PDT
DTSTART:20280312T100000
END:DAYLIGHT
BEGIN:STANDARD
TZOFFSETFROM:-0700
TZOFFSETTO:-0800
TZNAME:PST
DTSTART:20281105T090000
END:STANDARD
END:VTIMEZONE
BEGIN:VEVENT
DTSTART;TZID=America/Los_Angeles:20270124T100000
DTEND;TZID=America/Los_Angeles:20270124T103000
DTSTAMP:20260423T220728
CREATED:20260331T220109Z
LAST-MODIFIED:20260331T220109Z
UID:10000292-1800784800-1800786600@www.pointrichmondmethodist.org
SUMMARY:Adult Sunday School
DESCRIPTION:Adult Sunday School In Person & via Zoom Join us for Sunday Adult School\, a focused and interactive Bible study. Each week\, we read one chapter from a book of the Bible and reflect together through prepared questions and discussion. Participants are also welcome to bring their own questions and insights. Those who sign up will receive the weekly discussion questions and Zoom link by email on Saturdays. Click on this link to receive the weekly questions and Zoom link
URL:https://www.pointrichmondmethodist.org/event/adult-sunday-school/2027-01-24/
LOCATION:First United Methodist Church of Point Richmond\, 201 Martina Street\, Richmond\, CA\, 94801\, United States
END:VEVENT
BEGIN:VEVENT
DTSTART;TZID=America/Los_Angeles:20270127T110000
DTEND;TZID=America/Los_Angeles:20270127T120000
DTSTAMP:20260423T220728
CREATED:20260329T170042Z
LAST-MODIFIED:20260329T170042Z
UID:10000233-1801047600-1801051200@www.pointrichmondmethodist.org
SUMMARY:Introduction to Tai Chi / Qigong for Wellness with Nadine Oei
DESCRIPTION:Introduction to Tai Chi / Qigong for Wellness with Nadine Oei \nALL Welcome! A gentle mind and body learning experience for all ages. The class will focus on movement\, balance\, breathing\, and relaxation\, on the church garden lawn. FREE – Donations to the Church Welcome. RSVP to Janet Heckmann at jmheckmann@mac.com
URL:https://www.pointrichmondmethodist.org/event/introduction-to-tai-chi-qigong-for-wellness-with-nadine-oei/2027-01-27/
LOCATION:First United Methodist Church of Point Richmond\, 201 Martina Street\, Richmond\, CA\, 94801\, United States
END:VEVENT
BEGIN:VEVENT
DTSTART;TZID=America/Los_Angeles:20270131T100000
DTEND;TZID=America/Los_Angeles:20270131T103000
DTSTAMP:20260423T220728
CREATED:20260331T220109Z
LAST-MODIFIED:20260331T220109Z
UID:10000293-1801389600-1801391400@www.pointrichmondmethodist.org
SUMMARY:Adult Sunday School
DESCRIPTION:Adult Sunday School In Person & via Zoom Join us for Sunday Adult School\, a focused and interactive Bible study. Each week\, we read one chapter from a book of the Bible and reflect together through prepared questions and discussion. Participants are also welcome to bring their own questions and insights. Those who sign up will receive the weekly discussion questions and Zoom link by email on Saturdays. Click on this link to receive the weekly questions and Zoom link
URL:https://www.pointrichmondmethodist.org/event/adult-sunday-school/2027-01-31/
LOCATION:First United Methodist Church of Point Richmond\, 201 Martina Street\, Richmond\, CA\, 94801\, United States
END:VEVENT
BEGIN:VEVENT
DTSTART;TZID=America/Los_Angeles:20270203T110000
DTEND;TZID=America/Los_Angeles:20270203T120000
DTSTAMP:20260423T220728
CREATED:20260329T170042Z
LAST-MODIFIED:20260329T170042Z
UID:10000234-1801652400-1801656000@www.pointrichmondmethodist.org
SUMMARY:Introduction to Tai Chi / Qigong for Wellness with Nadine Oei
DESCRIPTION:Introduction to Tai Chi / Qigong for Wellness with Nadine Oei \nALL Welcome! A gentle mind and body learning experience for all ages. The class will focus on movement\, balance\, breathing\, and relaxation\, on the church garden lawn. FREE – Donations to the Church Welcome. RSVP to Janet Heckmann at jmheckmann@mac.com
URL:https://www.pointrichmondmethodist.org/event/introduction-to-tai-chi-qigong-for-wellness-with-nadine-oei/2027-02-03/
LOCATION:First United Methodist Church of Point Richmond\, 201 Martina Street\, Richmond\, CA\, 94801\, United States
END:VEVENT
BEGIN:VEVENT
DTSTART;TZID=America/Los_Angeles:20270207T100000
DTEND;TZID=America/Los_Angeles:20270207T103000
DTSTAMP:20260423T220728
CREATED:20260331T220109Z
LAST-MODIFIED:20260331T220109Z
UID:10000294-1801994400-1801996200@www.pointrichmondmethodist.org
SUMMARY:Adult Sunday School
DESCRIPTION:Adult Sunday School In Person & via Zoom Join us for Sunday Adult School\, a focused and interactive Bible study. Each week\, we read one chapter from a book of the Bible and reflect together through prepared questions and discussion. Participants are also welcome to bring their own questions and insights. Those who sign up will receive the weekly discussion questions and Zoom link by email on Saturdays. Click on this link to receive the weekly questions and Zoom link
URL:https://www.pointrichmondmethodist.org/event/adult-sunday-school/2027-02-07/
LOCATION:First United Methodist Church of Point Richmond\, 201 Martina Street\, Richmond\, CA\, 94801\, United States
END:VEVENT
BEGIN:VEVENT
DTSTART;TZID=America/Los_Angeles:20270210T110000
DTEND;TZID=America/Los_Angeles:20270210T120000
DTSTAMP:20260423T220728
CREATED:20260329T170042Z
LAST-MODIFIED:20260329T170042Z
UID:10000235-1802257200-1802260800@www.pointrichmondmethodist.org
SUMMARY:Introduction to Tai Chi / Qigong for Wellness with Nadine Oei
DESCRIPTION:Introduction to Tai Chi / Qigong for Wellness with Nadine Oei \nALL Welcome! A gentle mind and body learning experience for all ages. The class will focus on movement\, balance\, breathing\, and relaxation\, on the church garden lawn. FREE – Donations to the Church Welcome. RSVP to Janet Heckmann at jmheckmann@mac.com
URL:https://www.pointrichmondmethodist.org/event/introduction-to-tai-chi-qigong-for-wellness-with-nadine-oei/2027-02-10/
LOCATION:First United Methodist Church of Point Richmond\, 201 Martina Street\, Richmond\, CA\, 94801\, United States
END:VEVENT
BEGIN:VEVENT
DTSTART;TZID=America/Los_Angeles:20270214T100000
DTEND;TZID=America/Los_Angeles:20270214T103000
DTSTAMP:20260423T220728
CREATED:20260331T220109Z
LAST-MODIFIED:20260331T220109Z
UID:10000295-1802599200-1802601000@www.pointrichmondmethodist.org
SUMMARY:Adult Sunday School
DESCRIPTION:Adult Sunday School In Person & via Zoom Join us for Sunday Adult School\, a focused and interactive Bible study. Each week\, we read one chapter from a book of the Bible and reflect together through prepared questions and discussion. Participants are also welcome to bring their own questions and insights. Those who sign up will receive the weekly discussion questions and Zoom link by email on Saturdays. Click on this link to receive the weekly questions and Zoom link
URL:https://www.pointrichmondmethodist.org/event/adult-sunday-school/2027-02-14/
LOCATION:First United Methodist Church of Point Richmond\, 201 Martina Street\, Richmond\, CA\, 94801\, United States
END:VEVENT
BEGIN:VEVENT
DTSTART;TZID=America/Los_Angeles:20270217T110000
DTEND;TZID=America/Los_Angeles:20270217T120000
DTSTAMP:20260423T220728
CREATED:20260329T170042Z
LAST-MODIFIED:20260329T170042Z
UID:10000236-1802862000-1802865600@www.pointrichmondmethodist.org
SUMMARY:Introduction to Tai Chi / Qigong for Wellness with Nadine Oei
DESCRIPTION:Introduction to Tai Chi / Qigong for Wellness with Nadine Oei \nALL Welcome! A gentle mind and body learning experience for all ages. The class will focus on movement\, balance\, breathing\, and relaxation\, on the church garden lawn. FREE – Donations to the Church Welcome. RSVP to Janet Heckmann at jmheckmann@mac.com
URL:https://www.pointrichmondmethodist.org/event/introduction-to-tai-chi-qigong-for-wellness-with-nadine-oei/2027-02-17/
LOCATION:First United Methodist Church of Point Richmond\, 201 Martina Street\, Richmond\, CA\, 94801\, United States
END:VEVENT
BEGIN:VEVENT
DTSTART;TZID=America/Los_Angeles:20270221T100000
DTEND;TZID=America/Los_Angeles:20270221T103000
DTSTAMP:20260423T220728
CREATED:20260331T220109Z
LAST-MODIFIED:20260331T220109Z
UID:10000296-1803204000-1803205800@www.pointrichmondmethodist.org
SUMMARY:Adult Sunday School
DESCRIPTION:Adult Sunday School In Person & via Zoom Join us for Sunday Adult School\, a focused and interactive Bible study. Each week\, we read one chapter from a book of the Bible and reflect together through prepared questions and discussion. Participants are also welcome to bring their own questions and insights. Those who sign up will receive the weekly discussion questions and Zoom link by email on Saturdays. Click on this link to receive the weekly questions and Zoom link
URL:https://www.pointrichmondmethodist.org/event/adult-sunday-school/2027-02-21/
LOCATION:First United Methodist Church of Point Richmond\, 201 Martina Street\, Richmond\, CA\, 94801\, United States
END:VEVENT
BEGIN:VEVENT
DTSTART;TZID=America/Los_Angeles:20270224T110000
DTEND;TZID=America/Los_Angeles:20270224T120000
DTSTAMP:20260423T220728
CREATED:20260329T170042Z
LAST-MODIFIED:20260329T170042Z
UID:10000237-1803466800-1803470400@www.pointrichmondmethodist.org
SUMMARY:Introduction to Tai Chi / Qigong for Wellness with Nadine Oei
DESCRIPTION:Introduction to Tai Chi / Qigong for Wellness with Nadine Oei \nALL Welcome! A gentle mind and body learning experience for all ages. The class will focus on movement\, balance\, breathing\, and relaxation\, on the church garden lawn. FREE – Donations to the Church Welcome. RSVP to Janet Heckmann at jmheckmann@mac.com
URL:https://www.pointrichmondmethodist.org/event/introduction-to-tai-chi-qigong-for-wellness-with-nadine-oei/2027-02-24/
LOCATION:First United Methodist Church of Point Richmond\, 201 Martina Street\, Richmond\, CA\, 94801\, United States
END:VEVENT
BEGIN:VEVENT
DTSTART;TZID=America/Los_Angeles:20270228T100000
DTEND;TZID=America/Los_Angeles:20270228T103000
DTSTAMP:20260423T220728
CREATED:20260331T220109Z
LAST-MODIFIED:20260331T220109Z
UID:10000297-1803808800-1803810600@www.pointrichmondmethodist.org
SUMMARY:Adult Sunday School
DESCRIPTION:Adult Sunday School In Person & via Zoom Join us for Sunday Adult School\, a focused and interactive Bible study. Each week\, we read one chapter from a book of the Bible and reflect together through prepared questions and discussion. Participants are also welcome to bring their own questions and insights. Those who sign up will receive the weekly discussion questions and Zoom link by email on Saturdays. Click on this link to receive the weekly questions and Zoom link
URL:https://www.pointrichmondmethodist.org/event/adult-sunday-school/2027-02-28/
LOCATION:First United Methodist Church of Point Richmond\, 201 Martina Street\, Richmond\, CA\, 94801\, United States
END:VEVENT
BEGIN:VEVENT
DTSTART;TZID=America/Los_Angeles:20270303T110000
DTEND;TZID=America/Los_Angeles:20270303T120000
DTSTAMP:20260423T220728
CREATED:20260329T170042Z
LAST-MODIFIED:20260329T170042Z
UID:10000238-1804071600-1804075200@www.pointrichmondmethodist.org
SUMMARY:Introduction to Tai Chi / Qigong for Wellness with Nadine Oei
DESCRIPTION:Introduction to Tai Chi / Qigong for Wellness with Nadine Oei \nALL Welcome! A gentle mind and body learning experience for all ages. The class will focus on movement\, balance\, breathing\, and relaxation\, on the church garden lawn. FREE – Donations to the Church Welcome. RSVP to Janet Heckmann at jmheckmann@mac.com
URL:https://www.pointrichmondmethodist.org/event/introduction-to-tai-chi-qigong-for-wellness-with-nadine-oei/2027-03-03/
LOCATION:First United Methodist Church of Point Richmond\, 201 Martina Street\, Richmond\, CA\, 94801\, United States
END:VEVENT
BEGIN:VEVENT
DTSTART;TZID=America/Los_Angeles:20270307T100000
DTEND;TZID=America/Los_Angeles:20270307T103000
DTSTAMP:20260423T220728
CREATED:20260331T220109Z
LAST-MODIFIED:20260331T220109Z
UID:10000298-1804413600-1804415400@www.pointrichmondmethodist.org
SUMMARY:Adult Sunday School
DESCRIPTION:Adult Sunday School In Person & via Zoom Join us for Sunday Adult School\, a focused and interactive Bible study. Each week\, we read one chapter from a book of the Bible and reflect together through prepared questions and discussion. Participants are also welcome to bring their own questions and insights. Those who sign up will receive the weekly discussion questions and Zoom link by email on Saturdays. Click on this link to receive the weekly questions and Zoom link
URL:https://www.pointrichmondmethodist.org/event/adult-sunday-school/2027-03-07/
LOCATION:First United Methodist Church of Point Richmond\, 201 Martina Street\, Richmond\, CA\, 94801\, United States
END:VEVENT
BEGIN:VEVENT
DTSTART;TZID=America/Los_Angeles:20270310T110000
DTEND;TZID=America/Los_Angeles:20270310T120000
DTSTAMP:20260423T220728
CREATED:20260329T170042Z
LAST-MODIFIED:20260329T170042Z
UID:10000239-1804676400-1804680000@www.pointrichmondmethodist.org
SUMMARY:Introduction to Tai Chi / Qigong for Wellness with Nadine Oei
DESCRIPTION:Introduction to Tai Chi / Qigong for Wellness with Nadine Oei \nALL Welcome! A gentle mind and body learning experience for all ages. The class will focus on movement\, balance\, breathing\, and relaxation\, on the church garden lawn. FREE – Donations to the Church Welcome. RSVP to Janet Heckmann at jmheckmann@mac.com
URL:https://www.pointrichmondmethodist.org/event/introduction-to-tai-chi-qigong-for-wellness-with-nadine-oei/2027-03-10/
LOCATION:First United Methodist Church of Point Richmond\, 201 Martina Street\, Richmond\, CA\, 94801\, United States
END:VEVENT
BEGIN:VEVENT
DTSTART;TZID=America/Los_Angeles:20270314T100000
DTEND;TZID=America/Los_Angeles:20270314T103000
DTSTAMP:20260423T220728
CREATED:20260331T220109Z
LAST-MODIFIED:20260331T220109Z
UID:10000299-1805018400-1805020200@www.pointrichmondmethodist.org
SUMMARY:Adult Sunday School
DESCRIPTION:Adult Sunday School In Person & via Zoom Join us for Sunday Adult School\, a focused and interactive Bible study. Each week\, we read one chapter from a book of the Bible and reflect together through prepared questions and discussion. Participants are also welcome to bring their own questions and insights. Those who sign up will receive the weekly discussion questions and Zoom link by email on Saturdays. Click on this link to receive the weekly questions and Zoom link
URL:https://www.pointrichmondmethodist.org/event/adult-sunday-school/2027-03-14/
LOCATION:First United Methodist Church of Point Richmond\, 201 Martina Street\, Richmond\, CA\, 94801\, United States
END:VEVENT
BEGIN:VEVENT
DTSTART;TZID=America/Los_Angeles:20270317T110000
DTEND;TZID=America/Los_Angeles:20270317T120000
DTSTAMP:20260423T220728
CREATED:20260329T170042Z
LAST-MODIFIED:20260329T170042Z
UID:10000240-1805281200-1805284800@www.pointrichmondmethodist.org
SUMMARY:Introduction to Tai Chi / Qigong for Wellness with Nadine Oei
DESCRIPTION:Introduction to Tai Chi / Qigong for Wellness with Nadine Oei \nALL Welcome! A gentle mind and body learning experience for all ages. The class will focus on movement\, balance\, breathing\, and relaxation\, on the church garden lawn. FREE – Donations to the Church Welcome. RSVP to Janet Heckmann at jmheckmann@mac.com
URL:https://www.pointrichmondmethodist.org/event/introduction-to-tai-chi-qigong-for-wellness-with-nadine-oei/2027-03-17/
LOCATION:First United Methodist Church of Point Richmond\, 201 Martina Street\, Richmond\, CA\, 94801\, United States
END:VEVENT
BEGIN:VEVENT
DTSTART;TZID=America/Los_Angeles:20270321T100000
DTEND;TZID=America/Los_Angeles:20270321T103000
DTSTAMP:20260423T220728
CREATED:20260331T220109Z
LAST-MODIFIED:20260331T220109Z
UID:10000300-1805623200-1805625000@www.pointrichmondmethodist.org
SUMMARY:Adult Sunday School
DESCRIPTION:Adult Sunday School In Person & via Zoom Join us for Sunday Adult School\, a focused and interactive Bible study. Each week\, we read one chapter from a book of the Bible and reflect together through prepared questions and discussion. Participants are also welcome to bring their own questions and insights. Those who sign up will receive the weekly discussion questions and Zoom link by email on Saturdays. Click on this link to receive the weekly questions and Zoom link
URL:https://www.pointrichmondmethodist.org/event/adult-sunday-school/2027-03-21/
LOCATION:First United Methodist Church of Point Richmond\, 201 Martina Street\, Richmond\, CA\, 94801\, United States
END:VEVENT
BEGIN:VEVENT
DTSTART;TZID=America/Los_Angeles:20270324T110000
DTEND;TZID=America/Los_Angeles:20270324T120000
DTSTAMP:20260423T220728
CREATED:20260329T170042Z
LAST-MODIFIED:20260329T170042Z
UID:10000241-1805886000-1805889600@www.pointrichmondmethodist.org
SUMMARY:Introduction to Tai Chi / Qigong for Wellness with Nadine Oei
DESCRIPTION:Introduction to Tai Chi / Qigong for Wellness with Nadine Oei \nALL Welcome! A gentle mind and body learning experience for all ages. The class will focus on movement\, balance\, breathing\, and relaxation\, on the church garden lawn. FREE – Donations to the Church Welcome. RSVP to Janet Heckmann at jmheckmann@mac.com
URL:https://www.pointrichmondmethodist.org/event/introduction-to-tai-chi-qigong-for-wellness-with-nadine-oei/2027-03-24/
LOCATION:First United Methodist Church of Point Richmond\, 201 Martina Street\, Richmond\, CA\, 94801\, United States
END:VEVENT
BEGIN:VEVENT
DTSTART;TZID=America/Los_Angeles:20270328T100000
DTEND;TZID=America/Los_Angeles:20270328T103000
DTSTAMP:20260423T220728
CREATED:20260331T220109Z
LAST-MODIFIED:20260331T220109Z
UID:10000301-1806228000-1806229800@www.pointrichmondmethodist.org
SUMMARY:Adult Sunday School
DESCRIPTION:Adult Sunday School In Person & via Zoom Join us for Sunday Adult School\, a focused and interactive Bible study. Each week\, we read one chapter from a book of the Bible and reflect together through prepared questions and discussion. Participants are also welcome to bring their own questions and insights. Those who sign up will receive the weekly discussion questions and Zoom link by email on Saturdays. Click on this link to receive the weekly questions and Zoom link
URL:https://www.pointrichmondmethodist.org/event/adult-sunday-school/2027-03-28/
LOCATION:First United Methodist Church of Point Richmond\, 201 Martina Street\, Richmond\, CA\, 94801\, United States
END:VEVENT
BEGIN:VEVENT
DTSTART;TZID=America/Los_Angeles:20270331T110000
DTEND;TZID=America/Los_Angeles:20270331T120000
DTSTAMP:20260423T220728
CREATED:20260329T170042Z
LAST-MODIFIED:20260329T170042Z
UID:10000242-1806490800-1806494400@www.pointrichmondmethodist.org
SUMMARY:Introduction to Tai Chi / Qigong for Wellness with Nadine Oei
DESCRIPTION:Introduction to Tai Chi / Qigong for Wellness with Nadine Oei \nALL Welcome! A gentle mind and body learning experience for all ages. The class will focus on movement\, balance\, breathing\, and relaxation\, on the church garden lawn. FREE – Donations to the Church Welcome. RSVP to Janet Heckmann at jmheckmann@mac.com
URL:https://www.pointrichmondmethodist.org/event/introduction-to-tai-chi-qigong-for-wellness-with-nadine-oei/2027-03-31/
LOCATION:First United Methodist Church of Point Richmond\, 201 Martina Street\, Richmond\, CA\, 94801\, United States
END:VEVENT
BEGIN:VEVENT
DTSTART;TZID=America/Los_Angeles:20270404T100000
DTEND;TZID=America/Los_Angeles:20270404T103000
DTSTAMP:20260423T220728
CREATED:20260331T220109Z
LAST-MODIFIED:20260331T220109Z
UID:10000302-1806832800-1806834600@www.pointrichmondmethodist.org
SUMMARY:Adult Sunday School
DESCRIPTION:Adult Sunday School In Person & via Zoom Join us for Sunday Adult School\, a focused and interactive Bible study. Each week\, we read one chapter from a book of the Bible and reflect together through prepared questions and discussion. Participants are also welcome to bring their own questions and insights. Those who sign up will receive the weekly discussion questions and Zoom link by email on Saturdays. Click on this link to receive the weekly questions and Zoom link
URL:https://www.pointrichmondmethodist.org/event/adult-sunday-school/2027-04-04/
LOCATION:First United Methodist Church of Point Richmond\, 201 Martina Street\, Richmond\, CA\, 94801\, United States
END:VEVENT
BEGIN:VEVENT
DTSTART;TZID=America/Los_Angeles:20270407T110000
DTEND;TZID=America/Los_Angeles:20270407T120000
DTSTAMP:20260423T220728
CREATED:20260329T170042Z
LAST-MODIFIED:20260329T170042Z
UID:10000243-1807095600-1807099200@www.pointrichmondmethodist.org
SUMMARY:Introduction to Tai Chi / Qigong for Wellness with Nadine Oei
DESCRIPTION:Introduction to Tai Chi / Qigong for Wellness with Nadine Oei \nALL Welcome! A gentle mind and body learning experience for all ages. The class will focus on movement\, balance\, breathing\, and relaxation\, on the church garden lawn. FREE – Donations to the Church Welcome. RSVP to Janet Heckmann at jmheckmann@mac.com
URL:https://www.pointrichmondmethodist.org/event/introduction-to-tai-chi-qigong-for-wellness-with-nadine-oei/2027-04-07/
LOCATION:First United Methodist Church of Point Richmond\, 201 Martina Street\, Richmond\, CA\, 94801\, United States
END:VEVENT
BEGIN:VEVENT
DTSTART;TZID=America/Los_Angeles:20270411T100000
DTEND;TZID=America/Los_Angeles:20270411T103000
DTSTAMP:20260423T220728
CREATED:20260331T220109Z
LAST-MODIFIED:20260331T220109Z
UID:10000303-1807437600-1807439400@www.pointrichmondmethodist.org
SUMMARY:Adult Sunday School
DESCRIPTION:Adult Sunday School In Person & via Zoom Join us for Sunday Adult School\, a focused and interactive Bible study. Each week\, we read one chapter from a book of the Bible and reflect together through prepared questions and discussion. Participants are also welcome to bring their own questions and insights. Those who sign up will receive the weekly discussion questions and Zoom link by email on Saturdays. Click on this link to receive the weekly questions and Zoom link
URL:https://www.pointrichmondmethodist.org/event/adult-sunday-school/2027-04-11/
LOCATION:First United Methodist Church of Point Richmond\, 201 Martina Street\, Richmond\, CA\, 94801\, United States
END:VEVENT
BEGIN:VEVENT
DTSTART;TZID=America/Los_Angeles:20270414T110000
DTEND;TZID=America/Los_Angeles:20270414T120000
DTSTAMP:20260423T220728
CREATED:20260329T170042Z
LAST-MODIFIED:20260329T170042Z
UID:10000244-1807700400-1807704000@www.pointrichmondmethodist.org
SUMMARY:Introduction to Tai Chi / Qigong for Wellness with Nadine Oei
DESCRIPTION:Introduction to Tai Chi / Qigong for Wellness with Nadine Oei \nALL Welcome! A gentle mind and body learning experience for all ages. The class will focus on movement\, balance\, breathing\, and relaxation\, on the church garden lawn. FREE – Donations to the Church Welcome. RSVP to Janet Heckmann at jmheckmann@mac.com
URL:https://www.pointrichmondmethodist.org/event/introduction-to-tai-chi-qigong-for-wellness-with-nadine-oei/2027-04-14/
LOCATION:First United Methodist Church of Point Richmond\, 201 Martina Street\, Richmond\, CA\, 94801\, United States
END:VEVENT
BEGIN:VEVENT
DTSTART;TZID=America/Los_Angeles:20270418T100000
DTEND;TZID=America/Los_Angeles:20270418T103000
DTSTAMP:20260423T220728
CREATED:20260331T220109Z
LAST-MODIFIED:20260331T220109Z
UID:10000304-1808042400-1808044200@www.pointrichmondmethodist.org
SUMMARY:Adult Sunday School
DESCRIPTION:Adult Sunday School In Person & via Zoom Join us for Sunday Adult School\, a focused and interactive Bible study. Each week\, we read one chapter from a book of the Bible and reflect together through prepared questions and discussion. Participants are also welcome to bring their own questions and insights. Those who sign up will receive the weekly discussion questions and Zoom link by email on Saturdays. Click on this link to receive the weekly questions and Zoom link
URL:https://www.pointrichmondmethodist.org/event/adult-sunday-school/2027-04-18/
LOCATION:First United Methodist Church of Point Richmond\, 201 Martina Street\, Richmond\, CA\, 94801\, United States
END:VEVENT
BEGIN:VEVENT
DTSTART;TZID=America/Los_Angeles:20270421T110000
DTEND;TZID=America/Los_Angeles:20270421T120000
DTSTAMP:20260423T220728
CREATED:20260329T170042Z
LAST-MODIFIED:20260329T170042Z
UID:10000245-1808305200-1808308800@www.pointrichmondmethodist.org
SUMMARY:Introduction to Tai Chi / Qigong for Wellness with Nadine Oei
DESCRIPTION:Introduction to Tai Chi / Qigong for Wellness with Nadine Oei \nALL Welcome! A gentle mind and body learning experience for all ages. The class will focus on movement\, balance\, breathing\, and relaxation\, on the church garden lawn. FREE – Donations to the Church Welcome. RSVP to Janet Heckmann at jmheckmann@mac.com
URL:https://www.pointrichmondmethodist.org/event/introduction-to-tai-chi-qigong-for-wellness-with-nadine-oei/2027-04-21/
LOCATION:First United Methodist Church of Point Richmond\, 201 Martina Street\, Richmond\, CA\, 94801\, United States
END:VEVENT
BEGIN:VEVENT
DTSTART;TZID=America/Los_Angeles:20270425T100000
DTEND;TZID=America/Los_Angeles:20270425T103000
DTSTAMP:20260423T220728
CREATED:20260331T220109Z
LAST-MODIFIED:20260331T220109Z
UID:10000305-1808647200-1808649000@www.pointrichmondmethodist.org
SUMMARY:Adult Sunday School
DESCRIPTION:Adult Sunday School In Person & via Zoom Join us for Sunday Adult School\, a focused and interactive Bible study. Each week\, we read one chapter from a book of the Bible and reflect together through prepared questions and discussion. Participants are also welcome to bring their own questions and insights. Those who sign up will receive the weekly discussion questions and Zoom link by email on Saturdays. Click on this link to receive the weekly questions and Zoom link
URL:https://www.pointrichmondmethodist.org/event/adult-sunday-school/2027-04-25/
LOCATION:First United Methodist Church of Point Richmond\, 201 Martina Street\, Richmond\, CA\, 94801\, United States
END:VEVENT
BEGIN:VEVENT
DTSTART;TZID=America/Los_Angeles:20270428T110000
DTEND;TZID=America/Los_Angeles:20270428T120000
DTSTAMP:20260423T220728
CREATED:20260329T170042Z
LAST-MODIFIED:20260329T170042Z
UID:10000246-1808910000-1808913600@www.pointrichmondmethodist.org
SUMMARY:Introduction to Tai Chi / Qigong for Wellness with Nadine Oei
DESCRIPTION:Introduction to Tai Chi / Qigong for Wellness with Nadine Oei \nALL Welcome! A gentle mind and body learning experience for all ages. The class will focus on movement\, balance\, breathing\, and relaxation\, on the church garden lawn. FREE – Donations to the Church Welcome. RSVP to Janet Heckmann at jmheckmann@mac.com
URL:https://www.pointrichmondmethodist.org/event/introduction-to-tai-chi-qigong-for-wellness-with-nadine-oei/2027-04-28/
LOCATION:First United Methodist Church of Point Richmond\, 201 Martina Street\, Richmond\, CA\, 94801\, United States
END:VEVENT
BEGIN:VEVENT
DTSTART;TZID=America/Los_Angeles:20270502T100000
DTEND;TZID=America/Los_Angeles:20270502T103000
DTSTAMP:20260423T220728
CREATED:20260331T220109Z
LAST-MODIFIED:20260331T220109Z
UID:10000306-1809252000-1809253800@www.pointrichmondmethodist.org
SUMMARY:Adult Sunday School
DESCRIPTION:Adult Sunday School In Person & via Zoom Join us for Sunday Adult School\, a focused and interactive Bible study. Each week\, we read one chapter from a book of the Bible and reflect together through prepared questions and discussion. Participants are also welcome to bring their own questions and insights. Those who sign up will receive the weekly discussion questions and Zoom link by email on Saturdays. Click on this link to receive the weekly questions and Zoom link
URL:https://www.pointrichmondmethodist.org/event/adult-sunday-school/2027-05-02/
LOCATION:First United Methodist Church of Point Richmond\, 201 Martina Street\, Richmond\, CA\, 94801\, United States
END:VEVENT
BEGIN:VEVENT
DTSTART;TZID=America/Los_Angeles:20270505T110000
DTEND;TZID=America/Los_Angeles:20270505T120000
DTSTAMP:20260423T220728
CREATED:20260329T170042Z
LAST-MODIFIED:20260329T170042Z
UID:10000247-1809514800-1809518400@www.pointrichmondmethodist.org
SUMMARY:Introduction to Tai Chi / Qigong for Wellness with Nadine Oei
DESCRIPTION:Introduction to Tai Chi / Qigong for Wellness with Nadine Oei \nALL Welcome! A gentle mind and body learning experience for all ages. The class will focus on movement\, balance\, breathing\, and relaxation\, on the church garden lawn. FREE – Donations to the Church Welcome. RSVP to Janet Heckmann at jmheckmann@mac.com
URL:https://www.pointrichmondmethodist.org/event/introduction-to-tai-chi-qigong-for-wellness-with-nadine-oei/2027-05-05/
LOCATION:First United Methodist Church of Point Richmond\, 201 Martina Street\, Richmond\, CA\, 94801\, United States
END:VEVENT
END:VCALENDAR