BEGIN:VCALENDAR
VERSION:2.0
PRODID:-//Richmond First United Methodist Church - ECPv6.15.13.1//NONSGML v1.0//EN
CALSCALE:GREGORIAN
METHOD:PUBLISH
X-WR-CALNAME:Richmond First United Methodist Church
X-ORIGINAL-URL:https://www.pointrichmondmethodist.org
X-WR-CALDESC:Events for Richmond First United Methodist Church
REFRESH-INTERVAL;VALUE=DURATION:PT1H
X-Robots-Tag:noindex
X-PUBLISHED-TTL:PT1H
BEGIN:VTIMEZONE
TZID:America/Los_Angeles
BEGIN:DAYLIGHT
TZOFFSETFROM:-0800
TZOFFSETTO:-0700
TZNAME:PDT
DTSTART:20250309T100000
END:DAYLIGHT
BEGIN:STANDARD
TZOFFSETFROM:-0700
TZOFFSETTO:-0800
TZNAME:PST
DTSTART:20251102T090000
END:STANDARD
BEGIN:DAYLIGHT
TZOFFSETFROM:-0800
TZOFFSETTO:-0700
TZNAME:PDT
DTSTART:20260308T100000
END:DAYLIGHT
BEGIN:STANDARD
TZOFFSETFROM:-0700
TZOFFSETTO:-0800
TZNAME:PST
DTSTART:20261101T090000
END:STANDARD
BEGIN:DAYLIGHT
TZOFFSETFROM:-0800
TZOFFSETTO:-0700
TZNAME:PDT
DTSTART:20270314T100000
END:DAYLIGHT
BEGIN:STANDARD
TZOFFSETFROM:-0700
TZOFFSETTO:-0800
TZNAME:PST
DTSTART:20271107T090000
END:STANDARD
END:VTIMEZONE
BEGIN:VEVENT
DTSTART;TZID=America/Los_Angeles:20260524T100000
DTEND;TZID=America/Los_Angeles:20260524T103000
DTSTAMP:20260423T113941
CREATED:20260331T220109Z
LAST-MODIFIED:20260331T220109Z
UID:10000257-1779616800-1779618600@www.pointrichmondmethodist.org
SUMMARY:Adult Sunday School
DESCRIPTION:Adult Sunday School In Person & via Zoom Join us for Sunday Adult School\, a focused and interactive Bible study. Each week\, we read one chapter from a book of the Bible and reflect together through prepared questions and discussion. Participants are also welcome to bring their own questions and insights. Those who sign up will receive the weekly discussion questions and Zoom link by email on Saturdays. Click on this link to receive the weekly questions and Zoom link
URL:https://www.pointrichmondmethodist.org/event/adult-sunday-school/2026-05-24/
LOCATION:First United Methodist Church of Point Richmond\, 201 Martina Street\, Richmond\, CA\, 94801\, United States
END:VEVENT
BEGIN:VEVENT
DTSTART;TZID=America/Los_Angeles:20260527T110000
DTEND;TZID=America/Los_Angeles:20260527T120000
DTSTAMP:20260423T113941
CREATED:20260329T170042Z
LAST-MODIFIED:20260329T170042Z
UID:10000198-1779879600-1779883200@www.pointrichmondmethodist.org
SUMMARY:Introduction to Tai Chi / Qigong for Wellness with Nadine Oei
DESCRIPTION:Introduction to Tai Chi / Qigong for Wellness with Nadine Oei \nALL Welcome! A gentle mind and body learning experience for all ages. The class will focus on movement\, balance\, breathing\, and relaxation\, on the church garden lawn. FREE – Donations to the Church Welcome. RSVP to Janet Heckmann at jmheckmann@mac.com
URL:https://www.pointrichmondmethodist.org/event/introduction-to-tai-chi-qigong-for-wellness-with-nadine-oei/2026-05-27/
LOCATION:First United Methodist Church of Point Richmond\, 201 Martina Street\, Richmond\, CA\, 94801\, United States
END:VEVENT
BEGIN:VEVENT
DTSTART;TZID=America/Los_Angeles:20260531T100000
DTEND;TZID=America/Los_Angeles:20260531T103000
DTSTAMP:20260423T113941
CREATED:20260331T220109Z
LAST-MODIFIED:20260331T220109Z
UID:10000258-1780221600-1780223400@www.pointrichmondmethodist.org
SUMMARY:Adult Sunday School
DESCRIPTION:Adult Sunday School In Person & via Zoom Join us for Sunday Adult School\, a focused and interactive Bible study. Each week\, we read one chapter from a book of the Bible and reflect together through prepared questions and discussion. Participants are also welcome to bring their own questions and insights. Those who sign up will receive the weekly discussion questions and Zoom link by email on Saturdays. Click on this link to receive the weekly questions and Zoom link
URL:https://www.pointrichmondmethodist.org/event/adult-sunday-school/2026-05-31/
LOCATION:First United Methodist Church of Point Richmond\, 201 Martina Street\, Richmond\, CA\, 94801\, United States
END:VEVENT
BEGIN:VEVENT
DTSTART;TZID=America/Los_Angeles:20260603T110000
DTEND;TZID=America/Los_Angeles:20260603T120000
DTSTAMP:20260423T113941
CREATED:20260329T170042Z
LAST-MODIFIED:20260329T170042Z
UID:10000199-1780484400-1780488000@www.pointrichmondmethodist.org
SUMMARY:Introduction to Tai Chi / Qigong for Wellness with Nadine Oei
DESCRIPTION:Introduction to Tai Chi / Qigong for Wellness with Nadine Oei \nALL Welcome! A gentle mind and body learning experience for all ages. The class will focus on movement\, balance\, breathing\, and relaxation\, on the church garden lawn. FREE – Donations to the Church Welcome. RSVP to Janet Heckmann at jmheckmann@mac.com
URL:https://www.pointrichmondmethodist.org/event/introduction-to-tai-chi-qigong-for-wellness-with-nadine-oei/2026-06-03/
LOCATION:First United Methodist Church of Point Richmond\, 201 Martina Street\, Richmond\, CA\, 94801\, United States
END:VEVENT
BEGIN:VEVENT
DTSTART;TZID=America/Los_Angeles:20260607T100000
DTEND;TZID=America/Los_Angeles:20260607T103000
DTSTAMP:20260423T113941
CREATED:20260331T220109Z
LAST-MODIFIED:20260331T220109Z
UID:10000259-1780826400-1780828200@www.pointrichmondmethodist.org
SUMMARY:Adult Sunday School
DESCRIPTION:Adult Sunday School In Person & via Zoom Join us for Sunday Adult School\, a focused and interactive Bible study. Each week\, we read one chapter from a book of the Bible and reflect together through prepared questions and discussion. Participants are also welcome to bring their own questions and insights. Those who sign up will receive the weekly discussion questions and Zoom link by email on Saturdays. Click on this link to receive the weekly questions and Zoom link
URL:https://www.pointrichmondmethodist.org/event/adult-sunday-school/2026-06-07/
LOCATION:First United Methodist Church of Point Richmond\, 201 Martina Street\, Richmond\, CA\, 94801\, United States
END:VEVENT
BEGIN:VEVENT
DTSTART;TZID=America/Los_Angeles:20260610T110000
DTEND;TZID=America/Los_Angeles:20260610T120000
DTSTAMP:20260423T113941
CREATED:20260329T170042Z
LAST-MODIFIED:20260329T170042Z
UID:10000200-1781089200-1781092800@www.pointrichmondmethodist.org
SUMMARY:Introduction to Tai Chi / Qigong for Wellness with Nadine Oei
DESCRIPTION:Introduction to Tai Chi / Qigong for Wellness with Nadine Oei \nALL Welcome! A gentle mind and body learning experience for all ages. The class will focus on movement\, balance\, breathing\, and relaxation\, on the church garden lawn. FREE – Donations to the Church Welcome. RSVP to Janet Heckmann at jmheckmann@mac.com
URL:https://www.pointrichmondmethodist.org/event/introduction-to-tai-chi-qigong-for-wellness-with-nadine-oei/2026-06-10/
LOCATION:First United Methodist Church of Point Richmond\, 201 Martina Street\, Richmond\, CA\, 94801\, United States
END:VEVENT
BEGIN:VEVENT
DTSTART;TZID=America/Los_Angeles:20260614T100000
DTEND;TZID=America/Los_Angeles:20260614T103000
DTSTAMP:20260423T113941
CREATED:20260331T220109Z
LAST-MODIFIED:20260331T220109Z
UID:10000260-1781431200-1781433000@www.pointrichmondmethodist.org
SUMMARY:Adult Sunday School
DESCRIPTION:Adult Sunday School In Person & via Zoom Join us for Sunday Adult School\, a focused and interactive Bible study. Each week\, we read one chapter from a book of the Bible and reflect together through prepared questions and discussion. Participants are also welcome to bring their own questions and insights. Those who sign up will receive the weekly discussion questions and Zoom link by email on Saturdays. Click on this link to receive the weekly questions and Zoom link
URL:https://www.pointrichmondmethodist.org/event/adult-sunday-school/2026-06-14/
LOCATION:First United Methodist Church of Point Richmond\, 201 Martina Street\, Richmond\, CA\, 94801\, United States
END:VEVENT
BEGIN:VEVENT
DTSTART;TZID=America/Los_Angeles:20260617T110000
DTEND;TZID=America/Los_Angeles:20260617T120000
DTSTAMP:20260423T113941
CREATED:20260329T170042Z
LAST-MODIFIED:20260329T170042Z
UID:10000201-1781694000-1781697600@www.pointrichmondmethodist.org
SUMMARY:Introduction to Tai Chi / Qigong for Wellness with Nadine Oei
DESCRIPTION:Introduction to Tai Chi / Qigong for Wellness with Nadine Oei \nALL Welcome! A gentle mind and body learning experience for all ages. The class will focus on movement\, balance\, breathing\, and relaxation\, on the church garden lawn. FREE – Donations to the Church Welcome. RSVP to Janet Heckmann at jmheckmann@mac.com
URL:https://www.pointrichmondmethodist.org/event/introduction-to-tai-chi-qigong-for-wellness-with-nadine-oei/2026-06-17/
LOCATION:First United Methodist Church of Point Richmond\, 201 Martina Street\, Richmond\, CA\, 94801\, United States
END:VEVENT
BEGIN:VEVENT
DTSTART;TZID=America/Los_Angeles:20260621T100000
DTEND;TZID=America/Los_Angeles:20260621T103000
DTSTAMP:20260423T113941
CREATED:20260331T220109Z
LAST-MODIFIED:20260331T220109Z
UID:10000261-1782036000-1782037800@www.pointrichmondmethodist.org
SUMMARY:Adult Sunday School
DESCRIPTION:Adult Sunday School In Person & via Zoom Join us for Sunday Adult School\, a focused and interactive Bible study. Each week\, we read one chapter from a book of the Bible and reflect together through prepared questions and discussion. Participants are also welcome to bring their own questions and insights. Those who sign up will receive the weekly discussion questions and Zoom link by email on Saturdays. Click on this link to receive the weekly questions and Zoom link
URL:https://www.pointrichmondmethodist.org/event/adult-sunday-school/2026-06-21/
LOCATION:First United Methodist Church of Point Richmond\, 201 Martina Street\, Richmond\, CA\, 94801\, United States
END:VEVENT
BEGIN:VEVENT
DTSTART;TZID=America/Los_Angeles:20260624T110000
DTEND;TZID=America/Los_Angeles:20260624T120000
DTSTAMP:20260423T113941
CREATED:20260329T170042Z
LAST-MODIFIED:20260329T170042Z
UID:10000202-1782298800-1782302400@www.pointrichmondmethodist.org
SUMMARY:Introduction to Tai Chi / Qigong for Wellness with Nadine Oei
DESCRIPTION:Introduction to Tai Chi / Qigong for Wellness with Nadine Oei \nALL Welcome! A gentle mind and body learning experience for all ages. The class will focus on movement\, balance\, breathing\, and relaxation\, on the church garden lawn. FREE – Donations to the Church Welcome. RSVP to Janet Heckmann at jmheckmann@mac.com
URL:https://www.pointrichmondmethodist.org/event/introduction-to-tai-chi-qigong-for-wellness-with-nadine-oei/2026-06-24/
LOCATION:First United Methodist Church of Point Richmond\, 201 Martina Street\, Richmond\, CA\, 94801\, United States
END:VEVENT
BEGIN:VEVENT
DTSTART;TZID=America/Los_Angeles:20260628T100000
DTEND;TZID=America/Los_Angeles:20260628T103000
DTSTAMP:20260423T113941
CREATED:20260331T220109Z
LAST-MODIFIED:20260331T220109Z
UID:10000262-1782640800-1782642600@www.pointrichmondmethodist.org
SUMMARY:Adult Sunday School
DESCRIPTION:Adult Sunday School In Person & via Zoom Join us for Sunday Adult School\, a focused and interactive Bible study. Each week\, we read one chapter from a book of the Bible and reflect together through prepared questions and discussion. Participants are also welcome to bring their own questions and insights. Those who sign up will receive the weekly discussion questions and Zoom link by email on Saturdays. Click on this link to receive the weekly questions and Zoom link
URL:https://www.pointrichmondmethodist.org/event/adult-sunday-school/2026-06-28/
LOCATION:First United Methodist Church of Point Richmond\, 201 Martina Street\, Richmond\, CA\, 94801\, United States
END:VEVENT
BEGIN:VEVENT
DTSTART;TZID=America/Los_Angeles:20260701T110000
DTEND;TZID=America/Los_Angeles:20260701T120000
DTSTAMP:20260423T113941
CREATED:20260329T170042Z
LAST-MODIFIED:20260329T170042Z
UID:10000203-1782903600-1782907200@www.pointrichmondmethodist.org
SUMMARY:Introduction to Tai Chi / Qigong for Wellness with Nadine Oei
DESCRIPTION:Introduction to Tai Chi / Qigong for Wellness with Nadine Oei \nALL Welcome! A gentle mind and body learning experience for all ages. The class will focus on movement\, balance\, breathing\, and relaxation\, on the church garden lawn. FREE – Donations to the Church Welcome. RSVP to Janet Heckmann at jmheckmann@mac.com
URL:https://www.pointrichmondmethodist.org/event/introduction-to-tai-chi-qigong-for-wellness-with-nadine-oei/2026-07-01/
LOCATION:First United Methodist Church of Point Richmond\, 201 Martina Street\, Richmond\, CA\, 94801\, United States
END:VEVENT
BEGIN:VEVENT
DTSTART;TZID=America/Los_Angeles:20260705T100000
DTEND;TZID=America/Los_Angeles:20260705T103000
DTSTAMP:20260423T113941
CREATED:20260331T220109Z
LAST-MODIFIED:20260331T220109Z
UID:10000263-1783245600-1783247400@www.pointrichmondmethodist.org
SUMMARY:Adult Sunday School
DESCRIPTION:Adult Sunday School In Person & via Zoom Join us for Sunday Adult School\, a focused and interactive Bible study. Each week\, we read one chapter from a book of the Bible and reflect together through prepared questions and discussion. Participants are also welcome to bring their own questions and insights. Those who sign up will receive the weekly discussion questions and Zoom link by email on Saturdays. Click on this link to receive the weekly questions and Zoom link
URL:https://www.pointrichmondmethodist.org/event/adult-sunday-school/2026-07-05/
LOCATION:First United Methodist Church of Point Richmond\, 201 Martina Street\, Richmond\, CA\, 94801\, United States
END:VEVENT
BEGIN:VEVENT
DTSTART;TZID=America/Los_Angeles:20260708T110000
DTEND;TZID=America/Los_Angeles:20260708T120000
DTSTAMP:20260423T113941
CREATED:20260329T170042Z
LAST-MODIFIED:20260329T170042Z
UID:10000204-1783508400-1783512000@www.pointrichmondmethodist.org
SUMMARY:Introduction to Tai Chi / Qigong for Wellness with Nadine Oei
DESCRIPTION:Introduction to Tai Chi / Qigong for Wellness with Nadine Oei \nALL Welcome! A gentle mind and body learning experience for all ages. The class will focus on movement\, balance\, breathing\, and relaxation\, on the church garden lawn. FREE – Donations to the Church Welcome. RSVP to Janet Heckmann at jmheckmann@mac.com
URL:https://www.pointrichmondmethodist.org/event/introduction-to-tai-chi-qigong-for-wellness-with-nadine-oei/2026-07-08/
LOCATION:First United Methodist Church of Point Richmond\, 201 Martina Street\, Richmond\, CA\, 94801\, United States
END:VEVENT
BEGIN:VEVENT
DTSTART;TZID=America/Los_Angeles:20260712T100000
DTEND;TZID=America/Los_Angeles:20260712T103000
DTSTAMP:20260423T113941
CREATED:20260331T220109Z
LAST-MODIFIED:20260331T220109Z
UID:10000264-1783850400-1783852200@www.pointrichmondmethodist.org
SUMMARY:Adult Sunday School
DESCRIPTION:Adult Sunday School In Person & via Zoom Join us for Sunday Adult School\, a focused and interactive Bible study. Each week\, we read one chapter from a book of the Bible and reflect together through prepared questions and discussion. Participants are also welcome to bring their own questions and insights. Those who sign up will receive the weekly discussion questions and Zoom link by email on Saturdays. Click on this link to receive the weekly questions and Zoom link
URL:https://www.pointrichmondmethodist.org/event/adult-sunday-school/2026-07-12/
LOCATION:First United Methodist Church of Point Richmond\, 201 Martina Street\, Richmond\, CA\, 94801\, United States
END:VEVENT
BEGIN:VEVENT
DTSTART;TZID=America/Los_Angeles:20260715T110000
DTEND;TZID=America/Los_Angeles:20260715T120000
DTSTAMP:20260423T113941
CREATED:20260329T170042Z
LAST-MODIFIED:20260329T170042Z
UID:10000205-1784113200-1784116800@www.pointrichmondmethodist.org
SUMMARY:Introduction to Tai Chi / Qigong for Wellness with Nadine Oei
DESCRIPTION:Introduction to Tai Chi / Qigong for Wellness with Nadine Oei \nALL Welcome! A gentle mind and body learning experience for all ages. The class will focus on movement\, balance\, breathing\, and relaxation\, on the church garden lawn. FREE – Donations to the Church Welcome. RSVP to Janet Heckmann at jmheckmann@mac.com
URL:https://www.pointrichmondmethodist.org/event/introduction-to-tai-chi-qigong-for-wellness-with-nadine-oei/2026-07-15/
LOCATION:First United Methodist Church of Point Richmond\, 201 Martina Street\, Richmond\, CA\, 94801\, United States
END:VEVENT
BEGIN:VEVENT
DTSTART;TZID=America/Los_Angeles:20260719T100000
DTEND;TZID=America/Los_Angeles:20260719T103000
DTSTAMP:20260423T113941
CREATED:20260331T220109Z
LAST-MODIFIED:20260331T220109Z
UID:10000265-1784455200-1784457000@www.pointrichmondmethodist.org
SUMMARY:Adult Sunday School
DESCRIPTION:Adult Sunday School In Person & via Zoom Join us for Sunday Adult School\, a focused and interactive Bible study. Each week\, we read one chapter from a book of the Bible and reflect together through prepared questions and discussion. Participants are also welcome to bring their own questions and insights. Those who sign up will receive the weekly discussion questions and Zoom link by email on Saturdays. Click on this link to receive the weekly questions and Zoom link
URL:https://www.pointrichmondmethodist.org/event/adult-sunday-school/2026-07-19/
LOCATION:First United Methodist Church of Point Richmond\, 201 Martina Street\, Richmond\, CA\, 94801\, United States
END:VEVENT
BEGIN:VEVENT
DTSTART;TZID=America/Los_Angeles:20260722T110000
DTEND;TZID=America/Los_Angeles:20260722T120000
DTSTAMP:20260423T113941
CREATED:20260329T170042Z
LAST-MODIFIED:20260329T170042Z
UID:10000206-1784718000-1784721600@www.pointrichmondmethodist.org
SUMMARY:Introduction to Tai Chi / Qigong for Wellness with Nadine Oei
DESCRIPTION:Introduction to Tai Chi / Qigong for Wellness with Nadine Oei \nALL Welcome! A gentle mind and body learning experience for all ages. The class will focus on movement\, balance\, breathing\, and relaxation\, on the church garden lawn. FREE – Donations to the Church Welcome. RSVP to Janet Heckmann at jmheckmann@mac.com
URL:https://www.pointrichmondmethodist.org/event/introduction-to-tai-chi-qigong-for-wellness-with-nadine-oei/2026-07-22/
LOCATION:First United Methodist Church of Point Richmond\, 201 Martina Street\, Richmond\, CA\, 94801\, United States
END:VEVENT
BEGIN:VEVENT
DTSTART;TZID=America/Los_Angeles:20260726T100000
DTEND;TZID=America/Los_Angeles:20260726T103000
DTSTAMP:20260423T113941
CREATED:20260331T220109Z
LAST-MODIFIED:20260331T220109Z
UID:10000266-1785060000-1785061800@www.pointrichmondmethodist.org
SUMMARY:Adult Sunday School
DESCRIPTION:Adult Sunday School In Person & via Zoom Join us for Sunday Adult School\, a focused and interactive Bible study. Each week\, we read one chapter from a book of the Bible and reflect together through prepared questions and discussion. Participants are also welcome to bring their own questions and insights. Those who sign up will receive the weekly discussion questions and Zoom link by email on Saturdays. Click on this link to receive the weekly questions and Zoom link
URL:https://www.pointrichmondmethodist.org/event/adult-sunday-school/2026-07-26/
LOCATION:First United Methodist Church of Point Richmond\, 201 Martina Street\, Richmond\, CA\, 94801\, United States
END:VEVENT
BEGIN:VEVENT
DTSTART;TZID=America/Los_Angeles:20260729T110000
DTEND;TZID=America/Los_Angeles:20260729T120000
DTSTAMP:20260423T113941
CREATED:20260329T170042Z
LAST-MODIFIED:20260329T170042Z
UID:10000207-1785322800-1785326400@www.pointrichmondmethodist.org
SUMMARY:Introduction to Tai Chi / Qigong for Wellness with Nadine Oei
DESCRIPTION:Introduction to Tai Chi / Qigong for Wellness with Nadine Oei \nALL Welcome! A gentle mind and body learning experience for all ages. The class will focus on movement\, balance\, breathing\, and relaxation\, on the church garden lawn. FREE – Donations to the Church Welcome. RSVP to Janet Heckmann at jmheckmann@mac.com
URL:https://www.pointrichmondmethodist.org/event/introduction-to-tai-chi-qigong-for-wellness-with-nadine-oei/2026-07-29/
LOCATION:First United Methodist Church of Point Richmond\, 201 Martina Street\, Richmond\, CA\, 94801\, United States
END:VEVENT
BEGIN:VEVENT
DTSTART;TZID=America/Los_Angeles:20260802T100000
DTEND;TZID=America/Los_Angeles:20260802T103000
DTSTAMP:20260423T113941
CREATED:20260331T220109Z
LAST-MODIFIED:20260331T220109Z
UID:10000267-1785664800-1785666600@www.pointrichmondmethodist.org
SUMMARY:Adult Sunday School
DESCRIPTION:Adult Sunday School In Person & via Zoom Join us for Sunday Adult School\, a focused and interactive Bible study. Each week\, we read one chapter from a book of the Bible and reflect together through prepared questions and discussion. Participants are also welcome to bring their own questions and insights. Those who sign up will receive the weekly discussion questions and Zoom link by email on Saturdays. Click on this link to receive the weekly questions and Zoom link
URL:https://www.pointrichmondmethodist.org/event/adult-sunday-school/2026-08-02/
LOCATION:First United Methodist Church of Point Richmond\, 201 Martina Street\, Richmond\, CA\, 94801\, United States
END:VEVENT
BEGIN:VEVENT
DTSTART;TZID=America/Los_Angeles:20260805T110000
DTEND;TZID=America/Los_Angeles:20260805T120000
DTSTAMP:20260423T113941
CREATED:20260329T170042Z
LAST-MODIFIED:20260329T170042Z
UID:10000208-1785927600-1785931200@www.pointrichmondmethodist.org
SUMMARY:Introduction to Tai Chi / Qigong for Wellness with Nadine Oei
DESCRIPTION:Introduction to Tai Chi / Qigong for Wellness with Nadine Oei \nALL Welcome! A gentle mind and body learning experience for all ages. The class will focus on movement\, balance\, breathing\, and relaxation\, on the church garden lawn. FREE – Donations to the Church Welcome. RSVP to Janet Heckmann at jmheckmann@mac.com
URL:https://www.pointrichmondmethodist.org/event/introduction-to-tai-chi-qigong-for-wellness-with-nadine-oei/2026-08-05/
LOCATION:First United Methodist Church of Point Richmond\, 201 Martina Street\, Richmond\, CA\, 94801\, United States
END:VEVENT
BEGIN:VEVENT
DTSTART;TZID=America/Los_Angeles:20260809T100000
DTEND;TZID=America/Los_Angeles:20260809T103000
DTSTAMP:20260423T113941
CREATED:20260331T220109Z
LAST-MODIFIED:20260331T220109Z
UID:10000268-1786269600-1786271400@www.pointrichmondmethodist.org
SUMMARY:Adult Sunday School
DESCRIPTION:Adult Sunday School In Person & via Zoom Join us for Sunday Adult School\, a focused and interactive Bible study. Each week\, we read one chapter from a book of the Bible and reflect together through prepared questions and discussion. Participants are also welcome to bring their own questions and insights. Those who sign up will receive the weekly discussion questions and Zoom link by email on Saturdays. Click on this link to receive the weekly questions and Zoom link
URL:https://www.pointrichmondmethodist.org/event/adult-sunday-school/2026-08-09/
LOCATION:First United Methodist Church of Point Richmond\, 201 Martina Street\, Richmond\, CA\, 94801\, United States
END:VEVENT
BEGIN:VEVENT
DTSTART;TZID=America/Los_Angeles:20260812T110000
DTEND;TZID=America/Los_Angeles:20260812T120000
DTSTAMP:20260423T113941
CREATED:20260329T170042Z
LAST-MODIFIED:20260329T170042Z
UID:10000209-1786532400-1786536000@www.pointrichmondmethodist.org
SUMMARY:Introduction to Tai Chi / Qigong for Wellness with Nadine Oei
DESCRIPTION:Introduction to Tai Chi / Qigong for Wellness with Nadine Oei \nALL Welcome! A gentle mind and body learning experience for all ages. The class will focus on movement\, balance\, breathing\, and relaxation\, on the church garden lawn. FREE – Donations to the Church Welcome. RSVP to Janet Heckmann at jmheckmann@mac.com
URL:https://www.pointrichmondmethodist.org/event/introduction-to-tai-chi-qigong-for-wellness-with-nadine-oei/2026-08-12/
LOCATION:First United Methodist Church of Point Richmond\, 201 Martina Street\, Richmond\, CA\, 94801\, United States
END:VEVENT
BEGIN:VEVENT
DTSTART;TZID=America/Los_Angeles:20260816T100000
DTEND;TZID=America/Los_Angeles:20260816T103000
DTSTAMP:20260423T113941
CREATED:20260331T220109Z
LAST-MODIFIED:20260331T220109Z
UID:10000269-1786874400-1786876200@www.pointrichmondmethodist.org
SUMMARY:Adult Sunday School
DESCRIPTION:Adult Sunday School In Person & via Zoom Join us for Sunday Adult School\, a focused and interactive Bible study. Each week\, we read one chapter from a book of the Bible and reflect together through prepared questions and discussion. Participants are also welcome to bring their own questions and insights. Those who sign up will receive the weekly discussion questions and Zoom link by email on Saturdays. Click on this link to receive the weekly questions and Zoom link
URL:https://www.pointrichmondmethodist.org/event/adult-sunday-school/2026-08-16/
LOCATION:First United Methodist Church of Point Richmond\, 201 Martina Street\, Richmond\, CA\, 94801\, United States
END:VEVENT
BEGIN:VEVENT
DTSTART;TZID=America/Los_Angeles:20260819T110000
DTEND;TZID=America/Los_Angeles:20260819T120000
DTSTAMP:20260423T113941
CREATED:20260329T170042Z
LAST-MODIFIED:20260329T170042Z
UID:10000210-1787137200-1787140800@www.pointrichmondmethodist.org
SUMMARY:Introduction to Tai Chi / Qigong for Wellness with Nadine Oei
DESCRIPTION:Introduction to Tai Chi / Qigong for Wellness with Nadine Oei \nALL Welcome! A gentle mind and body learning experience for all ages. The class will focus on movement\, balance\, breathing\, and relaxation\, on the church garden lawn. FREE – Donations to the Church Welcome. RSVP to Janet Heckmann at jmheckmann@mac.com
URL:https://www.pointrichmondmethodist.org/event/introduction-to-tai-chi-qigong-for-wellness-with-nadine-oei/2026-08-19/
LOCATION:First United Methodist Church of Point Richmond\, 201 Martina Street\, Richmond\, CA\, 94801\, United States
END:VEVENT
BEGIN:VEVENT
DTSTART;TZID=America/Los_Angeles:20260823T100000
DTEND;TZID=America/Los_Angeles:20260823T103000
DTSTAMP:20260423T113941
CREATED:20260331T220109Z
LAST-MODIFIED:20260331T220109Z
UID:10000270-1787479200-1787481000@www.pointrichmondmethodist.org
SUMMARY:Adult Sunday School
DESCRIPTION:Adult Sunday School In Person & via Zoom Join us for Sunday Adult School\, a focused and interactive Bible study. Each week\, we read one chapter from a book of the Bible and reflect together through prepared questions and discussion. Participants are also welcome to bring their own questions and insights. Those who sign up will receive the weekly discussion questions and Zoom link by email on Saturdays. Click on this link to receive the weekly questions and Zoom link
URL:https://www.pointrichmondmethodist.org/event/adult-sunday-school/2026-08-23/
LOCATION:First United Methodist Church of Point Richmond\, 201 Martina Street\, Richmond\, CA\, 94801\, United States
END:VEVENT
BEGIN:VEVENT
DTSTART;TZID=America/Los_Angeles:20260826T110000
DTEND;TZID=America/Los_Angeles:20260826T120000
DTSTAMP:20260423T113941
CREATED:20260329T170042Z
LAST-MODIFIED:20260329T170042Z
UID:10000211-1787742000-1787745600@www.pointrichmondmethodist.org
SUMMARY:Introduction to Tai Chi / Qigong for Wellness with Nadine Oei
DESCRIPTION:Introduction to Tai Chi / Qigong for Wellness with Nadine Oei \nALL Welcome! A gentle mind and body learning experience for all ages. The class will focus on movement\, balance\, breathing\, and relaxation\, on the church garden lawn. FREE – Donations to the Church Welcome. RSVP to Janet Heckmann at jmheckmann@mac.com
URL:https://www.pointrichmondmethodist.org/event/introduction-to-tai-chi-qigong-for-wellness-with-nadine-oei/2026-08-26/
LOCATION:First United Methodist Church of Point Richmond\, 201 Martina Street\, Richmond\, CA\, 94801\, United States
END:VEVENT
BEGIN:VEVENT
DTSTART;TZID=America/Los_Angeles:20260830T100000
DTEND;TZID=America/Los_Angeles:20260830T103000
DTSTAMP:20260423T113941
CREATED:20260331T220109Z
LAST-MODIFIED:20260331T220109Z
UID:10000271-1788084000-1788085800@www.pointrichmondmethodist.org
SUMMARY:Adult Sunday School
DESCRIPTION:Adult Sunday School In Person & via Zoom Join us for Sunday Adult School\, a focused and interactive Bible study. Each week\, we read one chapter from a book of the Bible and reflect together through prepared questions and discussion. Participants are also welcome to bring their own questions and insights. Those who sign up will receive the weekly discussion questions and Zoom link by email on Saturdays. Click on this link to receive the weekly questions and Zoom link
URL:https://www.pointrichmondmethodist.org/event/adult-sunday-school/2026-08-30/
LOCATION:First United Methodist Church of Point Richmond\, 201 Martina Street\, Richmond\, CA\, 94801\, United States
END:VEVENT
BEGIN:VEVENT
DTSTART;TZID=America/Los_Angeles:20260902T110000
DTEND;TZID=America/Los_Angeles:20260902T120000
DTSTAMP:20260423T113941
CREATED:20260329T170042Z
LAST-MODIFIED:20260329T170042Z
UID:10000212-1788346800-1788350400@www.pointrichmondmethodist.org
SUMMARY:Introduction to Tai Chi / Qigong for Wellness with Nadine Oei
DESCRIPTION:Introduction to Tai Chi / Qigong for Wellness with Nadine Oei \nALL Welcome! A gentle mind and body learning experience for all ages. The class will focus on movement\, balance\, breathing\, and relaxation\, on the church garden lawn. FREE – Donations to the Church Welcome. RSVP to Janet Heckmann at jmheckmann@mac.com
URL:https://www.pointrichmondmethodist.org/event/introduction-to-tai-chi-qigong-for-wellness-with-nadine-oei/2026-09-02/
LOCATION:First United Methodist Church of Point Richmond\, 201 Martina Street\, Richmond\, CA\, 94801\, United States
END:VEVENT
END:VCALENDAR