BEGIN:VCALENDAR
VERSION:2.0
PRODID:-//Richmond First United Methodist Church - ECPv6.15.13.1//NONSGML v1.0//EN
CALSCALE:GREGORIAN
METHOD:PUBLISH
X-ORIGINAL-URL:https://www.pointrichmondmethodist.org
X-WR-CALDESC:Events for Richmond First United Methodist Church
REFRESH-INTERVAL;VALUE=DURATION:PT1H
X-Robots-Tag:noindex
X-PUBLISHED-TTL:PT1H
BEGIN:VTIMEZONE
TZID:America/Los_Angeles
BEGIN:DAYLIGHT
TZOFFSETFROM:-0800
TZOFFSETTO:-0700
TZNAME:PDT
DTSTART:20260308T100000
END:DAYLIGHT
BEGIN:STANDARD
TZOFFSETFROM:-0700
TZOFFSETTO:-0800
TZNAME:PST
DTSTART:20261101T090000
END:STANDARD
BEGIN:DAYLIGHT
TZOFFSETFROM:-0800
TZOFFSETTO:-0700
TZNAME:PDT
DTSTART:20270314T100000
END:DAYLIGHT
BEGIN:STANDARD
TZOFFSETFROM:-0700
TZOFFSETTO:-0800
TZNAME:PST
DTSTART:20271107T090000
END:STANDARD
BEGIN:DAYLIGHT
TZOFFSETFROM:-0800
TZOFFSETTO:-0700
TZNAME:PDT
DTSTART:20280312T100000
END:DAYLIGHT
BEGIN:STANDARD
TZOFFSETFROM:-0700
TZOFFSETTO:-0800
TZNAME:PST
DTSTART:20281105T090000
END:STANDARD
END:VTIMEZONE
BEGIN:VEVENT
DTSTART;TZID=America/Los_Angeles:20270704T100000
DTEND;TZID=America/Los_Angeles:20270704T103000
DTSTAMP:20260424T041821
CREATED:20260331T220109Z
LAST-MODIFIED:20260331T220109Z
UID:10000315-1814695200-1814697000@www.pointrichmondmethodist.org
SUMMARY:Adult Sunday School
DESCRIPTION:Adult Sunday School In Person & via Zoom Join us for Sunday Adult School\, a focused and interactive Bible study. Each week\, we read one chapter from a book of the Bible and reflect together through prepared questions and discussion. Participants are also welcome to bring their own questions and insights. Those who sign up will receive the weekly discussion questions and Zoom link by email on Saturdays. Click on this link to receive the weekly questions and Zoom link
URL:https://www.pointrichmondmethodist.org/event/adult-sunday-school/2027-07-04/
LOCATION:First United Methodist Church of Point Richmond\, 201 Martina Street\, Richmond\, CA\, 94801\, United States
END:VEVENT
BEGIN:VEVENT
DTSTART;TZID=America/Los_Angeles:20270711T100000
DTEND;TZID=America/Los_Angeles:20270711T103000
DTSTAMP:20260424T041821
CREATED:20260331T220109Z
LAST-MODIFIED:20260331T220109Z
UID:10000316-1815300000-1815301800@www.pointrichmondmethodist.org
SUMMARY:Adult Sunday School
DESCRIPTION:Adult Sunday School In Person & via Zoom Join us for Sunday Adult School\, a focused and interactive Bible study. Each week\, we read one chapter from a book of the Bible and reflect together through prepared questions and discussion. Participants are also welcome to bring their own questions and insights. Those who sign up will receive the weekly discussion questions and Zoom link by email on Saturdays. Click on this link to receive the weekly questions and Zoom link
URL:https://www.pointrichmondmethodist.org/event/adult-sunday-school/2027-07-11/
LOCATION:First United Methodist Church of Point Richmond\, 201 Martina Street\, Richmond\, CA\, 94801\, United States
END:VEVENT
BEGIN:VEVENT
DTSTART;TZID=America/Los_Angeles:20270718T100000
DTEND;TZID=America/Los_Angeles:20270718T103000
DTSTAMP:20260424T041821
CREATED:20260331T220109Z
LAST-MODIFIED:20260331T220109Z
UID:10000317-1815904800-1815906600@www.pointrichmondmethodist.org
SUMMARY:Adult Sunday School
DESCRIPTION:Adult Sunday School In Person & via Zoom Join us for Sunday Adult School\, a focused and interactive Bible study. Each week\, we read one chapter from a book of the Bible and reflect together through prepared questions and discussion. Participants are also welcome to bring their own questions and insights. Those who sign up will receive the weekly discussion questions and Zoom link by email on Saturdays. Click on this link to receive the weekly questions and Zoom link
URL:https://www.pointrichmondmethodist.org/event/adult-sunday-school/2027-07-18/
LOCATION:First United Methodist Church of Point Richmond\, 201 Martina Street\, Richmond\, CA\, 94801\, United States
END:VEVENT
BEGIN:VEVENT
DTSTART;TZID=America/Los_Angeles:20270725T100000
DTEND;TZID=America/Los_Angeles:20270725T103000
DTSTAMP:20260424T041821
CREATED:20260331T220109Z
LAST-MODIFIED:20260331T220109Z
UID:10000318-1816509600-1816511400@www.pointrichmondmethodist.org
SUMMARY:Adult Sunday School
DESCRIPTION:Adult Sunday School In Person & via Zoom Join us for Sunday Adult School\, a focused and interactive Bible study. Each week\, we read one chapter from a book of the Bible and reflect together through prepared questions and discussion. Participants are also welcome to bring their own questions and insights. Those who sign up will receive the weekly discussion questions and Zoom link by email on Saturdays. Click on this link to receive the weekly questions and Zoom link
URL:https://www.pointrichmondmethodist.org/event/adult-sunday-school/2027-07-25/
LOCATION:First United Methodist Church of Point Richmond\, 201 Martina Street\, Richmond\, CA\, 94801\, United States
END:VEVENT
BEGIN:VEVENT
DTSTART;TZID=America/Los_Angeles:20270801T100000
DTEND;TZID=America/Los_Angeles:20270801T103000
DTSTAMP:20260424T041821
CREATED:20260331T220109Z
LAST-MODIFIED:20260331T220109Z
UID:10000319-1817114400-1817116200@www.pointrichmondmethodist.org
SUMMARY:Adult Sunday School
DESCRIPTION:Adult Sunday School In Person & via Zoom Join us for Sunday Adult School\, a focused and interactive Bible study. Each week\, we read one chapter from a book of the Bible and reflect together through prepared questions and discussion. Participants are also welcome to bring their own questions and insights. Those who sign up will receive the weekly discussion questions and Zoom link by email on Saturdays. Click on this link to receive the weekly questions and Zoom link
URL:https://www.pointrichmondmethodist.org/event/adult-sunday-school/2027-08-01/
LOCATION:First United Methodist Church of Point Richmond\, 201 Martina Street\, Richmond\, CA\, 94801\, United States
END:VEVENT
BEGIN:VEVENT
DTSTART;TZID=America/Los_Angeles:20270808T100000
DTEND;TZID=America/Los_Angeles:20270808T103000
DTSTAMP:20260424T041821
CREATED:20260331T220109Z
LAST-MODIFIED:20260331T220109Z
UID:10000320-1817719200-1817721000@www.pointrichmondmethodist.org
SUMMARY:Adult Sunday School
DESCRIPTION:Adult Sunday School In Person & via Zoom Join us for Sunday Adult School\, a focused and interactive Bible study. Each week\, we read one chapter from a book of the Bible and reflect together through prepared questions and discussion. Participants are also welcome to bring their own questions and insights. Those who sign up will receive the weekly discussion questions and Zoom link by email on Saturdays. Click on this link to receive the weekly questions and Zoom link
URL:https://www.pointrichmondmethodist.org/event/adult-sunday-school/2027-08-08/
LOCATION:First United Methodist Church of Point Richmond\, 201 Martina Street\, Richmond\, CA\, 94801\, United States
END:VEVENT
BEGIN:VEVENT
DTSTART;TZID=America/Los_Angeles:20270815T100000
DTEND;TZID=America/Los_Angeles:20270815T103000
DTSTAMP:20260424T041821
CREATED:20260331T220109Z
LAST-MODIFIED:20260331T220109Z
UID:10000321-1818324000-1818325800@www.pointrichmondmethodist.org
SUMMARY:Adult Sunday School
DESCRIPTION:Adult Sunday School In Person & via Zoom Join us for Sunday Adult School\, a focused and interactive Bible study. Each week\, we read one chapter from a book of the Bible and reflect together through prepared questions and discussion. Participants are also welcome to bring their own questions and insights. Those who sign up will receive the weekly discussion questions and Zoom link by email on Saturdays. Click on this link to receive the weekly questions and Zoom link
URL:https://www.pointrichmondmethodist.org/event/adult-sunday-school/2027-08-15/
LOCATION:First United Methodist Church of Point Richmond\, 201 Martina Street\, Richmond\, CA\, 94801\, United States
END:VEVENT
BEGIN:VEVENT
DTSTART;TZID=America/Los_Angeles:20270822T100000
DTEND;TZID=America/Los_Angeles:20270822T103000
DTSTAMP:20260424T041821
CREATED:20260331T220109Z
LAST-MODIFIED:20260331T220109Z
UID:10000322-1818928800-1818930600@www.pointrichmondmethodist.org
SUMMARY:Adult Sunday School
DESCRIPTION:Adult Sunday School In Person & via Zoom Join us for Sunday Adult School\, a focused and interactive Bible study. Each week\, we read one chapter from a book of the Bible and reflect together through prepared questions and discussion. Participants are also welcome to bring their own questions and insights. Those who sign up will receive the weekly discussion questions and Zoom link by email on Saturdays. Click on this link to receive the weekly questions and Zoom link
URL:https://www.pointrichmondmethodist.org/event/adult-sunday-school/2027-08-22/
LOCATION:First United Methodist Church of Point Richmond\, 201 Martina Street\, Richmond\, CA\, 94801\, United States
END:VEVENT
BEGIN:VEVENT
DTSTART;TZID=America/Los_Angeles:20270829T100000
DTEND;TZID=America/Los_Angeles:20270829T103000
DTSTAMP:20260424T041821
CREATED:20260331T220109Z
LAST-MODIFIED:20260331T220109Z
UID:10000323-1819533600-1819535400@www.pointrichmondmethodist.org
SUMMARY:Adult Sunday School
DESCRIPTION:Adult Sunday School In Person & via Zoom Join us for Sunday Adult School\, a focused and interactive Bible study. Each week\, we read one chapter from a book of the Bible and reflect together through prepared questions and discussion. Participants are also welcome to bring their own questions and insights. Those who sign up will receive the weekly discussion questions and Zoom link by email on Saturdays. Click on this link to receive the weekly questions and Zoom link
URL:https://www.pointrichmondmethodist.org/event/adult-sunday-school/2027-08-29/
LOCATION:First United Methodist Church of Point Richmond\, 201 Martina Street\, Richmond\, CA\, 94801\, United States
END:VEVENT
END:VCALENDAR