BEGIN:VCALENDAR
VERSION:2.0
PRODID:-//Richmond First United Methodist Church - ECPv6.15.13.1//NONSGML v1.0//EN
CALSCALE:GREGORIAN
METHOD:PUBLISH
X-WR-CALNAME:Richmond First United Methodist Church
X-ORIGINAL-URL:https://www.pointrichmondmethodist.org
X-WR-CALDESC:Events for Richmond First United Methodist Church
REFRESH-INTERVAL;VALUE=DURATION:PT1H
X-Robots-Tag:noindex
X-PUBLISHED-TTL:PT1H
BEGIN:VTIMEZONE
TZID:America/Los_Angeles
BEGIN:DAYLIGHT
TZOFFSETFROM:-0800
TZOFFSETTO:-0700
TZNAME:PDT
DTSTART:20250309T100000
END:DAYLIGHT
BEGIN:STANDARD
TZOFFSETFROM:-0700
TZOFFSETTO:-0800
TZNAME:PST
DTSTART:20251102T090000
END:STANDARD
BEGIN:DAYLIGHT
TZOFFSETFROM:-0800
TZOFFSETTO:-0700
TZNAME:PDT
DTSTART:20260308T100000
END:DAYLIGHT
BEGIN:STANDARD
TZOFFSETFROM:-0700
TZOFFSETTO:-0800
TZNAME:PST
DTSTART:20261101T090000
END:STANDARD
BEGIN:DAYLIGHT
TZOFFSETFROM:-0800
TZOFFSETTO:-0700
TZNAME:PDT
DTSTART:20270314T100000
END:DAYLIGHT
BEGIN:STANDARD
TZOFFSETFROM:-0700
TZOFFSETTO:-0800
TZNAME:PST
DTSTART:20271107T090000
END:STANDARD
END:VTIMEZONE
BEGIN:VEVENT
DTSTART;TZID=America/Los_Angeles:20260803T090000
DTEND;TZID=America/Los_Angeles:20260803T113000
DTSTAMP:20260423T161744
CREATED:20260415T190813Z
LAST-MODIFIED:20260415T190813Z
UID:10000325-1785747600-1785756600@www.pointrichmondmethodist.org
SUMMARY:VACATION BIBLE SCHOOL
DESCRIPTION:VACATION BIBLE SCHOOL for Children ages 4 through grade 6\, lunch for all on Friday. Text Jean to register:  510-734-3942.
URL:https://www.pointrichmondmethodist.org/event/vacation-bible-school/2026-08-03/
END:VEVENT
BEGIN:VEVENT
DTSTART;TZID=America/Los_Angeles:20260804T090000
DTEND;TZID=America/Los_Angeles:20260804T113000
DTSTAMP:20260423T161744
CREATED:20260415T190813Z
LAST-MODIFIED:20260415T190813Z
UID:10000326-1785834000-1785843000@www.pointrichmondmethodist.org
SUMMARY:VACATION BIBLE SCHOOL
DESCRIPTION:VACATION BIBLE SCHOOL for Children ages 4 through grade 6\, lunch for all on Friday. Text Jean to register:  510-734-3942.
URL:https://www.pointrichmondmethodist.org/event/vacation-bible-school/2026-08-04/
END:VEVENT
BEGIN:VEVENT
DTSTART;TZID=America/Los_Angeles:20260805T090000
DTEND;TZID=America/Los_Angeles:20260805T113000
DTSTAMP:20260423T161744
CREATED:20260415T190813Z
LAST-MODIFIED:20260415T190813Z
UID:10000327-1785920400-1785929400@www.pointrichmondmethodist.org
SUMMARY:VACATION BIBLE SCHOOL
DESCRIPTION:VACATION BIBLE SCHOOL for Children ages 4 through grade 6\, lunch for all on Friday. Text Jean to register:  510-734-3942.
URL:https://www.pointrichmondmethodist.org/event/vacation-bible-school/2026-08-05/
END:VEVENT
BEGIN:VEVENT
DTSTART;TZID=America/Los_Angeles:20260806T090000
DTEND;TZID=America/Los_Angeles:20260806T113000
DTSTAMP:20260423T161744
CREATED:20260415T190813Z
LAST-MODIFIED:20260415T190813Z
UID:10000328-1786006800-1786015800@www.pointrichmondmethodist.org
SUMMARY:VACATION BIBLE SCHOOL
DESCRIPTION:VACATION BIBLE SCHOOL for Children ages 4 through grade 6\, lunch for all on Friday. Text Jean to register:  510-734-3942.
URL:https://www.pointrichmondmethodist.org/event/vacation-bible-school/2026-08-06/
END:VEVENT
BEGIN:VEVENT
DTSTART;TZID=America/Los_Angeles:20260807T090000
DTEND;TZID=America/Los_Angeles:20260807T113000
DTSTAMP:20260423T161744
CREATED:20260415T190813Z
LAST-MODIFIED:20260415T190813Z
UID:10000329-1786093200-1786102200@www.pointrichmondmethodist.org
SUMMARY:VACATION BIBLE SCHOOL
DESCRIPTION:VACATION BIBLE SCHOOL for Children ages 4 through grade 6\, lunch for all on Friday. Text Jean to register:  510-734-3942.
URL:https://www.pointrichmondmethodist.org/event/vacation-bible-school/2026-08-07/
END:VEVENT
BEGIN:VEVENT
DTSTART;TZID=America/Los_Angeles:20260808T090000
DTEND;TZID=America/Los_Angeles:20260808T113000
DTSTAMP:20260423T161744
CREATED:20260415T190813Z
LAST-MODIFIED:20260415T190813Z
UID:10000330-1786179600-1786188600@www.pointrichmondmethodist.org
SUMMARY:VACATION BIBLE SCHOOL
DESCRIPTION:VACATION BIBLE SCHOOL for Children ages 4 through grade 6\, lunch for all on Friday. Text Jean to register:  510-734-3942.
URL:https://www.pointrichmondmethodist.org/event/vacation-bible-school/2026-08-08/
END:VEVENT
BEGIN:VEVENT
DTSTART;TZID=America/Los_Angeles:20260809T090000
DTEND;TZID=America/Los_Angeles:20260809T113000
DTSTAMP:20260423T161744
CREATED:20260415T190813Z
LAST-MODIFIED:20260415T190813Z
UID:10000331-1786266000-1786275000@www.pointrichmondmethodist.org
SUMMARY:VACATION BIBLE SCHOOL
DESCRIPTION:VACATION BIBLE SCHOOL for Children ages 4 through grade 6\, lunch for all on Friday. Text Jean to register:  510-734-3942.
URL:https://www.pointrichmondmethodist.org/event/vacation-bible-school/2026-08-09/
END:VEVENT
BEGIN:VEVENT
DTSTART;TZID=America/Los_Angeles:20260810T090000
DTEND;TZID=America/Los_Angeles:20260810T113000
DTSTAMP:20260423T161744
CREATED:20260415T190813Z
LAST-MODIFIED:20260415T190813Z
UID:10000332-1786352400-1786361400@www.pointrichmondmethodist.org
SUMMARY:VACATION BIBLE SCHOOL
DESCRIPTION:VACATION BIBLE SCHOOL for Children ages 4 through grade 6\, lunch for all on Friday. Text Jean to register:  510-734-3942.
URL:https://www.pointrichmondmethodist.org/event/vacation-bible-school/2026-08-10/
END:VEVENT
BEGIN:VEVENT
DTSTART;TZID=America/Los_Angeles:20260811T090000
DTEND;TZID=America/Los_Angeles:20260811T113000
DTSTAMP:20260423T161744
CREATED:20260415T190813Z
LAST-MODIFIED:20260415T190813Z
UID:10000333-1786438800-1786447800@www.pointrichmondmethodist.org
SUMMARY:VACATION BIBLE SCHOOL
DESCRIPTION:VACATION BIBLE SCHOOL for Children ages 4 through grade 6\, lunch for all on Friday. Text Jean to register:  510-734-3942.
URL:https://www.pointrichmondmethodist.org/event/vacation-bible-school/2026-08-11/
END:VEVENT
BEGIN:VEVENT
DTSTART;TZID=America/Los_Angeles:20260812T090000
DTEND;TZID=America/Los_Angeles:20260812T113000
DTSTAMP:20260423T161744
CREATED:20260415T190813Z
LAST-MODIFIED:20260415T190813Z
UID:10000334-1786525200-1786534200@www.pointrichmondmethodist.org
SUMMARY:VACATION BIBLE SCHOOL
DESCRIPTION:VACATION BIBLE SCHOOL for Children ages 4 through grade 6\, lunch for all on Friday. Text Jean to register:  510-734-3942.
URL:https://www.pointrichmondmethodist.org/event/vacation-bible-school/2026-08-12/
END:VEVENT
BEGIN:VEVENT
DTSTART;TZID=America/Los_Angeles:20260813T090000
DTEND;TZID=America/Los_Angeles:20260813T113000
DTSTAMP:20260423T161744
CREATED:20260415T190813Z
LAST-MODIFIED:20260415T190813Z
UID:10000335-1786611600-1786620600@www.pointrichmondmethodist.org
SUMMARY:VACATION BIBLE SCHOOL
DESCRIPTION:VACATION BIBLE SCHOOL for Children ages 4 through grade 6\, lunch for all on Friday. Text Jean to register:  510-734-3942.
URL:https://www.pointrichmondmethodist.org/event/vacation-bible-school/2026-08-13/
END:VEVENT
BEGIN:VEVENT
DTSTART;TZID=America/Los_Angeles:20260814T090000
DTEND;TZID=America/Los_Angeles:20260814T113000
DTSTAMP:20260423T161744
CREATED:20260415T190813Z
LAST-MODIFIED:20260415T190813Z
UID:10000336-1786698000-1786707000@www.pointrichmondmethodist.org
SUMMARY:VACATION BIBLE SCHOOL
DESCRIPTION:VACATION BIBLE SCHOOL for Children ages 4 through grade 6\, lunch for all on Friday. Text Jean to register:  510-734-3942.
URL:https://www.pointrichmondmethodist.org/event/vacation-bible-school/2026-08-14/
END:VEVENT
BEGIN:VEVENT
DTSTART;TZID=America/Los_Angeles:20260815T090000
DTEND;TZID=America/Los_Angeles:20260815T113000
DTSTAMP:20260423T161744
CREATED:20260415T190813Z
LAST-MODIFIED:20260415T190813Z
UID:10000337-1786784400-1786793400@www.pointrichmondmethodist.org
SUMMARY:VACATION BIBLE SCHOOL
DESCRIPTION:VACATION BIBLE SCHOOL for Children ages 4 through grade 6\, lunch for all on Friday. Text Jean to register:  510-734-3942.
URL:https://www.pointrichmondmethodist.org/event/vacation-bible-school/2026-08-15/
END:VEVENT
BEGIN:VEVENT
DTSTART;TZID=America/Los_Angeles:20260816T090000
DTEND;TZID=America/Los_Angeles:20260816T113000
DTSTAMP:20260423T161744
CREATED:20260415T190813Z
LAST-MODIFIED:20260415T190813Z
UID:10000338-1786870800-1786879800@www.pointrichmondmethodist.org
SUMMARY:VACATION BIBLE SCHOOL
DESCRIPTION:VACATION BIBLE SCHOOL for Children ages 4 through grade 6\, lunch for all on Friday. Text Jean to register:  510-734-3942.
URL:https://www.pointrichmondmethodist.org/event/vacation-bible-school/2026-08-16/
END:VEVENT
BEGIN:VEVENT
DTSTART;TZID=America/Los_Angeles:20260817T090000
DTEND;TZID=America/Los_Angeles:20260817T113000
DTSTAMP:20260423T161744
CREATED:20260415T190813Z
LAST-MODIFIED:20260415T190813Z
UID:10000339-1786957200-1786966200@www.pointrichmondmethodist.org
SUMMARY:VACATION BIBLE SCHOOL
DESCRIPTION:VACATION BIBLE SCHOOL for Children ages 4 through grade 6\, lunch for all on Friday. Text Jean to register:  510-734-3942.
URL:https://www.pointrichmondmethodist.org/event/vacation-bible-school/2026-08-17/
END:VEVENT
BEGIN:VEVENT
DTSTART;TZID=America/Los_Angeles:20260818T090000
DTEND;TZID=America/Los_Angeles:20260818T113000
DTSTAMP:20260423T161744
CREATED:20260415T190813Z
LAST-MODIFIED:20260415T190813Z
UID:10000340-1787043600-1787052600@www.pointrichmondmethodist.org
SUMMARY:VACATION BIBLE SCHOOL
DESCRIPTION:VACATION BIBLE SCHOOL for Children ages 4 through grade 6\, lunch for all on Friday. Text Jean to register:  510-734-3942.
URL:https://www.pointrichmondmethodist.org/event/vacation-bible-school/2026-08-18/
END:VEVENT
BEGIN:VEVENT
DTSTART;TZID=America/Los_Angeles:20260819T090000
DTEND;TZID=America/Los_Angeles:20260819T113000
DTSTAMP:20260423T161744
CREATED:20260415T190813Z
LAST-MODIFIED:20260415T190813Z
UID:10000341-1787130000-1787139000@www.pointrichmondmethodist.org
SUMMARY:VACATION BIBLE SCHOOL
DESCRIPTION:VACATION BIBLE SCHOOL for Children ages 4 through grade 6\, lunch for all on Friday. Text Jean to register:  510-734-3942.
URL:https://www.pointrichmondmethodist.org/event/vacation-bible-school/2026-08-19/
END:VEVENT
BEGIN:VEVENT
DTSTART;TZID=America/Los_Angeles:20260820T090000
DTEND;TZID=America/Los_Angeles:20260820T113000
DTSTAMP:20260423T161744
CREATED:20260415T190813Z
LAST-MODIFIED:20260415T190813Z
UID:10000342-1787216400-1787225400@www.pointrichmondmethodist.org
SUMMARY:VACATION BIBLE SCHOOL
DESCRIPTION:VACATION BIBLE SCHOOL for Children ages 4 through grade 6\, lunch for all on Friday. Text Jean to register:  510-734-3942.
URL:https://www.pointrichmondmethodist.org/event/vacation-bible-school/2026-08-20/
END:VEVENT
BEGIN:VEVENT
DTSTART;TZID=America/Los_Angeles:20260821T090000
DTEND;TZID=America/Los_Angeles:20260821T113000
DTSTAMP:20260423T161744
CREATED:20260415T190813Z
LAST-MODIFIED:20260415T190813Z
UID:10000343-1787302800-1787311800@www.pointrichmondmethodist.org
SUMMARY:VACATION BIBLE SCHOOL
DESCRIPTION:VACATION BIBLE SCHOOL for Children ages 4 through grade 6\, lunch for all on Friday. Text Jean to register:  510-734-3942.
URL:https://www.pointrichmondmethodist.org/event/vacation-bible-school/2026-08-21/
END:VEVENT
BEGIN:VEVENT
DTSTART;TZID=America/Los_Angeles:20260822T090000
DTEND;TZID=America/Los_Angeles:20260822T113000
DTSTAMP:20260423T161744
CREATED:20260415T190813Z
LAST-MODIFIED:20260415T190813Z
UID:10000344-1787389200-1787398200@www.pointrichmondmethodist.org
SUMMARY:VACATION BIBLE SCHOOL
DESCRIPTION:VACATION BIBLE SCHOOL for Children ages 4 through grade 6\, lunch for all on Friday. Text Jean to register:  510-734-3942.
URL:https://www.pointrichmondmethodist.org/event/vacation-bible-school/2026-08-22/
END:VEVENT
BEGIN:VEVENT
DTSTART;TZID=America/Los_Angeles:20260823T090000
DTEND;TZID=America/Los_Angeles:20260823T113000
DTSTAMP:20260423T161744
CREATED:20260415T190813Z
LAST-MODIFIED:20260415T190813Z
UID:10000345-1787475600-1787484600@www.pointrichmondmethodist.org
SUMMARY:VACATION BIBLE SCHOOL
DESCRIPTION:VACATION BIBLE SCHOOL for Children ages 4 through grade 6\, lunch for all on Friday. Text Jean to register:  510-734-3942.
URL:https://www.pointrichmondmethodist.org/event/vacation-bible-school/2026-08-23/
END:VEVENT
BEGIN:VEVENT
DTSTART;TZID=America/Los_Angeles:20260824T090000
DTEND;TZID=America/Los_Angeles:20260824T113000
DTSTAMP:20260423T161744
CREATED:20260415T190813Z
LAST-MODIFIED:20260415T190813Z
UID:10000346-1787562000-1787571000@www.pointrichmondmethodist.org
SUMMARY:VACATION BIBLE SCHOOL
DESCRIPTION:VACATION BIBLE SCHOOL for Children ages 4 through grade 6\, lunch for all on Friday. Text Jean to register:  510-734-3942.
URL:https://www.pointrichmondmethodist.org/event/vacation-bible-school/2026-08-24/
END:VEVENT
BEGIN:VEVENT
DTSTART;TZID=America/Los_Angeles:20260825T090000
DTEND;TZID=America/Los_Angeles:20260825T113000
DTSTAMP:20260423T161744
CREATED:20260415T190813Z
LAST-MODIFIED:20260415T190813Z
UID:10000347-1787648400-1787657400@www.pointrichmondmethodist.org
SUMMARY:VACATION BIBLE SCHOOL
DESCRIPTION:VACATION BIBLE SCHOOL for Children ages 4 through grade 6\, lunch for all on Friday. Text Jean to register:  510-734-3942.
URL:https://www.pointrichmondmethodist.org/event/vacation-bible-school/2026-08-25/
END:VEVENT
BEGIN:VEVENT
DTSTART;TZID=America/Los_Angeles:20260826T090000
DTEND;TZID=America/Los_Angeles:20260826T113000
DTSTAMP:20260423T161744
CREATED:20260415T190813Z
LAST-MODIFIED:20260415T190813Z
UID:10000348-1787734800-1787743800@www.pointrichmondmethodist.org
SUMMARY:VACATION BIBLE SCHOOL
DESCRIPTION:VACATION BIBLE SCHOOL for Children ages 4 through grade 6\, lunch for all on Friday. Text Jean to register:  510-734-3942.
URL:https://www.pointrichmondmethodist.org/event/vacation-bible-school/2026-08-26/
END:VEVENT
BEGIN:VEVENT
DTSTART;TZID=America/Los_Angeles:20260827T090000
DTEND;TZID=America/Los_Angeles:20260827T113000
DTSTAMP:20260423T161744
CREATED:20260415T190813Z
LAST-MODIFIED:20260415T190813Z
UID:10000349-1787821200-1787830200@www.pointrichmondmethodist.org
SUMMARY:VACATION BIBLE SCHOOL
DESCRIPTION:VACATION BIBLE SCHOOL for Children ages 4 through grade 6\, lunch for all on Friday. Text Jean to register:  510-734-3942.
URL:https://www.pointrichmondmethodist.org/event/vacation-bible-school/2026-08-27/
END:VEVENT
BEGIN:VEVENT
DTSTART;TZID=America/Los_Angeles:20260828T090000
DTEND;TZID=America/Los_Angeles:20260828T113000
DTSTAMP:20260423T161744
CREATED:20260415T190813Z
LAST-MODIFIED:20260415T190813Z
UID:10000350-1787907600-1787916600@www.pointrichmondmethodist.org
SUMMARY:VACATION BIBLE SCHOOL
DESCRIPTION:VACATION BIBLE SCHOOL for Children ages 4 through grade 6\, lunch for all on Friday. Text Jean to register:  510-734-3942.
URL:https://www.pointrichmondmethodist.org/event/vacation-bible-school/2026-08-28/
END:VEVENT
BEGIN:VEVENT
DTSTART;TZID=America/Los_Angeles:20260829T090000
DTEND;TZID=America/Los_Angeles:20260829T113000
DTSTAMP:20260423T161744
CREATED:20260415T190813Z
LAST-MODIFIED:20260415T190813Z
UID:10000351-1787994000-1788003000@www.pointrichmondmethodist.org
SUMMARY:VACATION BIBLE SCHOOL
DESCRIPTION:VACATION BIBLE SCHOOL for Children ages 4 through grade 6\, lunch for all on Friday. Text Jean to register:  510-734-3942.
URL:https://www.pointrichmondmethodist.org/event/vacation-bible-school/2026-08-29/
END:VEVENT
BEGIN:VEVENT
DTSTART;TZID=America/Los_Angeles:20260830T090000
DTEND;TZID=America/Los_Angeles:20260830T113000
DTSTAMP:20260423T161744
CREATED:20260415T190813Z
LAST-MODIFIED:20260415T190813Z
UID:10000352-1788080400-1788089400@www.pointrichmondmethodist.org
SUMMARY:VACATION BIBLE SCHOOL
DESCRIPTION:VACATION BIBLE SCHOOL for Children ages 4 through grade 6\, lunch for all on Friday. Text Jean to register:  510-734-3942.
URL:https://www.pointrichmondmethodist.org/event/vacation-bible-school/2026-08-30/
END:VEVENT
BEGIN:VEVENT
DTSTART;TZID=America/Los_Angeles:20260831T090000
DTEND;TZID=America/Los_Angeles:20260831T113000
DTSTAMP:20260423T161744
CREATED:20260415T190813Z
LAST-MODIFIED:20260415T190813Z
UID:10000353-1788166800-1788175800@www.pointrichmondmethodist.org
SUMMARY:VACATION BIBLE SCHOOL
DESCRIPTION:VACATION BIBLE SCHOOL for Children ages 4 through grade 6\, lunch for all on Friday. Text Jean to register:  510-734-3942.
URL:https://www.pointrichmondmethodist.org/event/vacation-bible-school/2026-08-31/
END:VEVENT
BEGIN:VEVENT
DTSTART;TZID=America/Los_Angeles:20260901T090000
DTEND;TZID=America/Los_Angeles:20260901T113000
DTSTAMP:20260423T161744
CREATED:20260415T190813Z
LAST-MODIFIED:20260415T190813Z
UID:10000354-1788253200-1788262200@www.pointrichmondmethodist.org
SUMMARY:VACATION BIBLE SCHOOL
DESCRIPTION:VACATION BIBLE SCHOOL for Children ages 4 through grade 6\, lunch for all on Friday. Text Jean to register:  510-734-3942.
URL:https://www.pointrichmondmethodist.org/event/vacation-bible-school/2026-09-01/
END:VEVENT
END:VCALENDAR