BEGIN:VCALENDAR
VERSION:2.0
PRODID:-//Richmond First United Methodist Church - ECPv6.15.13.1//NONSGML v1.0//EN
CALSCALE:GREGORIAN
METHOD:PUBLISH
X-WR-CALNAME:Richmond First United Methodist Church
X-ORIGINAL-URL:https://www.pointrichmondmethodist.org
X-WR-CALDESC:Events for Richmond First United Methodist Church
REFRESH-INTERVAL;VALUE=DURATION:PT1H
X-Robots-Tag:noindex
X-PUBLISHED-TTL:PT1H
BEGIN:VTIMEZONE
TZID:America/Los_Angeles
BEGIN:DAYLIGHT
TZOFFSETFROM:-0800
TZOFFSETTO:-0700
TZNAME:PDT
DTSTART:20250309T100000
END:DAYLIGHT
BEGIN:STANDARD
TZOFFSETFROM:-0700
TZOFFSETTO:-0800
TZNAME:PST
DTSTART:20251102T090000
END:STANDARD
BEGIN:DAYLIGHT
TZOFFSETFROM:-0800
TZOFFSETTO:-0700
TZNAME:PDT
DTSTART:20260308T100000
END:DAYLIGHT
BEGIN:STANDARD
TZOFFSETFROM:-0700
TZOFFSETTO:-0800
TZNAME:PST
DTSTART:20261101T090000
END:STANDARD
BEGIN:DAYLIGHT
TZOFFSETFROM:-0800
TZOFFSETTO:-0700
TZNAME:PDT
DTSTART:20270314T100000
END:DAYLIGHT
BEGIN:STANDARD
TZOFFSETFROM:-0700
TZOFFSETTO:-0800
TZNAME:PST
DTSTART:20271107T090000
END:STANDARD
END:VTIMEZONE
BEGIN:VEVENT
DTSTART;TZID=America/Los_Angeles:20260429T093000
DTEND;TZID=America/Los_Angeles:20260429T103000
DTSTAMP:20260423T084417
CREATED:20260224T211325Z
LAST-MODIFIED:20260331T220641Z
UID:10000141-1777455000-1777458600@www.pointrichmondmethodist.org
SUMMARY:Join Our Wednesday Book Study Group
DESCRIPTION:Join our book study!\nClick here to view the book and chapter we are currently reading.\nIf you would like to receive Book Study information via email\, contact Jean Reynolds.
URL:https://www.pointrichmondmethodist.org/event/join-our-wednesday-book-study-group/2026-04-29/
LOCATION:
END:VEVENT
BEGIN:VEVENT
DTSTART;TZID=America/Los_Angeles:20260506T093000
DTEND;TZID=America/Los_Angeles:20260506T103000
DTSTAMP:20260423T084417
CREATED:20260224T211325Z
LAST-MODIFIED:20260331T220641Z
UID:10000142-1778059800-1778063400@www.pointrichmondmethodist.org
SUMMARY:Join Our Wednesday Book Study Group
DESCRIPTION:Join our book study!\nClick here to view the book and chapter we are currently reading.\nIf you would like to receive Book Study information via email\, contact Jean Reynolds.
URL:https://www.pointrichmondmethodist.org/event/join-our-wednesday-book-study-group/2026-05-06/
LOCATION:
END:VEVENT
BEGIN:VEVENT
DTSTART;TZID=America/Los_Angeles:20260513T093000
DTEND;TZID=America/Los_Angeles:20260513T103000
DTSTAMP:20260423T084417
CREATED:20260224T211325Z
LAST-MODIFIED:20260331T220641Z
UID:10000143-1778664600-1778668200@www.pointrichmondmethodist.org
SUMMARY:Join Our Wednesday Book Study Group
DESCRIPTION:Join our book study!\nClick here to view the book and chapter we are currently reading.\nIf you would like to receive Book Study information via email\, contact Jean Reynolds.
URL:https://www.pointrichmondmethodist.org/event/join-our-wednesday-book-study-group/2026-05-13/
LOCATION:
END:VEVENT
BEGIN:VEVENT
DTSTART;TZID=America/Los_Angeles:20260520T093000
DTEND;TZID=America/Los_Angeles:20260520T103000
DTSTAMP:20260423T084417
CREATED:20260224T211325Z
LAST-MODIFIED:20260331T220641Z
UID:10000144-1779269400-1779273000@www.pointrichmondmethodist.org
SUMMARY:Join Our Wednesday Book Study Group
DESCRIPTION:Join our book study!\nClick here to view the book and chapter we are currently reading.\nIf you would like to receive Book Study information via email\, contact Jean Reynolds.
URL:https://www.pointrichmondmethodist.org/event/join-our-wednesday-book-study-group/2026-05-20/
LOCATION:
END:VEVENT
BEGIN:VEVENT
DTSTART;TZID=America/Los_Angeles:20260527T093000
DTEND;TZID=America/Los_Angeles:20260527T103000
DTSTAMP:20260423T084417
CREATED:20260224T211325Z
LAST-MODIFIED:20260331T220641Z
UID:10000145-1779874200-1779877800@www.pointrichmondmethodist.org
SUMMARY:Join Our Wednesday Book Study Group
DESCRIPTION:Join our book study!\nClick here to view the book and chapter we are currently reading.\nIf you would like to receive Book Study information via email\, contact Jean Reynolds.
URL:https://www.pointrichmondmethodist.org/event/join-our-wednesday-book-study-group/2026-05-27/
LOCATION:
END:VEVENT
BEGIN:VEVENT
DTSTART;TZID=America/Los_Angeles:20260603T093000
DTEND;TZID=America/Los_Angeles:20260603T103000
DTSTAMP:20260423T084417
CREATED:20260224T211325Z
LAST-MODIFIED:20260331T220641Z
UID:10000146-1780479000-1780482600@www.pointrichmondmethodist.org
SUMMARY:Join Our Wednesday Book Study Group
DESCRIPTION:Join our book study!\nClick here to view the book and chapter we are currently reading.\nIf you would like to receive Book Study information via email\, contact Jean Reynolds.
URL:https://www.pointrichmondmethodist.org/event/join-our-wednesday-book-study-group/2026-06-03/
LOCATION:
END:VEVENT
BEGIN:VEVENT
DTSTART;TZID=America/Los_Angeles:20260610T093000
DTEND;TZID=America/Los_Angeles:20260610T103000
DTSTAMP:20260423T084417
CREATED:20260224T211325Z
LAST-MODIFIED:20260331T220641Z
UID:10000147-1781083800-1781087400@www.pointrichmondmethodist.org
SUMMARY:Join Our Wednesday Book Study Group
DESCRIPTION:Join our book study!\nClick here to view the book and chapter we are currently reading.\nIf you would like to receive Book Study information via email\, contact Jean Reynolds.
URL:https://www.pointrichmondmethodist.org/event/join-our-wednesday-book-study-group/2026-06-10/
LOCATION:
END:VEVENT
BEGIN:VEVENT
DTSTART;TZID=America/Los_Angeles:20260617T093000
DTEND;TZID=America/Los_Angeles:20260617T103000
DTSTAMP:20260423T084417
CREATED:20260224T211325Z
LAST-MODIFIED:20260331T220641Z
UID:10000148-1781688600-1781692200@www.pointrichmondmethodist.org
SUMMARY:Join Our Wednesday Book Study Group
DESCRIPTION:Join our book study!\nClick here to view the book and chapter we are currently reading.\nIf you would like to receive Book Study information via email\, contact Jean Reynolds.
URL:https://www.pointrichmondmethodist.org/event/join-our-wednesday-book-study-group/2026-06-17/
LOCATION:
END:VEVENT
BEGIN:VEVENT
DTSTART;TZID=America/Los_Angeles:20260624T093000
DTEND;TZID=America/Los_Angeles:20260624T103000
DTSTAMP:20260423T084417
CREATED:20260224T211325Z
LAST-MODIFIED:20260331T220641Z
UID:10000149-1782293400-1782297000@www.pointrichmondmethodist.org
SUMMARY:Join Our Wednesday Book Study Group
DESCRIPTION:Join our book study!\nClick here to view the book and chapter we are currently reading.\nIf you would like to receive Book Study information via email\, contact Jean Reynolds.
URL:https://www.pointrichmondmethodist.org/event/join-our-wednesday-book-study-group/2026-06-24/
LOCATION:
END:VEVENT
BEGIN:VEVENT
DTSTART;TZID=America/Los_Angeles:20260701T093000
DTEND;TZID=America/Los_Angeles:20260701T103000
DTSTAMP:20260423T084417
CREATED:20260224T211325Z
LAST-MODIFIED:20260331T220641Z
UID:10000150-1782898200-1782901800@www.pointrichmondmethodist.org
SUMMARY:Join Our Wednesday Book Study Group
DESCRIPTION:Join our book study!\nClick here to view the book and chapter we are currently reading.\nIf you would like to receive Book Study information via email\, contact Jean Reynolds.
URL:https://www.pointrichmondmethodist.org/event/join-our-wednesday-book-study-group/2026-07-01/
LOCATION:
END:VEVENT
BEGIN:VEVENT
DTSTART;TZID=America/Los_Angeles:20260708T093000
DTEND;TZID=America/Los_Angeles:20260708T103000
DTSTAMP:20260423T084417
CREATED:20260224T211325Z
LAST-MODIFIED:20260331T220641Z
UID:10000151-1783503000-1783506600@www.pointrichmondmethodist.org
SUMMARY:Join Our Wednesday Book Study Group
DESCRIPTION:Join our book study!\nClick here to view the book and chapter we are currently reading.\nIf you would like to receive Book Study information via email\, contact Jean Reynolds.
URL:https://www.pointrichmondmethodist.org/event/join-our-wednesday-book-study-group/2026-07-08/
LOCATION:
END:VEVENT
BEGIN:VEVENT
DTSTART;TZID=America/Los_Angeles:20260715T093000
DTEND;TZID=America/Los_Angeles:20260715T103000
DTSTAMP:20260423T084417
CREATED:20260224T211325Z
LAST-MODIFIED:20260331T220641Z
UID:10000152-1784107800-1784111400@www.pointrichmondmethodist.org
SUMMARY:Join Our Wednesday Book Study Group
DESCRIPTION:Join our book study!\nClick here to view the book and chapter we are currently reading.\nIf you would like to receive Book Study information via email\, contact Jean Reynolds.
URL:https://www.pointrichmondmethodist.org/event/join-our-wednesday-book-study-group/2026-07-15/
LOCATION:
END:VEVENT
BEGIN:VEVENT
DTSTART;TZID=America/Los_Angeles:20260722T093000
DTEND;TZID=America/Los_Angeles:20260722T103000
DTSTAMP:20260423T084417
CREATED:20260224T211325Z
LAST-MODIFIED:20260331T220641Z
UID:10000153-1784712600-1784716200@www.pointrichmondmethodist.org
SUMMARY:Join Our Wednesday Book Study Group
DESCRIPTION:Join our book study!\nClick here to view the book and chapter we are currently reading.\nIf you would like to receive Book Study information via email\, contact Jean Reynolds.
URL:https://www.pointrichmondmethodist.org/event/join-our-wednesday-book-study-group/2026-07-22/
LOCATION:
END:VEVENT
BEGIN:VEVENT
DTSTART;TZID=America/Los_Angeles:20260729T093000
DTEND;TZID=America/Los_Angeles:20260729T103000
DTSTAMP:20260423T084417
CREATED:20260224T211325Z
LAST-MODIFIED:20260331T220641Z
UID:10000154-1785317400-1785321000@www.pointrichmondmethodist.org
SUMMARY:Join Our Wednesday Book Study Group
DESCRIPTION:Join our book study!\nClick here to view the book and chapter we are currently reading.\nIf you would like to receive Book Study information via email\, contact Jean Reynolds.
URL:https://www.pointrichmondmethodist.org/event/join-our-wednesday-book-study-group/2026-07-29/
LOCATION:
END:VEVENT
BEGIN:VEVENT
DTSTART;TZID=America/Los_Angeles:20260805T093000
DTEND;TZID=America/Los_Angeles:20260805T103000
DTSTAMP:20260423T084417
CREATED:20260224T211325Z
LAST-MODIFIED:20260331T220641Z
UID:10000155-1785922200-1785925800@www.pointrichmondmethodist.org
SUMMARY:Join Our Wednesday Book Study Group
DESCRIPTION:Join our book study!\nClick here to view the book and chapter we are currently reading.\nIf you would like to receive Book Study information via email\, contact Jean Reynolds.
URL:https://www.pointrichmondmethodist.org/event/join-our-wednesday-book-study-group/2026-08-05/
LOCATION:
END:VEVENT
BEGIN:VEVENT
DTSTART;TZID=America/Los_Angeles:20260812T093000
DTEND;TZID=America/Los_Angeles:20260812T103000
DTSTAMP:20260423T084417
CREATED:20260224T211325Z
LAST-MODIFIED:20260331T220641Z
UID:10000156-1786527000-1786530600@www.pointrichmondmethodist.org
SUMMARY:Join Our Wednesday Book Study Group
DESCRIPTION:Join our book study!\nClick here to view the book and chapter we are currently reading.\nIf you would like to receive Book Study information via email\, contact Jean Reynolds.
URL:https://www.pointrichmondmethodist.org/event/join-our-wednesday-book-study-group/2026-08-12/
LOCATION:
END:VEVENT
BEGIN:VEVENT
DTSTART;TZID=America/Los_Angeles:20260819T093000
DTEND;TZID=America/Los_Angeles:20260819T103000
DTSTAMP:20260423T084417
CREATED:20260224T211325Z
LAST-MODIFIED:20260331T220641Z
UID:10000157-1787131800-1787135400@www.pointrichmondmethodist.org
SUMMARY:Join Our Wednesday Book Study Group
DESCRIPTION:Join our book study!\nClick here to view the book and chapter we are currently reading.\nIf you would like to receive Book Study information via email\, contact Jean Reynolds.
URL:https://www.pointrichmondmethodist.org/event/join-our-wednesday-book-study-group/2026-08-19/
LOCATION:
END:VEVENT
BEGIN:VEVENT
DTSTART;TZID=America/Los_Angeles:20260826T093000
DTEND;TZID=America/Los_Angeles:20260826T103000
DTSTAMP:20260423T084417
CREATED:20260224T211325Z
LAST-MODIFIED:20260331T220641Z
UID:10000158-1787736600-1787740200@www.pointrichmondmethodist.org
SUMMARY:Join Our Wednesday Book Study Group
DESCRIPTION:Join our book study!\nClick here to view the book and chapter we are currently reading.\nIf you would like to receive Book Study information via email\, contact Jean Reynolds.
URL:https://www.pointrichmondmethodist.org/event/join-our-wednesday-book-study-group/2026-08-26/
LOCATION:
END:VEVENT
BEGIN:VEVENT
DTSTART;TZID=America/Los_Angeles:20260902T093000
DTEND;TZID=America/Los_Angeles:20260902T103000
DTSTAMP:20260423T084417
CREATED:20260224T211325Z
LAST-MODIFIED:20260331T220641Z
UID:10000159-1788341400-1788345000@www.pointrichmondmethodist.org
SUMMARY:Join Our Wednesday Book Study Group
DESCRIPTION:Join our book study!\nClick here to view the book and chapter we are currently reading.\nIf you would like to receive Book Study information via email\, contact Jean Reynolds.
URL:https://www.pointrichmondmethodist.org/event/join-our-wednesday-book-study-group/2026-09-02/
LOCATION:
END:VEVENT
BEGIN:VEVENT
DTSTART;TZID=America/Los_Angeles:20260909T093000
DTEND;TZID=America/Los_Angeles:20260909T103000
DTSTAMP:20260423T084417
CREATED:20260224T211325Z
LAST-MODIFIED:20260331T220641Z
UID:10000160-1788946200-1788949800@www.pointrichmondmethodist.org
SUMMARY:Join Our Wednesday Book Study Group
DESCRIPTION:Join our book study!\nClick here to view the book and chapter we are currently reading.\nIf you would like to receive Book Study information via email\, contact Jean Reynolds.
URL:https://www.pointrichmondmethodist.org/event/join-our-wednesday-book-study-group/2026-09-09/
LOCATION:
END:VEVENT
BEGIN:VEVENT
DTSTART;TZID=America/Los_Angeles:20260916T093000
DTEND;TZID=America/Los_Angeles:20260916T103000
DTSTAMP:20260423T084417
CREATED:20260224T211325Z
LAST-MODIFIED:20260331T220641Z
UID:10000161-1789551000-1789554600@www.pointrichmondmethodist.org
SUMMARY:Join Our Wednesday Book Study Group
DESCRIPTION:Join our book study!\nClick here to view the book and chapter we are currently reading.\nIf you would like to receive Book Study information via email\, contact Jean Reynolds.
URL:https://www.pointrichmondmethodist.org/event/join-our-wednesday-book-study-group/2026-09-16/
LOCATION:
END:VEVENT
BEGIN:VEVENT
DTSTART;TZID=America/Los_Angeles:20260923T093000
DTEND;TZID=America/Los_Angeles:20260923T103000
DTSTAMP:20260423T084417
CREATED:20260224T211325Z
LAST-MODIFIED:20260331T220641Z
UID:10000162-1790155800-1790159400@www.pointrichmondmethodist.org
SUMMARY:Join Our Wednesday Book Study Group
DESCRIPTION:Join our book study!\nClick here to view the book and chapter we are currently reading.\nIf you would like to receive Book Study information via email\, contact Jean Reynolds.
URL:https://www.pointrichmondmethodist.org/event/join-our-wednesday-book-study-group/2026-09-23/
LOCATION:
END:VEVENT
BEGIN:VEVENT
DTSTART;TZID=America/Los_Angeles:20260930T093000
DTEND;TZID=America/Los_Angeles:20260930T103000
DTSTAMP:20260423T084417
CREATED:20260224T211325Z
LAST-MODIFIED:20260331T220641Z
UID:10000163-1790760600-1790764200@www.pointrichmondmethodist.org
SUMMARY:Join Our Wednesday Book Study Group
DESCRIPTION:Join our book study!\nClick here to view the book and chapter we are currently reading.\nIf you would like to receive Book Study information via email\, contact Jean Reynolds.
URL:https://www.pointrichmondmethodist.org/event/join-our-wednesday-book-study-group/2026-09-30/
LOCATION:
END:VEVENT
BEGIN:VEVENT
DTSTART;TZID=America/Los_Angeles:20261007T093000
DTEND;TZID=America/Los_Angeles:20261007T103000
DTSTAMP:20260423T084417
CREATED:20260224T211325Z
LAST-MODIFIED:20260331T220641Z
UID:10000164-1791365400-1791369000@www.pointrichmondmethodist.org
SUMMARY:Join Our Wednesday Book Study Group
DESCRIPTION:Join our book study!\nClick here to view the book and chapter we are currently reading.\nIf you would like to receive Book Study information via email\, contact Jean Reynolds.
URL:https://www.pointrichmondmethodist.org/event/join-our-wednesday-book-study-group/2026-10-07/
LOCATION:
END:VEVENT
BEGIN:VEVENT
DTSTART;TZID=America/Los_Angeles:20261014T093000
DTEND;TZID=America/Los_Angeles:20261014T103000
DTSTAMP:20260423T084417
CREATED:20260224T211325Z
LAST-MODIFIED:20260331T220641Z
UID:10000165-1791970200-1791973800@www.pointrichmondmethodist.org
SUMMARY:Join Our Wednesday Book Study Group
DESCRIPTION:Join our book study!\nClick here to view the book and chapter we are currently reading.\nIf you would like to receive Book Study information via email\, contact Jean Reynolds.
URL:https://www.pointrichmondmethodist.org/event/join-our-wednesday-book-study-group/2026-10-14/
LOCATION:
END:VEVENT
BEGIN:VEVENT
DTSTART;TZID=America/Los_Angeles:20261021T093000
DTEND;TZID=America/Los_Angeles:20261021T103000
DTSTAMP:20260423T084417
CREATED:20260224T211325Z
LAST-MODIFIED:20260331T220641Z
UID:10000166-1792575000-1792578600@www.pointrichmondmethodist.org
SUMMARY:Join Our Wednesday Book Study Group
DESCRIPTION:Join our book study!\nClick here to view the book and chapter we are currently reading.\nIf you would like to receive Book Study information via email\, contact Jean Reynolds.
URL:https://www.pointrichmondmethodist.org/event/join-our-wednesday-book-study-group/2026-10-21/
LOCATION:
END:VEVENT
BEGIN:VEVENT
DTSTART;TZID=America/Los_Angeles:20261028T093000
DTEND;TZID=America/Los_Angeles:20261028T103000
DTSTAMP:20260423T084417
CREATED:20260224T211325Z
LAST-MODIFIED:20260331T220641Z
UID:10000167-1793179800-1793183400@www.pointrichmondmethodist.org
SUMMARY:Join Our Wednesday Book Study Group
DESCRIPTION:Join our book study!\nClick here to view the book and chapter we are currently reading.\nIf you would like to receive Book Study information via email\, contact Jean Reynolds.
URL:https://www.pointrichmondmethodist.org/event/join-our-wednesday-book-study-group/2026-10-28/
LOCATION:
END:VEVENT
BEGIN:VEVENT
DTSTART;TZID=America/Los_Angeles:20261104T093000
DTEND;TZID=America/Los_Angeles:20261104T103000
DTSTAMP:20260423T084417
CREATED:20260224T211325Z
LAST-MODIFIED:20260331T220641Z
UID:10000168-1793784600-1793788200@www.pointrichmondmethodist.org
SUMMARY:Join Our Wednesday Book Study Group
DESCRIPTION:Join our book study!\nClick here to view the book and chapter we are currently reading.\nIf you would like to receive Book Study information via email\, contact Jean Reynolds.
URL:https://www.pointrichmondmethodist.org/event/join-our-wednesday-book-study-group/2026-11-04/
LOCATION:
END:VEVENT
BEGIN:VEVENT
DTSTART;TZID=America/Los_Angeles:20261111T093000
DTEND;TZID=America/Los_Angeles:20261111T103000
DTSTAMP:20260423T084417
CREATED:20260224T211325Z
LAST-MODIFIED:20260331T220641Z
UID:10000169-1794389400-1794393000@www.pointrichmondmethodist.org
SUMMARY:Join Our Wednesday Book Study Group
DESCRIPTION:Join our book study!\nClick here to view the book and chapter we are currently reading.\nIf you would like to receive Book Study information via email\, contact Jean Reynolds.
URL:https://www.pointrichmondmethodist.org/event/join-our-wednesday-book-study-group/2026-11-11/
LOCATION:
END:VEVENT
BEGIN:VEVENT
DTSTART;TZID=America/Los_Angeles:20261118T093000
DTEND;TZID=America/Los_Angeles:20261118T103000
DTSTAMP:20260423T084417
CREATED:20260224T211325Z
LAST-MODIFIED:20260331T220641Z
UID:10000170-1794994200-1794997800@www.pointrichmondmethodist.org
SUMMARY:Join Our Wednesday Book Study Group
DESCRIPTION:Join our book study!\nClick here to view the book and chapter we are currently reading.\nIf you would like to receive Book Study information via email\, contact Jean Reynolds.
URL:https://www.pointrichmondmethodist.org/event/join-our-wednesday-book-study-group/2026-11-18/
LOCATION:
END:VEVENT
END:VCALENDAR