BEGIN:VCALENDAR
VERSION:2.0
PRODID:-//Richmond First United Methodist Church - ECPv6.15.13.1//NONSGML v1.0//EN
CALSCALE:GREGORIAN
METHOD:PUBLISH
X-WR-CALNAME:Richmond First United Methodist Church
X-ORIGINAL-URL:https://www.pointrichmondmethodist.org
X-WR-CALDESC:Events for Richmond First United Methodist Church
REFRESH-INTERVAL;VALUE=DURATION:PT1H
X-Robots-Tag:noindex
X-PUBLISHED-TTL:PT1H
BEGIN:VTIMEZONE
TZID:America/Los_Angeles
BEGIN:DAYLIGHT
TZOFFSETFROM:-0800
TZOFFSETTO:-0700
TZNAME:PDT
DTSTART:20260308T100000
END:DAYLIGHT
BEGIN:STANDARD
TZOFFSETFROM:-0700
TZOFFSETTO:-0800
TZNAME:PST
DTSTART:20261101T090000
END:STANDARD
BEGIN:DAYLIGHT
TZOFFSETFROM:-0800
TZOFFSETTO:-0700
TZNAME:PDT
DTSTART:20270314T100000
END:DAYLIGHT
BEGIN:STANDARD
TZOFFSETFROM:-0700
TZOFFSETTO:-0800
TZNAME:PST
DTSTART:20271107T090000
END:STANDARD
BEGIN:DAYLIGHT
TZOFFSETFROM:-0800
TZOFFSETTO:-0700
TZNAME:PDT
DTSTART:20280312T100000
END:DAYLIGHT
BEGIN:STANDARD
TZOFFSETFROM:-0700
TZOFFSETTO:-0800
TZNAME:PST
DTSTART:20281105T090000
END:STANDARD
END:VTIMEZONE
BEGIN:VEVENT
DTSTART;TZID=America/Los_Angeles:20270309T090000
DTEND;TZID=America/Los_Angeles:20270309T113000
DTSTAMP:20260425T191811
CREATED:20260415T190813Z
LAST-MODIFIED:20260415T190813Z
UID:10000543-1804582800-1804591800@www.pointrichmondmethodist.org
SUMMARY:VACATION BIBLE SCHOOL
DESCRIPTION:VACATION BIBLE SCHOOL for Children ages 4 through grade 6\, lunch for all on Friday. Text Jean to register:  510-734-3942.
URL:https://www.pointrichmondmethodist.org/event/vacation-bible-school/2027-03-09/
END:VEVENT
BEGIN:VEVENT
DTSTART;TZID=America/Los_Angeles:20270310T090000
DTEND;TZID=America/Los_Angeles:20270310T113000
DTSTAMP:20260425T191811
CREATED:20260415T190813Z
LAST-MODIFIED:20260415T190813Z
UID:10000544-1804669200-1804678200@www.pointrichmondmethodist.org
SUMMARY:VACATION BIBLE SCHOOL
DESCRIPTION:VACATION BIBLE SCHOOL for Children ages 4 through grade 6\, lunch for all on Friday. Text Jean to register:  510-734-3942.
URL:https://www.pointrichmondmethodist.org/event/vacation-bible-school/2027-03-10/
END:VEVENT
BEGIN:VEVENT
DTSTART;TZID=America/Los_Angeles:20270310T110000
DTEND;TZID=America/Los_Angeles:20270310T120000
DTSTAMP:20260425T191811
CREATED:20260329T170042Z
LAST-MODIFIED:20260329T170042Z
UID:10000239-1804676400-1804680000@www.pointrichmondmethodist.org
SUMMARY:Introduction to Tai Chi / Qigong for Wellness with Nadine Oei
DESCRIPTION:Introduction to Tai Chi / Qigong for Wellness with Nadine Oei \nALL Welcome! A gentle mind and body learning experience for all ages. The class will focus on movement\, balance\, breathing\, and relaxation\, on the church garden lawn. FREE – Donations to the Church Welcome. RSVP to Janet Heckmann at jmheckmann@mac.com
URL:https://www.pointrichmondmethodist.org/event/introduction-to-tai-chi-qigong-for-wellness-with-nadine-oei/2027-03-10/
LOCATION:First United Methodist Church of Point Richmond\, 201 Martina Street\, Richmond\, CA\, 94801\, United States
END:VEVENT
BEGIN:VEVENT
DTSTART;TZID=America/Los_Angeles:20270311T090000
DTEND;TZID=America/Los_Angeles:20270311T113000
DTSTAMP:20260425T191811
CREATED:20260415T190813Z
LAST-MODIFIED:20260415T190813Z
UID:10000545-1804755600-1804764600@www.pointrichmondmethodist.org
SUMMARY:VACATION BIBLE SCHOOL
DESCRIPTION:VACATION BIBLE SCHOOL for Children ages 4 through grade 6\, lunch for all on Friday. Text Jean to register:  510-734-3942.
URL:https://www.pointrichmondmethodist.org/event/vacation-bible-school/2027-03-11/
END:VEVENT
BEGIN:VEVENT
DTSTART;TZID=America/Los_Angeles:20270312T090000
DTEND;TZID=America/Los_Angeles:20270312T113000
DTSTAMP:20260425T191811
CREATED:20260415T190813Z
LAST-MODIFIED:20260415T190813Z
UID:10000546-1804842000-1804851000@www.pointrichmondmethodist.org
SUMMARY:VACATION BIBLE SCHOOL
DESCRIPTION:VACATION BIBLE SCHOOL for Children ages 4 through grade 6\, lunch for all on Friday. Text Jean to register:  510-734-3942.
URL:https://www.pointrichmondmethodist.org/event/vacation-bible-school/2027-03-12/
END:VEVENT
BEGIN:VEVENT
DTSTART;TZID=America/Los_Angeles:20270313T090000
DTEND;TZID=America/Los_Angeles:20270313T113000
DTSTAMP:20260425T191811
CREATED:20260415T190813Z
LAST-MODIFIED:20260415T190813Z
UID:10000547-1804928400-1804937400@www.pointrichmondmethodist.org
SUMMARY:VACATION BIBLE SCHOOL
DESCRIPTION:VACATION BIBLE SCHOOL for Children ages 4 through grade 6\, lunch for all on Friday. Text Jean to register:  510-734-3942.
URL:https://www.pointrichmondmethodist.org/event/vacation-bible-school/2027-03-13/
END:VEVENT
BEGIN:VEVENT
DTSTART;TZID=America/Los_Angeles:20270314T090000
DTEND;TZID=America/Los_Angeles:20270314T113000
DTSTAMP:20260425T191811
CREATED:20260415T190813Z
LAST-MODIFIED:20260415T190813Z
UID:10000548-1805014800-1805023800@www.pointrichmondmethodist.org
SUMMARY:VACATION BIBLE SCHOOL
DESCRIPTION:VACATION BIBLE SCHOOL for Children ages 4 through grade 6\, lunch for all on Friday. Text Jean to register:  510-734-3942.
URL:https://www.pointrichmondmethodist.org/event/vacation-bible-school/2027-03-14/
END:VEVENT
BEGIN:VEVENT
DTSTART;TZID=America/Los_Angeles:20270314T100000
DTEND;TZID=America/Los_Angeles:20270314T103000
DTSTAMP:20260425T191811
CREATED:20260331T220109Z
LAST-MODIFIED:20260331T220109Z
UID:10000299-1805018400-1805020200@www.pointrichmondmethodist.org
SUMMARY:Adult Sunday School
DESCRIPTION:Adult Sunday School In Person & via Zoom Join us for Sunday Adult School\, a focused and interactive Bible study. Each week\, we read one chapter from a book of the Bible and reflect together through prepared questions and discussion. Participants are also welcome to bring their own questions and insights. Those who sign up will receive the weekly discussion questions and Zoom link by email on Saturdays. Click on this link to receive the weekly questions and Zoom link
URL:https://www.pointrichmondmethodist.org/event/adult-sunday-school/2027-03-14/
LOCATION:First United Methodist Church of Point Richmond\, 201 Martina Street\, Richmond\, CA\, 94801\, United States
END:VEVENT
BEGIN:VEVENT
DTSTART;TZID=America/Los_Angeles:20270315T090000
DTEND;TZID=America/Los_Angeles:20270315T113000
DTSTAMP:20260425T191811
CREATED:20260415T190813Z
LAST-MODIFIED:20260415T190813Z
UID:10000549-1805101200-1805110200@www.pointrichmondmethodist.org
SUMMARY:VACATION BIBLE SCHOOL
DESCRIPTION:VACATION BIBLE SCHOOL for Children ages 4 through grade 6\, lunch for all on Friday. Text Jean to register:  510-734-3942.
URL:https://www.pointrichmondmethodist.org/event/vacation-bible-school/2027-03-15/
END:VEVENT
BEGIN:VEVENT
DTSTART;TZID=America/Los_Angeles:20270316T090000
DTEND;TZID=America/Los_Angeles:20270316T113000
DTSTAMP:20260425T191811
CREATED:20260415T190813Z
LAST-MODIFIED:20260415T190813Z
UID:10000550-1805187600-1805196600@www.pointrichmondmethodist.org
SUMMARY:VACATION BIBLE SCHOOL
DESCRIPTION:VACATION BIBLE SCHOOL for Children ages 4 through grade 6\, lunch for all on Friday. Text Jean to register:  510-734-3942.
URL:https://www.pointrichmondmethodist.org/event/vacation-bible-school/2027-03-16/
END:VEVENT
BEGIN:VEVENT
DTSTART;TZID=America/Los_Angeles:20270317T090000
DTEND;TZID=America/Los_Angeles:20270317T113000
DTSTAMP:20260425T191811
CREATED:20260415T190813Z
LAST-MODIFIED:20260415T190813Z
UID:10000551-1805274000-1805283000@www.pointrichmondmethodist.org
SUMMARY:VACATION BIBLE SCHOOL
DESCRIPTION:VACATION BIBLE SCHOOL for Children ages 4 through grade 6\, lunch for all on Friday. Text Jean to register:  510-734-3942.
URL:https://www.pointrichmondmethodist.org/event/vacation-bible-school/2027-03-17/
END:VEVENT
BEGIN:VEVENT
DTSTART;TZID=America/Los_Angeles:20270317T110000
DTEND;TZID=America/Los_Angeles:20270317T120000
DTSTAMP:20260425T191811
CREATED:20260329T170042Z
LAST-MODIFIED:20260329T170042Z
UID:10000240-1805281200-1805284800@www.pointrichmondmethodist.org
SUMMARY:Introduction to Tai Chi / Qigong for Wellness with Nadine Oei
DESCRIPTION:Introduction to Tai Chi / Qigong for Wellness with Nadine Oei \nALL Welcome! A gentle mind and body learning experience for all ages. The class will focus on movement\, balance\, breathing\, and relaxation\, on the church garden lawn. FREE – Donations to the Church Welcome. RSVP to Janet Heckmann at jmheckmann@mac.com
URL:https://www.pointrichmondmethodist.org/event/introduction-to-tai-chi-qigong-for-wellness-with-nadine-oei/2027-03-17/
LOCATION:First United Methodist Church of Point Richmond\, 201 Martina Street\, Richmond\, CA\, 94801\, United States
END:VEVENT
BEGIN:VEVENT
DTSTART;TZID=America/Los_Angeles:20270318T090000
DTEND;TZID=America/Los_Angeles:20270318T113000
DTSTAMP:20260425T191811
CREATED:20260415T190813Z
LAST-MODIFIED:20260415T190813Z
UID:10000552-1805360400-1805369400@www.pointrichmondmethodist.org
SUMMARY:VACATION BIBLE SCHOOL
DESCRIPTION:VACATION BIBLE SCHOOL for Children ages 4 through grade 6\, lunch for all on Friday. Text Jean to register:  510-734-3942.
URL:https://www.pointrichmondmethodist.org/event/vacation-bible-school/2027-03-18/
END:VEVENT
BEGIN:VEVENT
DTSTART;TZID=America/Los_Angeles:20270319T090000
DTEND;TZID=America/Los_Angeles:20270319T113000
DTSTAMP:20260425T191811
CREATED:20260415T190813Z
LAST-MODIFIED:20260415T190813Z
UID:10000553-1805446800-1805455800@www.pointrichmondmethodist.org
SUMMARY:VACATION BIBLE SCHOOL
DESCRIPTION:VACATION BIBLE SCHOOL for Children ages 4 through grade 6\, lunch for all on Friday. Text Jean to register:  510-734-3942.
URL:https://www.pointrichmondmethodist.org/event/vacation-bible-school/2027-03-19/
END:VEVENT
BEGIN:VEVENT
DTSTART;TZID=America/Los_Angeles:20270320T090000
DTEND;TZID=America/Los_Angeles:20270320T113000
DTSTAMP:20260425T191811
CREATED:20260415T190813Z
LAST-MODIFIED:20260415T190813Z
UID:10000554-1805533200-1805542200@www.pointrichmondmethodist.org
SUMMARY:VACATION BIBLE SCHOOL
DESCRIPTION:VACATION BIBLE SCHOOL for Children ages 4 through grade 6\, lunch for all on Friday. Text Jean to register:  510-734-3942.
URL:https://www.pointrichmondmethodist.org/event/vacation-bible-school/2027-03-20/
END:VEVENT
BEGIN:VEVENT
DTSTART;TZID=America/Los_Angeles:20270321T090000
DTEND;TZID=America/Los_Angeles:20270321T113000
DTSTAMP:20260425T191811
CREATED:20260415T190813Z
LAST-MODIFIED:20260415T190813Z
UID:10000555-1805619600-1805628600@www.pointrichmondmethodist.org
SUMMARY:VACATION BIBLE SCHOOL
DESCRIPTION:VACATION BIBLE SCHOOL for Children ages 4 through grade 6\, lunch for all on Friday. Text Jean to register:  510-734-3942.
URL:https://www.pointrichmondmethodist.org/event/vacation-bible-school/2027-03-21/
END:VEVENT
BEGIN:VEVENT
DTSTART;TZID=America/Los_Angeles:20270321T100000
DTEND;TZID=America/Los_Angeles:20270321T103000
DTSTAMP:20260425T191811
CREATED:20260331T220109Z
LAST-MODIFIED:20260331T220109Z
UID:10000300-1805623200-1805625000@www.pointrichmondmethodist.org
SUMMARY:Adult Sunday School
DESCRIPTION:Adult Sunday School In Person & via Zoom Join us for Sunday Adult School\, a focused and interactive Bible study. Each week\, we read one chapter from a book of the Bible and reflect together through prepared questions and discussion. Participants are also welcome to bring their own questions and insights. Those who sign up will receive the weekly discussion questions and Zoom link by email on Saturdays. Click on this link to receive the weekly questions and Zoom link
URL:https://www.pointrichmondmethodist.org/event/adult-sunday-school/2027-03-21/
LOCATION:First United Methodist Church of Point Richmond\, 201 Martina Street\, Richmond\, CA\, 94801\, United States
END:VEVENT
BEGIN:VEVENT
DTSTART;TZID=America/Los_Angeles:20270322T090000
DTEND;TZID=America/Los_Angeles:20270322T113000
DTSTAMP:20260425T191811
CREATED:20260415T190813Z
LAST-MODIFIED:20260415T190813Z
UID:10000556-1805706000-1805715000@www.pointrichmondmethodist.org
SUMMARY:VACATION BIBLE SCHOOL
DESCRIPTION:VACATION BIBLE SCHOOL for Children ages 4 through grade 6\, lunch for all on Friday. Text Jean to register:  510-734-3942.
URL:https://www.pointrichmondmethodist.org/event/vacation-bible-school/2027-03-22/
END:VEVENT
BEGIN:VEVENT
DTSTART;TZID=America/Los_Angeles:20270323T090000
DTEND;TZID=America/Los_Angeles:20270323T113000
DTSTAMP:20260425T191811
CREATED:20260415T190813Z
LAST-MODIFIED:20260415T190813Z
UID:10000557-1805792400-1805801400@www.pointrichmondmethodist.org
SUMMARY:VACATION BIBLE SCHOOL
DESCRIPTION:VACATION BIBLE SCHOOL for Children ages 4 through grade 6\, lunch for all on Friday. Text Jean to register:  510-734-3942.
URL:https://www.pointrichmondmethodist.org/event/vacation-bible-school/2027-03-23/
END:VEVENT
BEGIN:VEVENT
DTSTART;TZID=America/Los_Angeles:20270324T090000
DTEND;TZID=America/Los_Angeles:20270324T113000
DTSTAMP:20260425T191811
CREATED:20260415T190813Z
LAST-MODIFIED:20260415T190813Z
UID:10000558-1805878800-1805887800@www.pointrichmondmethodist.org
SUMMARY:VACATION BIBLE SCHOOL
DESCRIPTION:VACATION BIBLE SCHOOL for Children ages 4 through grade 6\, lunch for all on Friday. Text Jean to register:  510-734-3942.
URL:https://www.pointrichmondmethodist.org/event/vacation-bible-school/2027-03-24/
END:VEVENT
BEGIN:VEVENT
DTSTART;TZID=America/Los_Angeles:20270324T110000
DTEND;TZID=America/Los_Angeles:20270324T120000
DTSTAMP:20260425T191811
CREATED:20260329T170042Z
LAST-MODIFIED:20260329T170042Z
UID:10000241-1805886000-1805889600@www.pointrichmondmethodist.org
SUMMARY:Introduction to Tai Chi / Qigong for Wellness with Nadine Oei
DESCRIPTION:Introduction to Tai Chi / Qigong for Wellness with Nadine Oei \nALL Welcome! A gentle mind and body learning experience for all ages. The class will focus on movement\, balance\, breathing\, and relaxation\, on the church garden lawn. FREE – Donations to the Church Welcome. RSVP to Janet Heckmann at jmheckmann@mac.com
URL:https://www.pointrichmondmethodist.org/event/introduction-to-tai-chi-qigong-for-wellness-with-nadine-oei/2027-03-24/
LOCATION:First United Methodist Church of Point Richmond\, 201 Martina Street\, Richmond\, CA\, 94801\, United States
END:VEVENT
BEGIN:VEVENT
DTSTART;TZID=America/Los_Angeles:20270325T090000
DTEND;TZID=America/Los_Angeles:20270325T113000
DTSTAMP:20260425T191811
CREATED:20260415T190813Z
LAST-MODIFIED:20260415T190813Z
UID:10000559-1805965200-1805974200@www.pointrichmondmethodist.org
SUMMARY:VACATION BIBLE SCHOOL
DESCRIPTION:VACATION BIBLE SCHOOL for Children ages 4 through grade 6\, lunch for all on Friday. Text Jean to register:  510-734-3942.
URL:https://www.pointrichmondmethodist.org/event/vacation-bible-school/2027-03-25/
END:VEVENT
BEGIN:VEVENT
DTSTART;TZID=America/Los_Angeles:20270326T090000
DTEND;TZID=America/Los_Angeles:20270326T113000
DTSTAMP:20260425T191811
CREATED:20260415T190813Z
LAST-MODIFIED:20260415T190813Z
UID:10000560-1806051600-1806060600@www.pointrichmondmethodist.org
SUMMARY:VACATION BIBLE SCHOOL
DESCRIPTION:VACATION BIBLE SCHOOL for Children ages 4 through grade 6\, lunch for all on Friday. Text Jean to register:  510-734-3942.
URL:https://www.pointrichmondmethodist.org/event/vacation-bible-school/2027-03-26/
END:VEVENT
BEGIN:VEVENT
DTSTART;TZID=America/Los_Angeles:20270327T090000
DTEND;TZID=America/Los_Angeles:20270327T113000
DTSTAMP:20260425T191811
CREATED:20260415T190813Z
LAST-MODIFIED:20260415T190813Z
UID:10000561-1806138000-1806147000@www.pointrichmondmethodist.org
SUMMARY:VACATION BIBLE SCHOOL
DESCRIPTION:VACATION BIBLE SCHOOL for Children ages 4 through grade 6\, lunch for all on Friday. Text Jean to register:  510-734-3942.
URL:https://www.pointrichmondmethodist.org/event/vacation-bible-school/2027-03-27/
END:VEVENT
BEGIN:VEVENT
DTSTART;TZID=America/Los_Angeles:20270328T090000
DTEND;TZID=America/Los_Angeles:20270328T113000
DTSTAMP:20260425T191811
CREATED:20260415T190813Z
LAST-MODIFIED:20260415T190813Z
UID:10000562-1806224400-1806233400@www.pointrichmondmethodist.org
SUMMARY:VACATION BIBLE SCHOOL
DESCRIPTION:VACATION BIBLE SCHOOL for Children ages 4 through grade 6\, lunch for all on Friday. Text Jean to register:  510-734-3942.
URL:https://www.pointrichmondmethodist.org/event/vacation-bible-school/2027-03-28/
END:VEVENT
BEGIN:VEVENT
DTSTART;TZID=America/Los_Angeles:20270328T100000
DTEND;TZID=America/Los_Angeles:20270328T103000
DTSTAMP:20260425T191811
CREATED:20260331T220109Z
LAST-MODIFIED:20260331T220109Z
UID:10000301-1806228000-1806229800@www.pointrichmondmethodist.org
SUMMARY:Adult Sunday School
DESCRIPTION:Adult Sunday School In Person & via Zoom Join us for Sunday Adult School\, a focused and interactive Bible study. Each week\, we read one chapter from a book of the Bible and reflect together through prepared questions and discussion. Participants are also welcome to bring their own questions and insights. Those who sign up will receive the weekly discussion questions and Zoom link by email on Saturdays. Click on this link to receive the weekly questions and Zoom link
URL:https://www.pointrichmondmethodist.org/event/adult-sunday-school/2027-03-28/
LOCATION:First United Methodist Church of Point Richmond\, 201 Martina Street\, Richmond\, CA\, 94801\, United States
END:VEVENT
BEGIN:VEVENT
DTSTART;TZID=America/Los_Angeles:20270329T090000
DTEND;TZID=America/Los_Angeles:20270329T113000
DTSTAMP:20260425T191811
CREATED:20260415T190813Z
LAST-MODIFIED:20260415T190813Z
UID:10000563-1806310800-1806319800@www.pointrichmondmethodist.org
SUMMARY:VACATION BIBLE SCHOOL
DESCRIPTION:VACATION BIBLE SCHOOL for Children ages 4 through grade 6\, lunch for all on Friday. Text Jean to register:  510-734-3942.
URL:https://www.pointrichmondmethodist.org/event/vacation-bible-school/2027-03-29/
END:VEVENT
BEGIN:VEVENT
DTSTART;TZID=America/Los_Angeles:20270330T090000
DTEND;TZID=America/Los_Angeles:20270330T113000
DTSTAMP:20260425T191811
CREATED:20260415T190813Z
LAST-MODIFIED:20260415T190813Z
UID:10000564-1806397200-1806406200@www.pointrichmondmethodist.org
SUMMARY:VACATION BIBLE SCHOOL
DESCRIPTION:VACATION BIBLE SCHOOL for Children ages 4 through grade 6\, lunch for all on Friday. Text Jean to register:  510-734-3942.
URL:https://www.pointrichmondmethodist.org/event/vacation-bible-school/2027-03-30/
END:VEVENT
BEGIN:VEVENT
DTSTART;TZID=America/Los_Angeles:20270331T090000
DTEND;TZID=America/Los_Angeles:20270331T113000
DTSTAMP:20260425T191811
CREATED:20260415T190813Z
LAST-MODIFIED:20260415T190813Z
UID:10000565-1806483600-1806492600@www.pointrichmondmethodist.org
SUMMARY:VACATION BIBLE SCHOOL
DESCRIPTION:VACATION BIBLE SCHOOL for Children ages 4 through grade 6\, lunch for all on Friday. Text Jean to register:  510-734-3942.
URL:https://www.pointrichmondmethodist.org/event/vacation-bible-school/2027-03-31/
END:VEVENT
BEGIN:VEVENT
DTSTART;TZID=America/Los_Angeles:20270331T110000
DTEND;TZID=America/Los_Angeles:20270331T120000
DTSTAMP:20260425T191811
CREATED:20260329T170042Z
LAST-MODIFIED:20260329T170042Z
UID:10000242-1806490800-1806494400@www.pointrichmondmethodist.org
SUMMARY:Introduction to Tai Chi / Qigong for Wellness with Nadine Oei
DESCRIPTION:Introduction to Tai Chi / Qigong for Wellness with Nadine Oei \nALL Welcome! A gentle mind and body learning experience for all ages. The class will focus on movement\, balance\, breathing\, and relaxation\, on the church garden lawn. FREE – Donations to the Church Welcome. RSVP to Janet Heckmann at jmheckmann@mac.com
URL:https://www.pointrichmondmethodist.org/event/introduction-to-tai-chi-qigong-for-wellness-with-nadine-oei/2027-03-31/
LOCATION:First United Methodist Church of Point Richmond\, 201 Martina Street\, Richmond\, CA\, 94801\, United States
END:VEVENT
END:VCALENDAR