BEGIN:VCALENDAR
VERSION:2.0
PRODID:-//Richmond First United Methodist Church - ECPv6.15.13.1//NONSGML v1.0//EN
CALSCALE:GREGORIAN
METHOD:PUBLISH
X-ORIGINAL-URL:https://www.pointrichmondmethodist.org
X-WR-CALDESC:Events for Richmond First United Methodist Church
REFRESH-INTERVAL;VALUE=DURATION:PT1H
X-Robots-Tag:noindex
X-PUBLISHED-TTL:PT1H
BEGIN:VTIMEZONE
TZID:America/Los_Angeles
BEGIN:DAYLIGHT
TZOFFSETFROM:-0800
TZOFFSETTO:-0700
TZNAME:PDT
DTSTART:20260308T100000
END:DAYLIGHT
BEGIN:STANDARD
TZOFFSETFROM:-0700
TZOFFSETTO:-0800
TZNAME:PST
DTSTART:20261101T090000
END:STANDARD
BEGIN:DAYLIGHT
TZOFFSETFROM:-0800
TZOFFSETTO:-0700
TZNAME:PDT
DTSTART:20270314T100000
END:DAYLIGHT
BEGIN:STANDARD
TZOFFSETFROM:-0700
TZOFFSETTO:-0800
TZNAME:PST
DTSTART:20271107T090000
END:STANDARD
BEGIN:DAYLIGHT
TZOFFSETFROM:-0800
TZOFFSETTO:-0700
TZNAME:PDT
DTSTART:20280312T100000
END:DAYLIGHT
BEGIN:STANDARD
TZOFFSETFROM:-0700
TZOFFSETTO:-0800
TZNAME:PST
DTSTART:20281105T090000
END:STANDARD
END:VTIMEZONE
BEGIN:VEVENT
DTSTART;TZID=America/Los_Angeles:20270215T090000
DTEND;TZID=America/Los_Angeles:20270215T113000
DTSTAMP:20260425T143527
CREATED:20260415T190813Z
LAST-MODIFIED:20260415T190813Z
UID:10000521-1802682000-1802691000@www.pointrichmondmethodist.org
SUMMARY:VACATION BIBLE SCHOOL
DESCRIPTION:VACATION BIBLE SCHOOL for Children ages 4 through grade 6\, lunch for all on Friday. Text Jean to register:  510-734-3942.
URL:https://www.pointrichmondmethodist.org/event/vacation-bible-school/2027-02-15/
END:VEVENT
BEGIN:VEVENT
DTSTART;TZID=America/Los_Angeles:20270216T090000
DTEND;TZID=America/Los_Angeles:20270216T113000
DTSTAMP:20260425T143527
CREATED:20260415T190813Z
LAST-MODIFIED:20260415T190813Z
UID:10000522-1802768400-1802777400@www.pointrichmondmethodist.org
SUMMARY:VACATION BIBLE SCHOOL
DESCRIPTION:VACATION BIBLE SCHOOL for Children ages 4 through grade 6\, lunch for all on Friday. Text Jean to register:  510-734-3942.
URL:https://www.pointrichmondmethodist.org/event/vacation-bible-school/2027-02-16/
END:VEVENT
BEGIN:VEVENT
DTSTART;TZID=America/Los_Angeles:20270217T090000
DTEND;TZID=America/Los_Angeles:20270217T113000
DTSTAMP:20260425T143527
CREATED:20260415T190813Z
LAST-MODIFIED:20260415T190813Z
UID:10000523-1802854800-1802863800@www.pointrichmondmethodist.org
SUMMARY:VACATION BIBLE SCHOOL
DESCRIPTION:VACATION BIBLE SCHOOL for Children ages 4 through grade 6\, lunch for all on Friday. Text Jean to register:  510-734-3942.
URL:https://www.pointrichmondmethodist.org/event/vacation-bible-school/2027-02-17/
END:VEVENT
BEGIN:VEVENT
DTSTART;TZID=America/Los_Angeles:20270217T093000
DTEND;TZID=America/Los_Angeles:20270217T103000
DTSTAMP:20260425T143527
CREATED:20260224T211325Z
LAST-MODIFIED:20260331T220641Z
UID:10000183-1802856600-1802860200@www.pointrichmondmethodist.org
SUMMARY:Join Our Wednesday Book Study Group
DESCRIPTION:Join our book study!\nClick here to view the book and chapter we are currently reading.\nIf you would like to receive Book Study information via email\, contact Jean Reynolds.
URL:https://www.pointrichmondmethodist.org/event/join-our-wednesday-book-study-group/2027-02-17/
LOCATION:
END:VEVENT
BEGIN:VEVENT
DTSTART;TZID=America/Los_Angeles:20270217T110000
DTEND;TZID=America/Los_Angeles:20270217T120000
DTSTAMP:20260425T143527
CREATED:20260329T170042Z
LAST-MODIFIED:20260329T170042Z
UID:10000236-1802862000-1802865600@www.pointrichmondmethodist.org
SUMMARY:Introduction to Tai Chi / Qigong for Wellness with Nadine Oei
DESCRIPTION:Introduction to Tai Chi / Qigong for Wellness with Nadine Oei \nALL Welcome! A gentle mind and body learning experience for all ages. The class will focus on movement\, balance\, breathing\, and relaxation\, on the church garden lawn. FREE – Donations to the Church Welcome. RSVP to Janet Heckmann at jmheckmann@mac.com
URL:https://www.pointrichmondmethodist.org/event/introduction-to-tai-chi-qigong-for-wellness-with-nadine-oei/2027-02-17/
LOCATION:First United Methodist Church of Point Richmond\, 201 Martina Street\, Richmond\, CA\, 94801\, United States
END:VEVENT
BEGIN:VEVENT
DTSTART;TZID=America/Los_Angeles:20270218T090000
DTEND;TZID=America/Los_Angeles:20270218T113000
DTSTAMP:20260425T143527
CREATED:20260415T190813Z
LAST-MODIFIED:20260415T190813Z
UID:10000524-1802941200-1802950200@www.pointrichmondmethodist.org
SUMMARY:VACATION BIBLE SCHOOL
DESCRIPTION:VACATION BIBLE SCHOOL for Children ages 4 through grade 6\, lunch for all on Friday. Text Jean to register:  510-734-3942.
URL:https://www.pointrichmondmethodist.org/event/vacation-bible-school/2027-02-18/
END:VEVENT
BEGIN:VEVENT
DTSTART;TZID=America/Los_Angeles:20270219T090000
DTEND;TZID=America/Los_Angeles:20270219T113000
DTSTAMP:20260425T143527
CREATED:20260415T190813Z
LAST-MODIFIED:20260415T190813Z
UID:10000525-1803027600-1803036600@www.pointrichmondmethodist.org
SUMMARY:VACATION BIBLE SCHOOL
DESCRIPTION:VACATION BIBLE SCHOOL for Children ages 4 through grade 6\, lunch for all on Friday. Text Jean to register:  510-734-3942.
URL:https://www.pointrichmondmethodist.org/event/vacation-bible-school/2027-02-19/
END:VEVENT
BEGIN:VEVENT
DTSTART;TZID=America/Los_Angeles:20270220T090000
DTEND;TZID=America/Los_Angeles:20270220T113000
DTSTAMP:20260425T143527
CREATED:20260415T190813Z
LAST-MODIFIED:20260415T190813Z
UID:10000526-1803114000-1803123000@www.pointrichmondmethodist.org
SUMMARY:VACATION BIBLE SCHOOL
DESCRIPTION:VACATION BIBLE SCHOOL for Children ages 4 through grade 6\, lunch for all on Friday. Text Jean to register:  510-734-3942.
URL:https://www.pointrichmondmethodist.org/event/vacation-bible-school/2027-02-20/
END:VEVENT
BEGIN:VEVENT
DTSTART;TZID=America/Los_Angeles:20270221T090000
DTEND;TZID=America/Los_Angeles:20270221T113000
DTSTAMP:20260425T143527
CREATED:20260415T190813Z
LAST-MODIFIED:20260415T190813Z
UID:10000527-1803200400-1803209400@www.pointrichmondmethodist.org
SUMMARY:VACATION BIBLE SCHOOL
DESCRIPTION:VACATION BIBLE SCHOOL for Children ages 4 through grade 6\, lunch for all on Friday. Text Jean to register:  510-734-3942.
URL:https://www.pointrichmondmethodist.org/event/vacation-bible-school/2027-02-21/
END:VEVENT
BEGIN:VEVENT
DTSTART;TZID=America/Los_Angeles:20270221T100000
DTEND;TZID=America/Los_Angeles:20270221T103000
DTSTAMP:20260425T143527
CREATED:20260331T220109Z
LAST-MODIFIED:20260331T220109Z
UID:10000296-1803204000-1803205800@www.pointrichmondmethodist.org
SUMMARY:Adult Sunday School
DESCRIPTION:Adult Sunday School In Person & via Zoom Join us for Sunday Adult School\, a focused and interactive Bible study. Each week\, we read one chapter from a book of the Bible and reflect together through prepared questions and discussion. Participants are also welcome to bring their own questions and insights. Those who sign up will receive the weekly discussion questions and Zoom link by email on Saturdays. Click on this link to receive the weekly questions and Zoom link
URL:https://www.pointrichmondmethodist.org/event/adult-sunday-school/2027-02-21/
LOCATION:First United Methodist Church of Point Richmond\, 201 Martina Street\, Richmond\, CA\, 94801\, United States
END:VEVENT
BEGIN:VEVENT
DTSTART;TZID=America/Los_Angeles:20270222T090000
DTEND;TZID=America/Los_Angeles:20270222T113000
DTSTAMP:20260425T143527
CREATED:20260415T190813Z
LAST-MODIFIED:20260415T190813Z
UID:10000528-1803286800-1803295800@www.pointrichmondmethodist.org
SUMMARY:VACATION BIBLE SCHOOL
DESCRIPTION:VACATION BIBLE SCHOOL for Children ages 4 through grade 6\, lunch for all on Friday. Text Jean to register:  510-734-3942.
URL:https://www.pointrichmondmethodist.org/event/vacation-bible-school/2027-02-22/
END:VEVENT
BEGIN:VEVENT
DTSTART;TZID=America/Los_Angeles:20270223T090000
DTEND;TZID=America/Los_Angeles:20270223T113000
DTSTAMP:20260425T143527
CREATED:20260415T190813Z
LAST-MODIFIED:20260415T190813Z
UID:10000529-1803373200-1803382200@www.pointrichmondmethodist.org
SUMMARY:VACATION BIBLE SCHOOL
DESCRIPTION:VACATION BIBLE SCHOOL for Children ages 4 through grade 6\, lunch for all on Friday. Text Jean to register:  510-734-3942.
URL:https://www.pointrichmondmethodist.org/event/vacation-bible-school/2027-02-23/
END:VEVENT
BEGIN:VEVENT
DTSTART;TZID=America/Los_Angeles:20270224T090000
DTEND;TZID=America/Los_Angeles:20270224T113000
DTSTAMP:20260425T143527
CREATED:20260415T190813Z
LAST-MODIFIED:20260415T190813Z
UID:10000530-1803459600-1803468600@www.pointrichmondmethodist.org
SUMMARY:VACATION BIBLE SCHOOL
DESCRIPTION:VACATION BIBLE SCHOOL for Children ages 4 through grade 6\, lunch for all on Friday. Text Jean to register:  510-734-3942.
URL:https://www.pointrichmondmethodist.org/event/vacation-bible-school/2027-02-24/
END:VEVENT
BEGIN:VEVENT
DTSTART;TZID=America/Los_Angeles:20270224T093000
DTEND;TZID=America/Los_Angeles:20270224T103000
DTSTAMP:20260425T143527
CREATED:20260224T211325Z
LAST-MODIFIED:20260331T220641Z
UID:10000184-1803461400-1803465000@www.pointrichmondmethodist.org
SUMMARY:Join Our Wednesday Book Study Group
DESCRIPTION:Join our book study!\nClick here to view the book and chapter we are currently reading.\nIf you would like to receive Book Study information via email\, contact Jean Reynolds.
URL:https://www.pointrichmondmethodist.org/event/join-our-wednesday-book-study-group/2027-02-24/
LOCATION:
END:VEVENT
BEGIN:VEVENT
DTSTART;TZID=America/Los_Angeles:20270224T110000
DTEND;TZID=America/Los_Angeles:20270224T120000
DTSTAMP:20260425T143527
CREATED:20260329T170042Z
LAST-MODIFIED:20260329T170042Z
UID:10000237-1803466800-1803470400@www.pointrichmondmethodist.org
SUMMARY:Introduction to Tai Chi / Qigong for Wellness with Nadine Oei
DESCRIPTION:Introduction to Tai Chi / Qigong for Wellness with Nadine Oei \nALL Welcome! A gentle mind and body learning experience for all ages. The class will focus on movement\, balance\, breathing\, and relaxation\, on the church garden lawn. FREE – Donations to the Church Welcome. RSVP to Janet Heckmann at jmheckmann@mac.com
URL:https://www.pointrichmondmethodist.org/event/introduction-to-tai-chi-qigong-for-wellness-with-nadine-oei/2027-02-24/
LOCATION:First United Methodist Church of Point Richmond\, 201 Martina Street\, Richmond\, CA\, 94801\, United States
END:VEVENT
BEGIN:VEVENT
DTSTART;TZID=America/Los_Angeles:20270225T090000
DTEND;TZID=America/Los_Angeles:20270225T113000
DTSTAMP:20260425T143527
CREATED:20260415T190813Z
LAST-MODIFIED:20260415T190813Z
UID:10000531-1803546000-1803555000@www.pointrichmondmethodist.org
SUMMARY:VACATION BIBLE SCHOOL
DESCRIPTION:VACATION BIBLE SCHOOL for Children ages 4 through grade 6\, lunch for all on Friday. Text Jean to register:  510-734-3942.
URL:https://www.pointrichmondmethodist.org/event/vacation-bible-school/2027-02-25/
END:VEVENT
BEGIN:VEVENT
DTSTART;TZID=America/Los_Angeles:20270226T090000
DTEND;TZID=America/Los_Angeles:20270226T113000
DTSTAMP:20260425T143527
CREATED:20260415T190813Z
LAST-MODIFIED:20260415T190813Z
UID:10000532-1803632400-1803641400@www.pointrichmondmethodist.org
SUMMARY:VACATION BIBLE SCHOOL
DESCRIPTION:VACATION BIBLE SCHOOL for Children ages 4 through grade 6\, lunch for all on Friday. Text Jean to register:  510-734-3942.
URL:https://www.pointrichmondmethodist.org/event/vacation-bible-school/2027-02-26/
END:VEVENT
BEGIN:VEVENT
DTSTART;TZID=America/Los_Angeles:20270227T090000
DTEND;TZID=America/Los_Angeles:20270227T113000
DTSTAMP:20260425T143527
CREATED:20260415T190813Z
LAST-MODIFIED:20260415T190813Z
UID:10000533-1803718800-1803727800@www.pointrichmondmethodist.org
SUMMARY:VACATION BIBLE SCHOOL
DESCRIPTION:VACATION BIBLE SCHOOL for Children ages 4 through grade 6\, lunch for all on Friday. Text Jean to register:  510-734-3942.
URL:https://www.pointrichmondmethodist.org/event/vacation-bible-school/2027-02-27/
END:VEVENT
BEGIN:VEVENT
DTSTART;TZID=America/Los_Angeles:20270228T090000
DTEND;TZID=America/Los_Angeles:20270228T113000
DTSTAMP:20260425T143527
CREATED:20260415T190813Z
LAST-MODIFIED:20260415T190813Z
UID:10000534-1803805200-1803814200@www.pointrichmondmethodist.org
SUMMARY:VACATION BIBLE SCHOOL
DESCRIPTION:VACATION BIBLE SCHOOL for Children ages 4 through grade 6\, lunch for all on Friday. Text Jean to register:  510-734-3942.
URL:https://www.pointrichmondmethodist.org/event/vacation-bible-school/2027-02-28/
END:VEVENT
BEGIN:VEVENT
DTSTART;TZID=America/Los_Angeles:20270228T100000
DTEND;TZID=America/Los_Angeles:20270228T103000
DTSTAMP:20260425T143527
CREATED:20260331T220109Z
LAST-MODIFIED:20260331T220109Z
UID:10000297-1803808800-1803810600@www.pointrichmondmethodist.org
SUMMARY:Adult Sunday School
DESCRIPTION:Adult Sunday School In Person & via Zoom Join us for Sunday Adult School\, a focused and interactive Bible study. Each week\, we read one chapter from a book of the Bible and reflect together through prepared questions and discussion. Participants are also welcome to bring their own questions and insights. Those who sign up will receive the weekly discussion questions and Zoom link by email on Saturdays. Click on this link to receive the weekly questions and Zoom link
URL:https://www.pointrichmondmethodist.org/event/adult-sunday-school/2027-02-28/
LOCATION:First United Methodist Church of Point Richmond\, 201 Martina Street\, Richmond\, CA\, 94801\, United States
END:VEVENT
BEGIN:VEVENT
DTSTART;TZID=America/Los_Angeles:20270301T090000
DTEND;TZID=America/Los_Angeles:20270301T113000
DTSTAMP:20260425T143527
CREATED:20260415T190813Z
LAST-MODIFIED:20260415T190813Z
UID:10000535-1803891600-1803900600@www.pointrichmondmethodist.org
SUMMARY:VACATION BIBLE SCHOOL
DESCRIPTION:VACATION BIBLE SCHOOL for Children ages 4 through grade 6\, lunch for all on Friday. Text Jean to register:  510-734-3942.
URL:https://www.pointrichmondmethodist.org/event/vacation-bible-school/2027-03-01/
END:VEVENT
BEGIN:VEVENT
DTSTART;TZID=America/Los_Angeles:20270302T090000
DTEND;TZID=America/Los_Angeles:20270302T113000
DTSTAMP:20260425T143527
CREATED:20260415T190813Z
LAST-MODIFIED:20260415T190813Z
UID:10000536-1803978000-1803987000@www.pointrichmondmethodist.org
SUMMARY:VACATION BIBLE SCHOOL
DESCRIPTION:VACATION BIBLE SCHOOL for Children ages 4 through grade 6\, lunch for all on Friday. Text Jean to register:  510-734-3942.
URL:https://www.pointrichmondmethodist.org/event/vacation-bible-school/2027-03-02/
END:VEVENT
BEGIN:VEVENT
DTSTART;TZID=America/Los_Angeles:20270303T090000
DTEND;TZID=America/Los_Angeles:20270303T113000
DTSTAMP:20260425T143527
CREATED:20260415T190813Z
LAST-MODIFIED:20260415T190813Z
UID:10000537-1804064400-1804073400@www.pointrichmondmethodist.org
SUMMARY:VACATION BIBLE SCHOOL
DESCRIPTION:VACATION BIBLE SCHOOL for Children ages 4 through grade 6\, lunch for all on Friday. Text Jean to register:  510-734-3942.
URL:https://www.pointrichmondmethodist.org/event/vacation-bible-school/2027-03-03/
END:VEVENT
BEGIN:VEVENT
DTSTART;TZID=America/Los_Angeles:20270303T110000
DTEND;TZID=America/Los_Angeles:20270303T120000
DTSTAMP:20260425T143527
CREATED:20260329T170042Z
LAST-MODIFIED:20260329T170042Z
UID:10000238-1804071600-1804075200@www.pointrichmondmethodist.org
SUMMARY:Introduction to Tai Chi / Qigong for Wellness with Nadine Oei
DESCRIPTION:Introduction to Tai Chi / Qigong for Wellness with Nadine Oei \nALL Welcome! A gentle mind and body learning experience for all ages. The class will focus on movement\, balance\, breathing\, and relaxation\, on the church garden lawn. FREE – Donations to the Church Welcome. RSVP to Janet Heckmann at jmheckmann@mac.com
URL:https://www.pointrichmondmethodist.org/event/introduction-to-tai-chi-qigong-for-wellness-with-nadine-oei/2027-03-03/
LOCATION:First United Methodist Church of Point Richmond\, 201 Martina Street\, Richmond\, CA\, 94801\, United States
END:VEVENT
BEGIN:VEVENT
DTSTART;TZID=America/Los_Angeles:20270304T090000
DTEND;TZID=America/Los_Angeles:20270304T113000
DTSTAMP:20260425T143527
CREATED:20260415T190813Z
LAST-MODIFIED:20260415T190813Z
UID:10000538-1804150800-1804159800@www.pointrichmondmethodist.org
SUMMARY:VACATION BIBLE SCHOOL
DESCRIPTION:VACATION BIBLE SCHOOL for Children ages 4 through grade 6\, lunch for all on Friday. Text Jean to register:  510-734-3942.
URL:https://www.pointrichmondmethodist.org/event/vacation-bible-school/2027-03-04/
END:VEVENT
BEGIN:VEVENT
DTSTART;TZID=America/Los_Angeles:20270305T090000
DTEND;TZID=America/Los_Angeles:20270305T113000
DTSTAMP:20260425T143527
CREATED:20260415T190813Z
LAST-MODIFIED:20260415T190813Z
UID:10000539-1804237200-1804246200@www.pointrichmondmethodist.org
SUMMARY:VACATION BIBLE SCHOOL
DESCRIPTION:VACATION BIBLE SCHOOL for Children ages 4 through grade 6\, lunch for all on Friday. Text Jean to register:  510-734-3942.
URL:https://www.pointrichmondmethodist.org/event/vacation-bible-school/2027-03-05/
END:VEVENT
BEGIN:VEVENT
DTSTART;TZID=America/Los_Angeles:20270306T090000
DTEND;TZID=America/Los_Angeles:20270306T113000
DTSTAMP:20260425T143527
CREATED:20260415T190813Z
LAST-MODIFIED:20260415T190813Z
UID:10000540-1804323600-1804332600@www.pointrichmondmethodist.org
SUMMARY:VACATION BIBLE SCHOOL
DESCRIPTION:VACATION BIBLE SCHOOL for Children ages 4 through grade 6\, lunch for all on Friday. Text Jean to register:  510-734-3942.
URL:https://www.pointrichmondmethodist.org/event/vacation-bible-school/2027-03-06/
END:VEVENT
BEGIN:VEVENT
DTSTART;TZID=America/Los_Angeles:20270307T090000
DTEND;TZID=America/Los_Angeles:20270307T113000
DTSTAMP:20260425T143527
CREATED:20260415T190813Z
LAST-MODIFIED:20260415T190813Z
UID:10000541-1804410000-1804419000@www.pointrichmondmethodist.org
SUMMARY:VACATION BIBLE SCHOOL
DESCRIPTION:VACATION BIBLE SCHOOL for Children ages 4 through grade 6\, lunch for all on Friday. Text Jean to register:  510-734-3942.
URL:https://www.pointrichmondmethodist.org/event/vacation-bible-school/2027-03-07/
END:VEVENT
BEGIN:VEVENT
DTSTART;TZID=America/Los_Angeles:20270307T100000
DTEND;TZID=America/Los_Angeles:20270307T103000
DTSTAMP:20260425T143527
CREATED:20260331T220109Z
LAST-MODIFIED:20260331T220109Z
UID:10000298-1804413600-1804415400@www.pointrichmondmethodist.org
SUMMARY:Adult Sunday School
DESCRIPTION:Adult Sunday School In Person & via Zoom Join us for Sunday Adult School\, a focused and interactive Bible study. Each week\, we read one chapter from a book of the Bible and reflect together through prepared questions and discussion. Participants are also welcome to bring their own questions and insights. Those who sign up will receive the weekly discussion questions and Zoom link by email on Saturdays. Click on this link to receive the weekly questions and Zoom link
URL:https://www.pointrichmondmethodist.org/event/adult-sunday-school/2027-03-07/
LOCATION:First United Methodist Church of Point Richmond\, 201 Martina Street\, Richmond\, CA\, 94801\, United States
END:VEVENT
BEGIN:VEVENT
DTSTART;TZID=America/Los_Angeles:20270308T090000
DTEND;TZID=America/Los_Angeles:20270308T113000
DTSTAMP:20260425T143527
CREATED:20260415T190813Z
LAST-MODIFIED:20260415T190813Z
UID:10000542-1804496400-1804505400@www.pointrichmondmethodist.org
SUMMARY:VACATION BIBLE SCHOOL
DESCRIPTION:VACATION BIBLE SCHOOL for Children ages 4 through grade 6\, lunch for all on Friday. Text Jean to register:  510-734-3942.
URL:https://www.pointrichmondmethodist.org/event/vacation-bible-school/2027-03-08/
END:VEVENT
END:VCALENDAR