BEGIN:VCALENDAR
VERSION:2.0
PRODID:-//Richmond First United Methodist Church - ECPv6.15.13.1//NONSGML v1.0//EN
CALSCALE:GREGORIAN
METHOD:PUBLISH
X-WR-CALNAME:Richmond First United Methodist Church
X-ORIGINAL-URL:https://www.pointrichmondmethodist.org
X-WR-CALDESC:Events for Richmond First United Methodist Church
REFRESH-INTERVAL;VALUE=DURATION:PT1H
X-Robots-Tag:noindex
X-PUBLISHED-TTL:PT1H
BEGIN:VTIMEZONE
TZID:America/Los_Angeles
BEGIN:DAYLIGHT
TZOFFSETFROM:-0800
TZOFFSETTO:-0700
TZNAME:PDT
DTSTART:20260308T100000
END:DAYLIGHT
BEGIN:STANDARD
TZOFFSETFROM:-0700
TZOFFSETTO:-0800
TZNAME:PST
DTSTART:20261101T090000
END:STANDARD
BEGIN:DAYLIGHT
TZOFFSETFROM:-0800
TZOFFSETTO:-0700
TZNAME:PDT
DTSTART:20270314T100000
END:DAYLIGHT
BEGIN:STANDARD
TZOFFSETFROM:-0700
TZOFFSETTO:-0800
TZNAME:PST
DTSTART:20271107T090000
END:STANDARD
BEGIN:DAYLIGHT
TZOFFSETFROM:-0800
TZOFFSETTO:-0700
TZNAME:PDT
DTSTART:20280312T100000
END:DAYLIGHT
BEGIN:STANDARD
TZOFFSETFROM:-0700
TZOFFSETTO:-0800
TZNAME:PST
DTSTART:20281105T090000
END:STANDARD
END:VTIMEZONE
BEGIN:VEVENT
DTSTART;TZID=America/Los_Angeles:20270111T090000
DTEND;TZID=America/Los_Angeles:20270111T113000
DTSTAMP:20260425T071936
CREATED:20260415T190813Z
LAST-MODIFIED:20260415T190813Z
UID:10000486-1799658000-1799667000@www.pointrichmondmethodist.org
SUMMARY:VACATION BIBLE SCHOOL
DESCRIPTION:VACATION BIBLE SCHOOL for Children ages 4 through grade 6\, lunch for all on Friday. Text Jean to register:  510-734-3942.
URL:https://www.pointrichmondmethodist.org/event/vacation-bible-school/2027-01-11/
END:VEVENT
BEGIN:VEVENT
DTSTART;TZID=America/Los_Angeles:20270112T090000
DTEND;TZID=America/Los_Angeles:20270112T113000
DTSTAMP:20260425T071936
CREATED:20260415T190813Z
LAST-MODIFIED:20260415T190813Z
UID:10000487-1799744400-1799753400@www.pointrichmondmethodist.org
SUMMARY:VACATION BIBLE SCHOOL
DESCRIPTION:VACATION BIBLE SCHOOL for Children ages 4 through grade 6\, lunch for all on Friday. Text Jean to register:  510-734-3942.
URL:https://www.pointrichmondmethodist.org/event/vacation-bible-school/2027-01-12/
END:VEVENT
BEGIN:VEVENT
DTSTART;TZID=America/Los_Angeles:20270113T090000
DTEND;TZID=America/Los_Angeles:20270113T113000
DTSTAMP:20260425T071936
CREATED:20260415T190813Z
LAST-MODIFIED:20260415T190813Z
UID:10000488-1799830800-1799839800@www.pointrichmondmethodist.org
SUMMARY:VACATION BIBLE SCHOOL
DESCRIPTION:VACATION BIBLE SCHOOL for Children ages 4 through grade 6\, lunch for all on Friday. Text Jean to register:  510-734-3942.
URL:https://www.pointrichmondmethodist.org/event/vacation-bible-school/2027-01-13/
END:VEVENT
BEGIN:VEVENT
DTSTART;TZID=America/Los_Angeles:20270113T093000
DTEND;TZID=America/Los_Angeles:20270113T103000
DTSTAMP:20260425T071936
CREATED:20260224T211325Z
LAST-MODIFIED:20260331T220641Z
UID:10000178-1799832600-1799836200@www.pointrichmondmethodist.org
SUMMARY:Join Our Wednesday Book Study Group
DESCRIPTION:Join our book study!\nClick here to view the book and chapter we are currently reading.\nIf you would like to receive Book Study information via email\, contact Jean Reynolds.
URL:https://www.pointrichmondmethodist.org/event/join-our-wednesday-book-study-group/2027-01-13/
LOCATION:
END:VEVENT
BEGIN:VEVENT
DTSTART;TZID=America/Los_Angeles:20270113T110000
DTEND;TZID=America/Los_Angeles:20270113T120000
DTSTAMP:20260425T071936
CREATED:20260329T170042Z
LAST-MODIFIED:20260329T170042Z
UID:10000231-1799838000-1799841600@www.pointrichmondmethodist.org
SUMMARY:Introduction to Tai Chi / Qigong for Wellness with Nadine Oei
DESCRIPTION:Introduction to Tai Chi / Qigong for Wellness with Nadine Oei \nALL Welcome! A gentle mind and body learning experience for all ages. The class will focus on movement\, balance\, breathing\, and relaxation\, on the church garden lawn. FREE – Donations to the Church Welcome. RSVP to Janet Heckmann at jmheckmann@mac.com
URL:https://www.pointrichmondmethodist.org/event/introduction-to-tai-chi-qigong-for-wellness-with-nadine-oei/2027-01-13/
LOCATION:First United Methodist Church of Point Richmond\, 201 Martina Street\, Richmond\, CA\, 94801\, United States
END:VEVENT
BEGIN:VEVENT
DTSTART;TZID=America/Los_Angeles:20270114T090000
DTEND;TZID=America/Los_Angeles:20270114T113000
DTSTAMP:20260425T071936
CREATED:20260415T190813Z
LAST-MODIFIED:20260415T190813Z
UID:10000489-1799917200-1799926200@www.pointrichmondmethodist.org
SUMMARY:VACATION BIBLE SCHOOL
DESCRIPTION:VACATION BIBLE SCHOOL for Children ages 4 through grade 6\, lunch for all on Friday. Text Jean to register:  510-734-3942.
URL:https://www.pointrichmondmethodist.org/event/vacation-bible-school/2027-01-14/
END:VEVENT
BEGIN:VEVENT
DTSTART;TZID=America/Los_Angeles:20270115T090000
DTEND;TZID=America/Los_Angeles:20270115T113000
DTSTAMP:20260425T071936
CREATED:20260415T190813Z
LAST-MODIFIED:20260415T190813Z
UID:10000490-1800003600-1800012600@www.pointrichmondmethodist.org
SUMMARY:VACATION BIBLE SCHOOL
DESCRIPTION:VACATION BIBLE SCHOOL for Children ages 4 through grade 6\, lunch for all on Friday. Text Jean to register:  510-734-3942.
URL:https://www.pointrichmondmethodist.org/event/vacation-bible-school/2027-01-15/
END:VEVENT
BEGIN:VEVENT
DTSTART;TZID=America/Los_Angeles:20270116T090000
DTEND;TZID=America/Los_Angeles:20270116T113000
DTSTAMP:20260425T071936
CREATED:20260415T190813Z
LAST-MODIFIED:20260415T190813Z
UID:10000491-1800090000-1800099000@www.pointrichmondmethodist.org
SUMMARY:VACATION BIBLE SCHOOL
DESCRIPTION:VACATION BIBLE SCHOOL for Children ages 4 through grade 6\, lunch for all on Friday. Text Jean to register:  510-734-3942.
URL:https://www.pointrichmondmethodist.org/event/vacation-bible-school/2027-01-16/
END:VEVENT
BEGIN:VEVENT
DTSTART;TZID=America/Los_Angeles:20270117T090000
DTEND;TZID=America/Los_Angeles:20270117T113000
DTSTAMP:20260425T071936
CREATED:20260415T190813Z
LAST-MODIFIED:20260415T190813Z
UID:10000492-1800176400-1800185400@www.pointrichmondmethodist.org
SUMMARY:VACATION BIBLE SCHOOL
DESCRIPTION:VACATION BIBLE SCHOOL for Children ages 4 through grade 6\, lunch for all on Friday. Text Jean to register:  510-734-3942.
URL:https://www.pointrichmondmethodist.org/event/vacation-bible-school/2027-01-17/
END:VEVENT
BEGIN:VEVENT
DTSTART;TZID=America/Los_Angeles:20270117T100000
DTEND;TZID=America/Los_Angeles:20270117T103000
DTSTAMP:20260425T071936
CREATED:20260331T220109Z
LAST-MODIFIED:20260331T220109Z
UID:10000291-1800180000-1800181800@www.pointrichmondmethodist.org
SUMMARY:Adult Sunday School
DESCRIPTION:Adult Sunday School In Person & via Zoom Join us for Sunday Adult School\, a focused and interactive Bible study. Each week\, we read one chapter from a book of the Bible and reflect together through prepared questions and discussion. Participants are also welcome to bring their own questions and insights. Those who sign up will receive the weekly discussion questions and Zoom link by email on Saturdays. Click on this link to receive the weekly questions and Zoom link
URL:https://www.pointrichmondmethodist.org/event/adult-sunday-school/2027-01-17/
LOCATION:First United Methodist Church of Point Richmond\, 201 Martina Street\, Richmond\, CA\, 94801\, United States
END:VEVENT
BEGIN:VEVENT
DTSTART;TZID=America/Los_Angeles:20270118T090000
DTEND;TZID=America/Los_Angeles:20270118T113000
DTSTAMP:20260425T071936
CREATED:20260415T190813Z
LAST-MODIFIED:20260415T190813Z
UID:10000493-1800262800-1800271800@www.pointrichmondmethodist.org
SUMMARY:VACATION BIBLE SCHOOL
DESCRIPTION:VACATION BIBLE SCHOOL for Children ages 4 through grade 6\, lunch for all on Friday. Text Jean to register:  510-734-3942.
URL:https://www.pointrichmondmethodist.org/event/vacation-bible-school/2027-01-18/
END:VEVENT
BEGIN:VEVENT
DTSTART;TZID=America/Los_Angeles:20270119T090000
DTEND;TZID=America/Los_Angeles:20270119T113000
DTSTAMP:20260425T071936
CREATED:20260415T190813Z
LAST-MODIFIED:20260415T190813Z
UID:10000494-1800349200-1800358200@www.pointrichmondmethodist.org
SUMMARY:VACATION BIBLE SCHOOL
DESCRIPTION:VACATION BIBLE SCHOOL for Children ages 4 through grade 6\, lunch for all on Friday. Text Jean to register:  510-734-3942.
URL:https://www.pointrichmondmethodist.org/event/vacation-bible-school/2027-01-19/
END:VEVENT
BEGIN:VEVENT
DTSTART;TZID=America/Los_Angeles:20270120T090000
DTEND;TZID=America/Los_Angeles:20270120T113000
DTSTAMP:20260425T071936
CREATED:20260415T190813Z
LAST-MODIFIED:20260415T190813Z
UID:10000495-1800435600-1800444600@www.pointrichmondmethodist.org
SUMMARY:VACATION BIBLE SCHOOL
DESCRIPTION:VACATION BIBLE SCHOOL for Children ages 4 through grade 6\, lunch for all on Friday. Text Jean to register:  510-734-3942.
URL:https://www.pointrichmondmethodist.org/event/vacation-bible-school/2027-01-20/
END:VEVENT
BEGIN:VEVENT
DTSTART;TZID=America/Los_Angeles:20270120T093000
DTEND;TZID=America/Los_Angeles:20270120T103000
DTSTAMP:20260425T071936
CREATED:20260224T211325Z
LAST-MODIFIED:20260331T220641Z
UID:10000179-1800437400-1800441000@www.pointrichmondmethodist.org
SUMMARY:Join Our Wednesday Book Study Group
DESCRIPTION:Join our book study!\nClick here to view the book and chapter we are currently reading.\nIf you would like to receive Book Study information via email\, contact Jean Reynolds.
URL:https://www.pointrichmondmethodist.org/event/join-our-wednesday-book-study-group/2027-01-20/
LOCATION:
END:VEVENT
BEGIN:VEVENT
DTSTART;TZID=America/Los_Angeles:20270120T110000
DTEND;TZID=America/Los_Angeles:20270120T120000
DTSTAMP:20260425T071936
CREATED:20260329T170042Z
LAST-MODIFIED:20260329T170042Z
UID:10000232-1800442800-1800446400@www.pointrichmondmethodist.org
SUMMARY:Introduction to Tai Chi / Qigong for Wellness with Nadine Oei
DESCRIPTION:Introduction to Tai Chi / Qigong for Wellness with Nadine Oei \nALL Welcome! A gentle mind and body learning experience for all ages. The class will focus on movement\, balance\, breathing\, and relaxation\, on the church garden lawn. FREE – Donations to the Church Welcome. RSVP to Janet Heckmann at jmheckmann@mac.com
URL:https://www.pointrichmondmethodist.org/event/introduction-to-tai-chi-qigong-for-wellness-with-nadine-oei/2027-01-20/
LOCATION:First United Methodist Church of Point Richmond\, 201 Martina Street\, Richmond\, CA\, 94801\, United States
END:VEVENT
BEGIN:VEVENT
DTSTART;TZID=America/Los_Angeles:20270121T090000
DTEND;TZID=America/Los_Angeles:20270121T113000
DTSTAMP:20260425T071936
CREATED:20260415T190813Z
LAST-MODIFIED:20260415T190813Z
UID:10000496-1800522000-1800531000@www.pointrichmondmethodist.org
SUMMARY:VACATION BIBLE SCHOOL
DESCRIPTION:VACATION BIBLE SCHOOL for Children ages 4 through grade 6\, lunch for all on Friday. Text Jean to register:  510-734-3942.
URL:https://www.pointrichmondmethodist.org/event/vacation-bible-school/2027-01-21/
END:VEVENT
BEGIN:VEVENT
DTSTART;TZID=America/Los_Angeles:20270122T090000
DTEND;TZID=America/Los_Angeles:20270122T113000
DTSTAMP:20260425T071936
CREATED:20260415T190813Z
LAST-MODIFIED:20260415T190813Z
UID:10000497-1800608400-1800617400@www.pointrichmondmethodist.org
SUMMARY:VACATION BIBLE SCHOOL
DESCRIPTION:VACATION BIBLE SCHOOL for Children ages 4 through grade 6\, lunch for all on Friday. Text Jean to register:  510-734-3942.
URL:https://www.pointrichmondmethodist.org/event/vacation-bible-school/2027-01-22/
END:VEVENT
BEGIN:VEVENT
DTSTART;TZID=America/Los_Angeles:20270123T090000
DTEND;TZID=America/Los_Angeles:20270123T113000
DTSTAMP:20260425T071936
CREATED:20260415T190813Z
LAST-MODIFIED:20260415T190813Z
UID:10000498-1800694800-1800703800@www.pointrichmondmethodist.org
SUMMARY:VACATION BIBLE SCHOOL
DESCRIPTION:VACATION BIBLE SCHOOL for Children ages 4 through grade 6\, lunch for all on Friday. Text Jean to register:  510-734-3942.
URL:https://www.pointrichmondmethodist.org/event/vacation-bible-school/2027-01-23/
END:VEVENT
BEGIN:VEVENT
DTSTART;TZID=America/Los_Angeles:20270124T090000
DTEND;TZID=America/Los_Angeles:20270124T113000
DTSTAMP:20260425T071936
CREATED:20260415T190813Z
LAST-MODIFIED:20260415T190813Z
UID:10000499-1800781200-1800790200@www.pointrichmondmethodist.org
SUMMARY:VACATION BIBLE SCHOOL
DESCRIPTION:VACATION BIBLE SCHOOL for Children ages 4 through grade 6\, lunch for all on Friday. Text Jean to register:  510-734-3942.
URL:https://www.pointrichmondmethodist.org/event/vacation-bible-school/2027-01-24/
END:VEVENT
BEGIN:VEVENT
DTSTART;TZID=America/Los_Angeles:20270124T100000
DTEND;TZID=America/Los_Angeles:20270124T103000
DTSTAMP:20260425T071936
CREATED:20260331T220109Z
LAST-MODIFIED:20260331T220109Z
UID:10000292-1800784800-1800786600@www.pointrichmondmethodist.org
SUMMARY:Adult Sunday School
DESCRIPTION:Adult Sunday School In Person & via Zoom Join us for Sunday Adult School\, a focused and interactive Bible study. Each week\, we read one chapter from a book of the Bible and reflect together through prepared questions and discussion. Participants are also welcome to bring their own questions and insights. Those who sign up will receive the weekly discussion questions and Zoom link by email on Saturdays. Click on this link to receive the weekly questions and Zoom link
URL:https://www.pointrichmondmethodist.org/event/adult-sunday-school/2027-01-24/
LOCATION:First United Methodist Church of Point Richmond\, 201 Martina Street\, Richmond\, CA\, 94801\, United States
END:VEVENT
BEGIN:VEVENT
DTSTART;TZID=America/Los_Angeles:20270125T090000
DTEND;TZID=America/Los_Angeles:20270125T113000
DTSTAMP:20260425T071936
CREATED:20260415T190813Z
LAST-MODIFIED:20260415T190813Z
UID:10000500-1800867600-1800876600@www.pointrichmondmethodist.org
SUMMARY:VACATION BIBLE SCHOOL
DESCRIPTION:VACATION BIBLE SCHOOL for Children ages 4 through grade 6\, lunch for all on Friday. Text Jean to register:  510-734-3942.
URL:https://www.pointrichmondmethodist.org/event/vacation-bible-school/2027-01-25/
END:VEVENT
BEGIN:VEVENT
DTSTART;TZID=America/Los_Angeles:20270126T090000
DTEND;TZID=America/Los_Angeles:20270126T113000
DTSTAMP:20260425T071936
CREATED:20260415T190813Z
LAST-MODIFIED:20260415T190813Z
UID:10000501-1800954000-1800963000@www.pointrichmondmethodist.org
SUMMARY:VACATION BIBLE SCHOOL
DESCRIPTION:VACATION BIBLE SCHOOL for Children ages 4 through grade 6\, lunch for all on Friday. Text Jean to register:  510-734-3942.
URL:https://www.pointrichmondmethodist.org/event/vacation-bible-school/2027-01-26/
END:VEVENT
BEGIN:VEVENT
DTSTART;TZID=America/Los_Angeles:20270127T090000
DTEND;TZID=America/Los_Angeles:20270127T113000
DTSTAMP:20260425T071936
CREATED:20260415T190813Z
LAST-MODIFIED:20260415T190813Z
UID:10000502-1801040400-1801049400@www.pointrichmondmethodist.org
SUMMARY:VACATION BIBLE SCHOOL
DESCRIPTION:VACATION BIBLE SCHOOL for Children ages 4 through grade 6\, lunch for all on Friday. Text Jean to register:  510-734-3942.
URL:https://www.pointrichmondmethodist.org/event/vacation-bible-school/2027-01-27/
END:VEVENT
BEGIN:VEVENT
DTSTART;TZID=America/Los_Angeles:20270127T093000
DTEND;TZID=America/Los_Angeles:20270127T103000
DTSTAMP:20260425T071936
CREATED:20260224T211325Z
LAST-MODIFIED:20260331T220641Z
UID:10000180-1801042200-1801045800@www.pointrichmondmethodist.org
SUMMARY:Join Our Wednesday Book Study Group
DESCRIPTION:Join our book study!\nClick here to view the book and chapter we are currently reading.\nIf you would like to receive Book Study information via email\, contact Jean Reynolds.
URL:https://www.pointrichmondmethodist.org/event/join-our-wednesday-book-study-group/2027-01-27/
LOCATION:
END:VEVENT
BEGIN:VEVENT
DTSTART;TZID=America/Los_Angeles:20270127T110000
DTEND;TZID=America/Los_Angeles:20270127T120000
DTSTAMP:20260425T071936
CREATED:20260329T170042Z
LAST-MODIFIED:20260329T170042Z
UID:10000233-1801047600-1801051200@www.pointrichmondmethodist.org
SUMMARY:Introduction to Tai Chi / Qigong for Wellness with Nadine Oei
DESCRIPTION:Introduction to Tai Chi / Qigong for Wellness with Nadine Oei \nALL Welcome! A gentle mind and body learning experience for all ages. The class will focus on movement\, balance\, breathing\, and relaxation\, on the church garden lawn. FREE – Donations to the Church Welcome. RSVP to Janet Heckmann at jmheckmann@mac.com
URL:https://www.pointrichmondmethodist.org/event/introduction-to-tai-chi-qigong-for-wellness-with-nadine-oei/2027-01-27/
LOCATION:First United Methodist Church of Point Richmond\, 201 Martina Street\, Richmond\, CA\, 94801\, United States
END:VEVENT
BEGIN:VEVENT
DTSTART;TZID=America/Los_Angeles:20270128T090000
DTEND;TZID=America/Los_Angeles:20270128T113000
DTSTAMP:20260425T071936
CREATED:20260415T190813Z
LAST-MODIFIED:20260415T190813Z
UID:10000503-1801126800-1801135800@www.pointrichmondmethodist.org
SUMMARY:VACATION BIBLE SCHOOL
DESCRIPTION:VACATION BIBLE SCHOOL for Children ages 4 through grade 6\, lunch for all on Friday. Text Jean to register:  510-734-3942.
URL:https://www.pointrichmondmethodist.org/event/vacation-bible-school/2027-01-28/
END:VEVENT
BEGIN:VEVENT
DTSTART;TZID=America/Los_Angeles:20270129T090000
DTEND;TZID=America/Los_Angeles:20270129T113000
DTSTAMP:20260425T071936
CREATED:20260415T190813Z
LAST-MODIFIED:20260415T190813Z
UID:10000504-1801213200-1801222200@www.pointrichmondmethodist.org
SUMMARY:VACATION BIBLE SCHOOL
DESCRIPTION:VACATION BIBLE SCHOOL for Children ages 4 through grade 6\, lunch for all on Friday. Text Jean to register:  510-734-3942.
URL:https://www.pointrichmondmethodist.org/event/vacation-bible-school/2027-01-29/
END:VEVENT
BEGIN:VEVENT
DTSTART;TZID=America/Los_Angeles:20270130T090000
DTEND;TZID=America/Los_Angeles:20270130T113000
DTSTAMP:20260425T071936
CREATED:20260415T190813Z
LAST-MODIFIED:20260415T190813Z
UID:10000505-1801299600-1801308600@www.pointrichmondmethodist.org
SUMMARY:VACATION BIBLE SCHOOL
DESCRIPTION:VACATION BIBLE SCHOOL for Children ages 4 through grade 6\, lunch for all on Friday. Text Jean to register:  510-734-3942.
URL:https://www.pointrichmondmethodist.org/event/vacation-bible-school/2027-01-30/
END:VEVENT
BEGIN:VEVENT
DTSTART;TZID=America/Los_Angeles:20270131T090000
DTEND;TZID=America/Los_Angeles:20270131T113000
DTSTAMP:20260425T071936
CREATED:20260415T190813Z
LAST-MODIFIED:20260415T190813Z
UID:10000506-1801386000-1801395000@www.pointrichmondmethodist.org
SUMMARY:VACATION BIBLE SCHOOL
DESCRIPTION:VACATION BIBLE SCHOOL for Children ages 4 through grade 6\, lunch for all on Friday. Text Jean to register:  510-734-3942.
URL:https://www.pointrichmondmethodist.org/event/vacation-bible-school/2027-01-31/
END:VEVENT
BEGIN:VEVENT
DTSTART;TZID=America/Los_Angeles:20270131T100000
DTEND;TZID=America/Los_Angeles:20270131T103000
DTSTAMP:20260425T071936
CREATED:20260331T220109Z
LAST-MODIFIED:20260331T220109Z
UID:10000293-1801389600-1801391400@www.pointrichmondmethodist.org
SUMMARY:Adult Sunday School
DESCRIPTION:Adult Sunday School In Person & via Zoom Join us for Sunday Adult School\, a focused and interactive Bible study. Each week\, we read one chapter from a book of the Bible and reflect together through prepared questions and discussion. Participants are also welcome to bring their own questions and insights. Those who sign up will receive the weekly discussion questions and Zoom link by email on Saturdays. Click on this link to receive the weekly questions and Zoom link
URL:https://www.pointrichmondmethodist.org/event/adult-sunday-school/2027-01-31/
LOCATION:First United Methodist Church of Point Richmond\, 201 Martina Street\, Richmond\, CA\, 94801\, United States
END:VEVENT
END:VCALENDAR