BEGIN:VCALENDAR
VERSION:2.0
PRODID:-//Richmond First United Methodist Church - ECPv6.15.13.1//NONSGML v1.0//EN
CALSCALE:GREGORIAN
METHOD:PUBLISH
X-WR-CALNAME:Richmond First United Methodist Church
X-ORIGINAL-URL:https://www.pointrichmondmethodist.org
X-WR-CALDESC:Events for Richmond First United Methodist Church
REFRESH-INTERVAL;VALUE=DURATION:PT1H
X-Robots-Tag:noindex
X-PUBLISHED-TTL:PT1H
BEGIN:VTIMEZONE
TZID:America/Los_Angeles
BEGIN:DAYLIGHT
TZOFFSETFROM:-0800
TZOFFSETTO:-0700
TZNAME:PDT
DTSTART:20250309T100000
END:DAYLIGHT
BEGIN:STANDARD
TZOFFSETFROM:-0700
TZOFFSETTO:-0800
TZNAME:PST
DTSTART:20251102T090000
END:STANDARD
BEGIN:DAYLIGHT
TZOFFSETFROM:-0800
TZOFFSETTO:-0700
TZNAME:PDT
DTSTART:20260308T100000
END:DAYLIGHT
BEGIN:STANDARD
TZOFFSETFROM:-0700
TZOFFSETTO:-0800
TZNAME:PST
DTSTART:20261101T090000
END:STANDARD
BEGIN:DAYLIGHT
TZOFFSETFROM:-0800
TZOFFSETTO:-0700
TZNAME:PDT
DTSTART:20270314T100000
END:DAYLIGHT
BEGIN:STANDARD
TZOFFSETFROM:-0700
TZOFFSETTO:-0800
TZNAME:PST
DTSTART:20271107T090000
END:STANDARD
END:VTIMEZONE
BEGIN:VEVENT
DTSTART;TZID=America/Los_Angeles:20260329T110000
DTEND;TZID=America/Los_Angeles:20260329T120000
DTSTAMP:20260423T150217
CREATED:20260102T212816Z
LAST-MODIFIED:20260102T212816Z
UID:10000079-1774782000-1774785600@www.pointrichmondmethodist.org
SUMMARY:Sunday Worship Service
DESCRIPTION:11am Register in Advance for the Link to Zoom the Sunday Worship Service – Register here:\nhttps://us02web.zoom.us/meeting/register/WKD7wPnPSNm6q5wVxFTawQ \nYou will be asked for your name and email address. After registering\, you will receive a confirmation email with the link to join the meeting.
URL:https://www.pointrichmondmethodist.org/event/sunday-worship-service/2026-03-29/
LOCATION:Richmond First United Methodist Church\, 201 Martina Street\, Richmond\, California\, 94801
END:VEVENT
BEGIN:VEVENT
DTSTART;TZID=America/Los_Angeles:20260325T093000
DTEND;TZID=America/Los_Angeles:20260325T103000
DTSTAMP:20260423T150217
CREATED:20260224T211325Z
LAST-MODIFIED:20260331T220641Z
UID:10000136-1774431000-1774434600@www.pointrichmondmethodist.org
SUMMARY:Join Our Wednesday Book Study Group
DESCRIPTION:Join our book study!\nClick here to view the book and chapter we are currently reading.\nIf you would like to receive Book Study information via email\, contact Jean Reynolds.
URL:https://www.pointrichmondmethodist.org/event/join-our-wednesday-book-study-group/2026-03-25/
LOCATION:
END:VEVENT
BEGIN:VEVENT
DTSTART;TZID=America/Los_Angeles:20260322T110000
DTEND;TZID=America/Los_Angeles:20260322T120000
DTSTAMP:20260423T150217
CREATED:20260102T212816Z
LAST-MODIFIED:20260102T212816Z
UID:10000078-1774177200-1774180800@www.pointrichmondmethodist.org
SUMMARY:Sunday Worship Service
DESCRIPTION:11am Register in Advance for the Link to Zoom the Sunday Worship Service – Register here:\nhttps://us02web.zoom.us/meeting/register/WKD7wPnPSNm6q5wVxFTawQ \nYou will be asked for your name and email address. After registering\, you will receive a confirmation email with the link to join the meeting.
URL:https://www.pointrichmondmethodist.org/event/sunday-worship-service/2026-03-22/
LOCATION:Richmond First United Methodist Church\, 201 Martina Street\, Richmond\, California\, 94801
END:VEVENT
BEGIN:VEVENT
DTSTART;TZID=America/Los_Angeles:20260319T170000
DTEND;TZID=America/Los_Angeles:20260319T180000
DTSTAMP:20260423T150217
CREATED:20260224T210005Z
LAST-MODIFIED:20260224T210005Z
UID:10000126-1773939600-1773943200@www.pointrichmondmethodist.org
SUMMARY:Greater Richmond Interfaith Program (GRIP) Dinner
DESCRIPTION:Thurs. Mar. 19\, 5pm – Greater Richmond Interfaith Program (GRIP) Dinner for residents at the GRIP Family Shelter\, 165-22nd St.\, Richmond. We provide the food & the GRIP kitchen prepares & serves it. If you would like to donate\, please note “GRIP Dinner” on the memo line of your check. For more info\, contact Linda at lindaam@gmail.com.
URL:https://www.pointrichmondmethodist.org/event/greater-richmond-interfaith-program-grip-dinner-2/
LOCATION:The Souper Center\, 165 S 22nd Street\, Richmond\, CA\, 94804\, United States
END:VEVENT
BEGIN:VEVENT
DTSTART;TZID=America/Los_Angeles:20260318T093000
DTEND;TZID=America/Los_Angeles:20260318T103000
DTSTAMP:20260423T150217
CREATED:20260224T211325Z
LAST-MODIFIED:20260331T220641Z
UID:10000135-1773826200-1773829800@www.pointrichmondmethodist.org
SUMMARY:Join Our Wednesday Book Study Group
DESCRIPTION:Join our book study!\nClick here to view the book and chapter we are currently reading.\nIf you would like to receive Book Study information via email\, contact Jean Reynolds.
URL:https://www.pointrichmondmethodist.org/event/join-our-wednesday-book-study-group/2026-03-18/
LOCATION:
END:VEVENT
BEGIN:VEVENT
DTSTART;TZID=America/Los_Angeles:20260315T110000
DTEND;TZID=America/Los_Angeles:20260315T120000
DTSTAMP:20260423T150217
CREATED:20260102T212816Z
LAST-MODIFIED:20260102T212816Z
UID:10000077-1773572400-1773576000@www.pointrichmondmethodist.org
SUMMARY:Sunday Worship Service
DESCRIPTION:11am Register in Advance for the Link to Zoom the Sunday Worship Service – Register here:\nhttps://us02web.zoom.us/meeting/register/WKD7wPnPSNm6q5wVxFTawQ \nYou will be asked for your name and email address. After registering\, you will receive a confirmation email with the link to join the meeting.
URL:https://www.pointrichmondmethodist.org/event/sunday-worship-service/2026-03-15/
LOCATION:Richmond First United Methodist Church\, 201 Martina Street\, Richmond\, California\, 94801
END:VEVENT
BEGIN:VEVENT
DTSTART;TZID=America/Los_Angeles:20260311T093000
DTEND;TZID=America/Los_Angeles:20260311T103000
DTSTAMP:20260423T150217
CREATED:20260224T211325Z
LAST-MODIFIED:20260331T220641Z
UID:10000134-1773221400-1773225000@www.pointrichmondmethodist.org
SUMMARY:Join Our Wednesday Book Study Group
DESCRIPTION:Join our book study!\nClick here to view the book and chapter we are currently reading.\nIf you would like to receive Book Study information via email\, contact Jean Reynolds.
URL:https://www.pointrichmondmethodist.org/event/join-our-wednesday-book-study-group/2026-03-11/
LOCATION:
END:VEVENT
BEGIN:VEVENT
DTSTART;TZID=America/Los_Angeles:20260308T110000
DTEND;TZID=America/Los_Angeles:20260308T120000
DTSTAMP:20260423T150217
CREATED:20260102T212816Z
LAST-MODIFIED:20260102T212816Z
UID:10000076-1772967600-1772971200@www.pointrichmondmethodist.org
SUMMARY:Sunday Worship Service
DESCRIPTION:11am Register in Advance for the Link to Zoom the Sunday Worship Service – Register here:\nhttps://us02web.zoom.us/meeting/register/WKD7wPnPSNm6q5wVxFTawQ \nYou will be asked for your name and email address. After registering\, you will receive a confirmation email with the link to join the meeting.
URL:https://www.pointrichmondmethodist.org/event/sunday-worship-service/2026-03-08/
LOCATION:Richmond First United Methodist Church\, 201 Martina Street\, Richmond\, California\, 94801
END:VEVENT
BEGIN:VEVENT
DTSTART;TZID=America/Los_Angeles:20260307T100000
DTEND;TZID=America/Los_Angeles:20260307T130000
DTSTAMP:20260423T150217
CREATED:20260224T205717Z
LAST-MODIFIED:20260224T205717Z
UID:10000124-1772877600-1772888400@www.pointrichmondmethodist.org
SUMMARY:Free Mental Health Workshop on "Fear: Our Friend and Fuel" 
DESCRIPTION:Sat. March 7\, 10AM-1PM – Free Mental Health Workshop on “Fear: Our Friend and Fuel” at the West Side Branch Library in Point Richmond.  Dr. Hanna Song\, Psy.D.\, M.A.\, Clinical Psychology\, will guide our discussion.  Register now by clicking the QR code on the attached flyer\, or call or text Jean Reynolds at (510) 734-3942\, to guarantee a space and to help us plan for lunch and materials. The program will be two hours followed by an hour for lunch. We can accommodate some of your dietary needs.  If you are concerned\, bring a bag lunch.
URL:https://www.pointrichmondmethodist.org/event/free-mental-health-workshop-on-fear-our-friend-and-fuel/
LOCATION:Point Richmond Community Center\, 139 Washington Ave\, Richmond\, 94801\, United States
ATTACH;FMTTYPE=application/pdf:https://www.pointrichmondmethodist.org/wp-content/uploads/Mental-Health-Workshop-flyer-3.7.26-.pdf
END:VEVENT
BEGIN:VEVENT
DTSTART;TZID=America/Los_Angeles:20260304T093000
DTEND;TZID=America/Los_Angeles:20260304T103000
DTSTAMP:20260423T150217
CREATED:20260224T211325Z
LAST-MODIFIED:20260331T220641Z
UID:10000133-1772616600-1772620200@www.pointrichmondmethodist.org
SUMMARY:Join Our Wednesday Book Study Group
DESCRIPTION:Join our book study!\nClick here to view the book and chapter we are currently reading.\nIf you would like to receive Book Study information via email\, contact Jean Reynolds.
URL:https://www.pointrichmondmethodist.org/event/join-our-wednesday-book-study-group/2026-03-04/
LOCATION:
END:VEVENT
BEGIN:VEVENT
DTSTART;TZID=America/Los_Angeles:20260301T193000
DTEND;TZID=America/Los_Angeles:20260301T210000
DTSTAMP:20260423T150217
CREATED:20260224T205509Z
LAST-MODIFIED:20260224T205509Z
UID:10000123-1772393400-1772398800@www.pointrichmondmethodist.org
SUMMARY:Dmitri Glickman Presents: Town Quartet Concert
DESCRIPTION:Sun. March 1\, 7:30-9pm – Dmitri Glickman Presents: Town Quartet Concert of chamber music with East Bay locals as they play music by Russian masters & premiere a new string quartet composed by Point Richmond’s Dmitri Glickman\, $25\, at Richmond First UMC\, 201 Martina St.\, Pt. Richmond.
URL:https://www.pointrichmondmethodist.org/event/dmitri-glickman-presents-town-quartet-concert/
LOCATION:First United Methodist Church of Point Richmond\, 201 Martina Street\, Richmond\, CA\, 94801\, United States
ATTACH;FMTTYPE=image/jpeg:https://www.pointrichmondmethodist.org/wp-content/uploads/Dmitri-Glickman-Town-Quartet-Concert-3.1.26--scaled.jpg
END:VEVENT
BEGIN:VEVENT
DTSTART;TZID=America/Los_Angeles:20260301T110000
DTEND;TZID=America/Los_Angeles:20260301T120000
DTSTAMP:20260423T150217
CREATED:20260102T212816Z
LAST-MODIFIED:20260102T212816Z
UID:10000075-1772362800-1772366400@www.pointrichmondmethodist.org
SUMMARY:Sunday Worship Service
DESCRIPTION:11am Register in Advance for the Link to Zoom the Sunday Worship Service – Register here:\nhttps://us02web.zoom.us/meeting/register/WKD7wPnPSNm6q5wVxFTawQ \nYou will be asked for your name and email address. After registering\, you will receive a confirmation email with the link to join the meeting.
URL:https://www.pointrichmondmethodist.org/event/sunday-worship-service/2026-03-01/
LOCATION:Richmond First United Methodist Church\, 201 Martina Street\, Richmond\, California\, 94801
END:VEVENT
BEGIN:VEVENT
DTSTART;TZID=America/Los_Angeles:20260225T093000
DTEND;TZID=America/Los_Angeles:20260225T103000
DTSTAMP:20260423T150217
CREATED:20260224T211325Z
LAST-MODIFIED:20260331T220641Z
UID:10000132-1772011800-1772015400@www.pointrichmondmethodist.org
SUMMARY:Join Our Wednesday Book Study Group
DESCRIPTION:Join our book study!\nClick here to view the book and chapter we are currently reading.\nIf you would like to receive Book Study information via email\, contact Jean Reynolds.
URL:https://www.pointrichmondmethodist.org/event/join-our-wednesday-book-study-group/2026-02-25/
LOCATION:
END:VEVENT
BEGIN:VEVENT
DTSTART;TZID=America/Los_Angeles:20260222T110000
DTEND;TZID=America/Los_Angeles:20260222T120000
DTSTAMP:20260423T150217
CREATED:20260102T212816Z
LAST-MODIFIED:20260102T212816Z
UID:10000074-1771758000-1771761600@www.pointrichmondmethodist.org
SUMMARY:Sunday Worship Service
DESCRIPTION:11am Register in Advance for the Link to Zoom the Sunday Worship Service – Register here:\nhttps://us02web.zoom.us/meeting/register/WKD7wPnPSNm6q5wVxFTawQ \nYou will be asked for your name and email address. After registering\, you will receive a confirmation email with the link to join the meeting.
URL:https://www.pointrichmondmethodist.org/event/sunday-worship-service/2026-02-22/
LOCATION:Richmond First United Methodist Church\, 201 Martina Street\, Richmond\, California\, 94801
END:VEVENT
BEGIN:VEVENT
DTSTART;TZID=America/Los_Angeles:20260219T180000
DTEND;TZID=America/Los_Angeles:20260219T190000
DTSTAMP:20260423T150217
CREATED:20260217T205901Z
LAST-MODIFIED:20260217T205901Z
UID:10000122-1771524000-1771527600@www.pointrichmondmethodist.org
SUMMARY:Call to Prayer Service "The Future Is Now: Invest in Our Children"
DESCRIPTION:Thurs.\, Feb. 19\, 6PM – Call to Prayer Service “The Future Is Now: Invest in Our Children” at Open Door UMC\, 6226 Arlington Blvd.\, Richmond. Soup Supper and Program: Open Door United Women in Faith (UWF) hosts the meal. Richmond First UWF leads the program and Easter Hill UWF will attend. All are welcome.
URL:https://www.pointrichmondmethodist.org/event/call-to-prayer-service-the-future-is-now-invest-in-our-children/
LOCATION:Open Door UMC\, 6226 Arlington Blvd.\, Richmond\, CA\, 94805\, United States
END:VEVENT
BEGIN:VEVENT
DTSTART;TZID=America/Los_Angeles:20260219T170000
DTEND;TZID=America/Los_Angeles:20260219T180000
DTSTAMP:20260423T150217
CREATED:20260217T205509Z
LAST-MODIFIED:20260217T205509Z
UID:10000121-1771520400-1771524000@www.pointrichmondmethodist.org
SUMMARY:Greater Richmond Interfaith Program (GRIP) Dinner
DESCRIPTION:Thurs. Feb. 19\, 5pm – Greater Richmond Interfaith Program (GRIP) Dinner for residents at the GRIP Family Shelter\, 165-22nd St.\, Richmond. We provide the food & the GRIP kitchen prepares & serves it. If you would like to donate\, please note “GRIP Dinner” on the memo line of your check. For more info\, contact Linda at lindaam@gmail.com.
URL:https://www.pointrichmondmethodist.org/event/greater-richmond-interfaith-program-grip-dinner/
LOCATION:The Souper Center\, 165 S 22nd Street\, Richmond\, CA\, 94804\, United States
END:VEVENT
BEGIN:VEVENT
DTSTART;TZID=America/Los_Angeles:20260218T120000
DTEND;TZID=America/Los_Angeles:20260218T130000
DTSTAMP:20260423T150217
CREATED:20260217T205338Z
LAST-MODIFIED:20260217T205338Z
UID:10000120-1771416000-1771419600@www.pointrichmondmethodist.org
SUMMARY:Ash Wednesday Joint Circuit Service
DESCRIPTION:Ash Wednesday Joint Circuit Service\, 12-1PM at Easter Hill UMC\, 3911 Cutting Blvd.\, Richmond. All are welcome to begin the Lenten journey with us!
URL:https://www.pointrichmondmethodist.org/event/ash-wednesday-joint-circuit-service/
LOCATION:Easter Hill UMC\, 3911 Cutting Blvd\, Richmond\, 94804
END:VEVENT
BEGIN:VEVENT
DTSTART;TZID=America/Los_Angeles:20260218T073000
DTEND;TZID=America/Los_Angeles:20260218T083000
DTSTAMP:20260423T150217
CREATED:20260217T205239Z
LAST-MODIFIED:20260217T205239Z
UID:10000119-1771399800-1771403400@www.pointrichmondmethodist.org
SUMMARY:Ash Wednesday
DESCRIPTION:Wed. Feb. 18 – Ash Wednesday:\nAshes-To-Go\, 7:30-8:30AM at Richmond Bart Station\, receive ashes and a Blessing on the go.
URL:https://www.pointrichmondmethodist.org/event/ash-wednesday/
END:VEVENT
BEGIN:VEVENT
DTSTART;TZID=America/Los_Angeles:20260215T110000
DTEND;TZID=America/Los_Angeles:20260215T120000
DTSTAMP:20260423T150217
CREATED:20260102T212816Z
LAST-MODIFIED:20260102T212816Z
UID:10000073-1771153200-1771156800@www.pointrichmondmethodist.org
SUMMARY:Sunday Worship Service
DESCRIPTION:11am Register in Advance for the Link to Zoom the Sunday Worship Service – Register here:\nhttps://us02web.zoom.us/meeting/register/WKD7wPnPSNm6q5wVxFTawQ \nYou will be asked for your name and email address. After registering\, you will receive a confirmation email with the link to join the meeting.
URL:https://www.pointrichmondmethodist.org/event/sunday-worship-service/2026-02-15/
LOCATION:Richmond First United Methodist Church\, 201 Martina Street\, Richmond\, California\, 94801
END:VEVENT
BEGIN:VEVENT
DTSTART;TZID=America/Los_Angeles:20260212T190000
DTEND;TZID=America/Los_Angeles:20260212T200000
DTSTAMP:20260423T150217
CREATED:20260224T205845Z
LAST-MODIFIED:20260224T205845Z
UID:10000125-1770922800-1770926400@www.pointrichmondmethodist.org
SUMMARY:Ad Board Meeting
DESCRIPTION:Thurs. March 12\, 7pm – Ad Board Meeting via Zoom\, contact Doreen at d3leighton@icloud.com.
URL:https://www.pointrichmondmethodist.org/event/ad-board-meeting/
LOCATION:
END:VEVENT
BEGIN:VEVENT
DTSTART;TZID=America/Los_Angeles:20260208T110000
DTEND;TZID=America/Los_Angeles:20260208T120000
DTSTAMP:20260423T150217
CREATED:20260102T212816Z
LAST-MODIFIED:20260102T212816Z
UID:10000072-1770548400-1770552000@www.pointrichmondmethodist.org
SUMMARY:Sunday Worship Service
DESCRIPTION:11am Register in Advance for the Link to Zoom the Sunday Worship Service – Register here:\nhttps://us02web.zoom.us/meeting/register/WKD7wPnPSNm6q5wVxFTawQ \nYou will be asked for your name and email address. After registering\, you will receive a confirmation email with the link to join the meeting.
URL:https://www.pointrichmondmethodist.org/event/sunday-worship-service/2026-02-08/
LOCATION:Richmond First United Methodist Church\, 201 Martina Street\, Richmond\, California\, 94801
END:VEVENT
BEGIN:VEVENT
DTSTART;TZID=America/Los_Angeles:20260201T110000
DTEND;TZID=America/Los_Angeles:20260201T120000
DTSTAMP:20260423T150217
CREATED:20260102T212816Z
LAST-MODIFIED:20260102T212816Z
UID:10000071-1769943600-1769947200@www.pointrichmondmethodist.org
SUMMARY:Sunday Worship Service
DESCRIPTION:11am Register in Advance for the Link to Zoom the Sunday Worship Service – Register here:\nhttps://us02web.zoom.us/meeting/register/WKD7wPnPSNm6q5wVxFTawQ \nYou will be asked for your name and email address. After registering\, you will receive a confirmation email with the link to join the meeting.
URL:https://www.pointrichmondmethodist.org/event/sunday-worship-service/2026-02-01/
LOCATION:Richmond First United Methodist Church\, 201 Martina Street\, Richmond\, California\, 94801
END:VEVENT
BEGIN:VEVENT
DTSTART;TZID=America/Los_Angeles:20260125T110000
DTEND;TZID=America/Los_Angeles:20260125T120000
DTSTAMP:20260423T150217
CREATED:20260102T212816Z
LAST-MODIFIED:20260102T212816Z
UID:10000070-1769338800-1769342400@www.pointrichmondmethodist.org
SUMMARY:Sunday Worship Service
DESCRIPTION:11am Register in Advance for the Link to Zoom the Sunday Worship Service – Register here:\nhttps://us02web.zoom.us/meeting/register/WKD7wPnPSNm6q5wVxFTawQ \nYou will be asked for your name and email address. After registering\, you will receive a confirmation email with the link to join the meeting.
URL:https://www.pointrichmondmethodist.org/event/sunday-worship-service/2026-01-25/
LOCATION:Richmond First United Methodist Church\, 201 Martina Street\, Richmond\, California\, 94801
END:VEVENT
BEGIN:VEVENT
DTSTART;TZID=America/Los_Angeles:20260118T110000
DTEND;TZID=America/Los_Angeles:20260118T120000
DTSTAMP:20260423T150217
CREATED:20260102T212816Z
LAST-MODIFIED:20260102T212816Z
UID:10000069-1768734000-1768737600@www.pointrichmondmethodist.org
SUMMARY:Sunday Worship Service
DESCRIPTION:11am Register in Advance for the Link to Zoom the Sunday Worship Service – Register here:\nhttps://us02web.zoom.us/meeting/register/WKD7wPnPSNm6q5wVxFTawQ \nYou will be asked for your name and email address. After registering\, you will receive a confirmation email with the link to join the meeting.
URL:https://www.pointrichmondmethodist.org/event/sunday-worship-service/2026-01-18/
LOCATION:Richmond First United Methodist Church\, 201 Martina Street\, Richmond\, California\, 94801
END:VEVENT
BEGIN:VEVENT
DTSTART;TZID=America/Los_Angeles:20260111T123000
DTEND;TZID=America/Los_Angeles:20260111T133000
DTSTAMP:20260423T150217
CREATED:20260104T160114Z
LAST-MODIFIED:20260104T160114Z
UID:10000118-1768134600-1768138200@www.pointrichmondmethodist.org
SUMMARY:Review of the Garden Rejuvenation Plan
DESCRIPTION:Review of the Garden Rejuvenation Plan \nwith Aja Wylder \n\n Sunday\, January 11\, 2026 \n12:30 PM \n\n We’ll review the garden rejuvenation plan presented by Aja indoors first\, then head outside for a garden tour with anyone who has questions\, or strong opinions! \n\n Contact Janet Heckmann
URL:https://www.pointrichmondmethodist.org/event/review-of-the-garden-rejuvenation-plan/
LOCATION:Richmond First United Methodist Church\, 201 Martina Street\, Richmond\, California\, 94801
END:VEVENT
BEGIN:VEVENT
DTSTART;TZID=America/Los_Angeles:20260111T110000
DTEND;TZID=America/Los_Angeles:20260111T120000
DTSTAMP:20260423T150217
CREATED:20260102T212816Z
LAST-MODIFIED:20260102T212816Z
UID:10000068-1768129200-1768132800@www.pointrichmondmethodist.org
SUMMARY:Sunday Worship Service
DESCRIPTION:11am Register in Advance for the Link to Zoom the Sunday Worship Service – Register here:\nhttps://us02web.zoom.us/meeting/register/WKD7wPnPSNm6q5wVxFTawQ \nYou will be asked for your name and email address. After registering\, you will receive a confirmation email with the link to join the meeting.
URL:https://www.pointrichmondmethodist.org/event/sunday-worship-service/2026-01-11/
LOCATION:Richmond First United Methodist Church\, 201 Martina Street\, Richmond\, California\, 94801
END:VEVENT
BEGIN:VEVENT
DTSTART;TZID=America/Los_Angeles:20260108T190000
DTEND;TZID=America/Los_Angeles:20260108T203000
DTSTAMP:20260423T150217
CREATED:20260102T212939Z
LAST-MODIFIED:20260102T212939Z
UID:10000117-1767898800-1767904200@www.pointrichmondmethodist.org
SUMMARY:Administrative Board Meeting
DESCRIPTION:Thurs. Jan. 8\, 7pm – Administrative Board meeting\, via Zoom\, contact d3leighton@icloud.com
URL:https://www.pointrichmondmethodist.org/event/administrative-board-meeting/
LOCATION:
END:VEVENT
BEGIN:VEVENT
DTSTART;TZID=America/Los_Angeles:20260104T110000
DTEND;TZID=America/Los_Angeles:20260104T120000
DTSTAMP:20260423T150217
CREATED:20260102T212816Z
LAST-MODIFIED:20260102T212816Z
UID:10000067-1767524400-1767528000@www.pointrichmondmethodist.org
SUMMARY:Sunday Worship Service
DESCRIPTION:11am Register in Advance for the Link to Zoom the Sunday Worship Service – Register here:\nhttps://us02web.zoom.us/meeting/register/WKD7wPnPSNm6q5wVxFTawQ \nYou will be asked for your name and email address. After registering\, you will receive a confirmation email with the link to join the meeting.
URL:https://www.pointrichmondmethodist.org/event/sunday-worship-service/2026-01-04/
LOCATION:Richmond First United Methodist Church\, 201 Martina Street\, Richmond\, California\, 94801
END:VEVENT
END:VCALENDAR